Workbook
Name ABRILINSU: '[1]INSUMOS JUNIO'!$CO$110
Name ABRILINSU: '[2]INSUMOS MAYO'!$CO$110
Name ABRILMAQUI: [1]MAQUINARIA!$AD$28
Name ABRILMAQUI: [2]MAQUINARIA!$AD$28
Name CONSOLFAC: '[1]PREFACTUR JUNIO'!$O$82
Name CONSOLFAC: '[2]PREFACTUR MAYO'!$O$100
Name INSUMOABRIL: '[1]CONSOLIDADO POR SEDE'!$L$1632
Name INSUMOABRIL: '[2]CONSOLIDADO POR SEDE'!$L$1632
Name INSUMOFEBRERO: '[3]INSUMO POR SEDES MARZO'!$CO$110

Sheet RUBROS JUNIO
A1: CODIGO SEDE | C1: O2120201002032352001 | D1: O2120201002032381302 | E1: O2120201002032391101 | F1: O2120201002032399921 | G1: O2120201002042441001 | H1: O2120201002072719007 | I1: O2120201002072719009 | J1: O2120201002072792104 | K1: O2120201002082823803 | L1: O2120201003013191409 | M1: O2120201003023213101 | N1: O2120201003023213102 | O1: O2120201003023219303 | P1: O2120201003023219304 | Q1: O2120201003023219907 | R1: O2120201003033335001 | S1: O2120201003033335004 | T1: O2120201003043113 | U1: O2120201003043424014 | V1: O2120201003043466401 | W1: O2120201003053532101 | X1: O2120201003053532103 | Y1: O2120201003053532104 | Z1: O2120201003053532105 | AA1: O2120201003053532201 | AB1: O2120201003053532 | AC1: O2120201003053532204 | AD1: O2120201003053533102 | AE1: O2120201003053533202 | AF1: O2120201003053549945 | AG1: O2120201003063641001 | AH1: O2120201003063694012 | AI1: O2120201003063694016 | AJ1: O2120201003073719199 | AK1: O2120201003073719305 | AL1: O2120201003073722101 | AM1: O2120201003083899302 | AN1: O2120201003083899303 | AO1: O2120201004024291231 | AP1: O2120201004024299 | AQ1: O21202020070373122 | AR1: O21202020070373230 | AS1: O21202020080585330
A2: VALOR DISPONIBLE | C2: 38031768 | D2: 25469903 | E2: 5915797 | F2: 701 | G2: 5008365.4 | H2: 0 | I2: 1.06409 | J2: 37199791 | K2: 4375622 | L2: 1 | M2: 1 | N2: 275331 | O2: 1199896 | P2: 45237742 | Q2: 43132839 | R2: 0.61786 | S2: 6407970 | T2: 0 | U2: 9171131.8 | V2: 0.3140112 | W2: 3267835.3 | X2: 1970247.4 | Y2: 6717244 | Z2: 4966591.8 | AA2: 3365335.1 | AB2: 0 | AC2: 1604839.3 | AD2: 26088842 | AE2: 12553013 | AF2: 62586495 | AG2: 3478.1517 | AH2: 334783 | AI2: 1 | AJ2: 76976.688 | AK2: 377736 | AL2: 5239202 | AM2: 5562749.9 | AN2: 3337101.6 | AO2: 712977.98 | AP2: 0 | AQ2: 177870719 | AR2: 1.5481438e+08 | AS2: 2.6829194e+09
A3: TOTAL DESPUES DE PAGO | C3: =C2-C31 -> 38031768 | D3: =D2-D31 -> 25469903 | E3: =E2-E31 -> 5915797 | F3: =F2-F31 -> 701 | G3: =G2-G31 -> 3679729.5 | H3: =H2-H31 -> 0 | I3: =I2-I31 -> 1.06409 | J3: =J2-J31 -> 22101904 | ... AS3: =AS2-AS31 -> 1.9334911e+09
A4: RUBRO | C4: Azucar refinada (174- 176) | D4: Café molido (170,173) | E4: Té elaborado | F4: Productos aromáticos diversos (192, 195) | G4: Agua purificada (envasada) (204,205) | H4: Filtros de material textil, para usos técnicos e industriales (103, 104, 105, 106, 108, 109, 162) | I4: Paños absorbentes desechables para uso doméstico (74,213) | J4: Filtros de algodón (66, 71, 72, 73, 98,161, 208, 209, 210, 211) | K4: Guantes de fibras artificiales y sintéticas | L4: Aplicadores, bajalenguas y otros para usos higiénicos, de madera (135, 159) | M4: Papel del tipo utilizado para papel higiénico (137, 139) | N4: Papel para servilletas, toallas y similares (160) | O4: Pañuelos de papel (154) | P4: Toallas de papel (151, 152) | Q4: Vasos de papel o cartón (155, 156, 157) | R4: Solventes para insecticida (64, 65) | S4: Varsol-disolvente núm. 4 (57; 251) | T4: Alcoholes n.c.p. | U4: Hipoclorito de sodio (32) | V4: Desinfectantes (28, 38) | W4: Jabones en pasta para lavar (5, 8) | X4: Jabones líquidos para lavar (3, 41) | Y4: Jabones industriales (11) | Z4: Jabones de tocador (13) | AA4: Detergentes en polvo (9) | AB4: Preparaciones para limpieza y desengrase (21, 44, 59) | AC4: Preparaciones para limpiar vidrios (29) | AD4: Purificadores líquidos de ambiente (62, 63) | AE4: Ceras para pisos (46) | AF4: Productos químicos especiales para tratamiento de pisos (17, 20, 50, 51, 52, 54) | AG4: Bolsas de material plástico sin impresión (110, 118, 119, 120, 122, 123,124, 126, 127, 129, 131, 132, 134) | AH4: Recipientes de material plástico-canecas para la basura (260, 291) | AI4: Recogedores plásticos de basura (215, 216, 218) | AJ4: Envases n.c.p. de vidrio (169) | AK4: Vasos y jarros de vidrio | AL4: Vajillas de loza-pedernal | AM4: Escobas (86, 87, 88, 89) | AN4: Cepillos para lavar o fregar (94, 95, 102, 164,207,212, 255, 257) | AO4: Esponjas y esponjillas metálicas (79, 80, 81, 82, 83) | AP4: Mangos metálicos (91, 92, 100) | AQ4: Servicios de arrendamiento o de alquiler de maquinaria y equipo de construcción sin operario | AR4: Servicios de arrendamiento sin opción de compra de muebles y otros aparatos domésticos | AS4: Servicios de limpieza general
C5: Azucar refinada | D5: Café molido | F5: Productos aromáticos diversos | G5: Agua purificada (envasada) | H5: Filtros de material textil, para usos técnicos e industriales | I5: Paños absorbentes desechables para uso doméstico | J5: Filtros de algodón | L5: Aplicadores, bajalenguas y otros para usos higiénicos, de madera | M5: Papel del tipo utilizado para papel higiénico | N5: Papel para servilletas, toallas y similares | O5: Pañuelos de papel | P5: Toallas de papel | Q5: Vasos de papel o cartón | R5: Solventes para insecticida | S5: Varsol-disolvente núm. 4 | U5: Hipoclorito de sodio | V5: Desinfectantes | W5: Jabones en pasta para lavar | X5: Jabones líquidos para lavar | Y5: Jabones industriales | Z5: Jabones de tocador | AA5: Detergentes en polvo | AB5: Preparaciones para limpieza y desengrase | AC5: Preparaciones para limpiar vidrios | AD5: Purificadores líquidos de ambiente | AE5: Ceras para pisos | AF5: Productos químicos especiales para tratamiento de pisos | AG5: Bolsas de material plástico sin impresión | AH5: Recipientes de material plástico-canecas para la basura | AI5: Recogedores plásticos de basura | AJ5: Envases n.c.p. de vidrio | AM5: Escobas | AN5: Cepillos para lavar o fregar | AO5: Esponjas y esponjillas metálicas | AP5: Mangos metálicos
A6: SEDE 1 - MANZANA LIEVANO - ALCALDÍA MAYOR | B6: 4233100 | C6: =SUMIFS('[1]CONSOLIDADO POR SEDE JUNIO'!$K$5:$K$2604,'[1]CONSOLIDADO POR SEDE JUNIO'!$E$5:$E$2604,'RUBROS JUNIO'!$A6,'[1]CONSOLIDADO POR SEDE JUNIO'!$C$5:$C$2604,'RUBROS JUNIO'!C$5) -> 0 | D6: =SUMIFS('[1]CONSOLIDADO POR SEDE JUNIO'!$K$5:$K$2604,'[1]CONSOLIDADO POR SEDE JUNIO'!$E$5:$E$2604,'RUBROS JUNIO'!$A6,'[1]CONSOLIDADO POR SEDE JUNIO'!$C$5:$C$2604,'RUBROS JUNIO'!D$5) -> 0 | E6: =SUMIFS('[1]CONSOLIDADO POR SEDE JUNIO'!$K$5:$K$2604,'[1]CONSOLIDADO POR SEDE JUNIO'!$E$5:$E$2604,'RUBROS JUNIO'!$A6,'[1]CONSOLIDADO POR SEDE JUNIO'!$C$5:$C$2604,'RUBROS JUNIO'!E$5) -> 0 | F6: =SUMIFS('[1]CONSOLIDADO POR SEDE JUNIO'!$K$5:$K$2604,'[1]CONSOLIDADO POR SEDE JUNIO'!$E$5:$E$2604,'RUBROS JUNIO'!$A6,'[1]CONSOLIDADO POR SEDE JUNIO'!$C$5:$C$2604,'RUBROS JUNIO'!F$5) -> 0 | G6: =SUMIFS('[1]CONSOLIDADO POR SEDE JUNIO'!$K$5:$K$2604,'[1]CONSOLIDADO POR SEDE JUNIO'!$E$5:$E$2604,'RUBROS JUNIO'!$A6,'[1]CONSOLIDADO POR SEDE JUNIO'!$C$5:$C$2604,'RUBROS JUNIO'!G$5) -> 0 | H6: =SUMIFS('[1]CONSOLIDADO POR SEDE JUNIO'!$K$5:$K$2604,'[1]CONSOLIDADO POR SEDE JUNIO'!$E$5:$E$2604,'RUBROS JUNIO'!$A6,'[1]CONSOLIDADO POR SEDE JUNIO'!$C$5:$C$2604,'RUBROS JUNIO'!H$5) -> 0 | I6: 0 | J6: 8618527.6 | K6: =SUMIFS('[1]CONSOLIDADO POR SEDE JUNIO'!$K$5:$K$2604,'[1]CONSOLIDADO POR SEDE JUNIO'!$E$5:$E$2604,'RUBROS JUNIO'!$A6,'[1]CONSOLIDADO POR SEDE JUNIO'!$C$5:$C$2604,'RUBROS JUNIO'!K$5) -> 0 | L6: =SUMIFS('[1]CONSOLIDADO POR SEDE JUNIO'!$K$5:$K$2604,'[1]CONSOLIDADO POR SEDE JUNIO'!$E$5:$E$2604,'RUBROS JUNIO'!$A6,'[1]CONSOLIDADO POR SEDE JUNIO'!$C$5:$C$2604,'RUBROS JUNIO'!L$5) -> 0 | M6: =SUMIFS('[1]CONSOLIDADO POR SEDE JUNIO'!$K$5:$K$2604,'[1]CONSOLIDADO POR SEDE JUNIO'!$E$5:$E$2604,'RUBROS JUNIO'!$A6,'[1]CONSOLIDADO POR SEDE JUNIO'!$C$5:$C$2604,'RUBROS JUNIO'!M$5) -> 0 | N6: =SUMIFS('[1]CONSOLIDADO POR SEDE JUNIO'!$K$5:$K$2604,'[1]CONSOLIDADO POR SEDE JUNIO'!$E$5:$E$2604,'RUBROS JUNIO'!$A6,'[1]CONSOLIDADO POR SEDE JUNIO'!$C$5:$C$2604,'RUBROS JUNIO'!N$5) -> 0 | O6: =SUMIFS('[1]CONSOLIDADO POR SEDE JUNIO'!$K$5:$K$2604,'[1]CONSOLIDADO POR SEDE JUNIO'!$E$5:$E$2604,'RUBROS JUNIO'!$A6,'[1]CONSOLIDADO POR SEDE JUNIO'!$C$5:$C$2604,'RUBROS JUNIO'!O$5) -> 0 | P6: =SUMIFS('[1]CONSOLIDADO POR SEDE JUNIO'!$K$5:$K$2604,'[1]CONSOLIDADO POR SEDE JUNIO'!$E$5:$E$2604,'RUBROS JUNIO'!$A6,'[1]CONSOLIDADO POR SEDE JUNIO'!$C$5:$C$2604,'RUBROS JUNIO'!P$5) -> 0 | Q6: 0 | R6: 0 | S6: 1085746.9 | T6: =SUMIFS('[1]CONSOLIDADO POR SEDE JUNIO'!$K$5:$K$2604,'[1]CONSOLIDADO POR SEDE JUNIO'!$E$5:$E$2604,'RUBROS JUNIO'!$A6,'[1]CONSOLIDADO POR SEDE JUNIO'!$C$5:$C$2604,'RUBROS JUNIO'!T$5) -> 0 | U6: =SUMIFS('[1]CONSOLIDADO POR SEDE JUNIO'!$K$5:$K$2604,'[1]CONSOLIDADO POR SEDE JUNIO'!$E$5:$E$2604,'RUBROS JUNIO'!$A6,'[1]CONSOLIDADO POR SEDE JUNIO'!$C$5:$C$2604,'RUBROS JUNIO'!U$5) -> 0 | V6: =SUMIFS('[1]CONSOLIDADO POR SEDE JUNIO'!$K$5:$K$2604,'[1]CONSOLIDADO POR SEDE JUNIO'!$E$5:$E$2604,'RUBROS JUNIO'!$A6,'[1]CONSOLIDADO POR SEDE JUNIO'!$C$5:$C$2604,'RUBROS JUNIO'!V$5) -> 0 | W6: =SUMIFS('[1]CONSOLIDADO POR SEDE JUNIO'!$K$5:$K$2604,'[1]CONSOLIDADO POR SEDE JUNIO'!$E$5:$E$2604,'RUBROS JUNIO'!$A6,'[1]CONSOLIDADO POR SEDE JUNIO'!$C$5:$C$2604,'RUBROS JUNIO'!W$5) -> 0 | X6: =SUMIFS('[1]CONSOLIDADO POR SEDE JUNIO'!$K$5:$K$2604,'[1]CONSOLIDADO POR SEDE JUNIO'!$E$5:$E$2604,'RUBROS JUNIO'!$A6,'[1]CONSOLIDADO POR SEDE JUNIO'!$C$5:$C$2604,'RUBROS JUNIO'!X$5) -> 0 | Y6: =SUMIFS('[1]CONSOLIDADO POR SEDE JUNIO'!$K$5:$K$2604,'[1]CONSOLIDADO POR SEDE JUNIO'!$E$5:$E$2604,'RUBROS JUNIO'!$A6,'[1]CONSOLIDADO POR SEDE JUNIO'!$C$5:$C$2604,'RUBROS JUNIO'!Y$5) -> 0 | Z6: =SUMIFS('[1]CONSOLIDADO POR SEDE JUNIO'!$K$5:$K$2604,'[1]CONSOLIDADO POR SEDE JUNIO'!$E$5:$E$2604,'RUBROS JUNIO'!$A6,'[1]CONSOLIDADO POR SEDE JUNIO'!$C$5:$C$2604,'RUBROS JUNIO'!Z$5) -> 0 | AA6: =SUMIFS('[1]CONSOLIDADO POR SEDE JUNIO'!$K$5:$K$2604,'[1]CONSOLIDADO POR SEDE JUNIO'!$E$5:$E$2604,'RUBROS JUNIO'!$A6,'[1]CONSOLIDADO POR SEDE JUNIO'!$C$5:$C$2604,'RUBROS JUNIO'!AA$5) -> 0 | ... AL6: =SUMIFS('[1]CONSOLIDADO POR SEDE JUNIO'!$K$5:$K$2604,'[1]CONSOLIDADO POR SEDE JUNIO'!$E$5:$E$2604,'RUBROS JUNIO'!$A6,'[1]CONSOLIDADO POR SEDE JUNIO'!$C$5:$C$2604,'RUBROS JUNIO'!AL$5) -> 0 | AM6: 0 | AN6: =SUMIFS('[1]CONSOLIDADO POR SEDE JUNIO'!$K$5:$K$2604,'[1]CONSOLIDADO POR SEDE JUNIO'!$E$5:$E$2604,'RUBROS JUNIO'!$A6,'[1]CONSOLIDADO POR SEDE JUNIO'!$C$5:$C$2604,'RUBROS JUNIO'!AN$5) -> 0 | AO6: =SUMIFS('[1]CONSOLIDADO POR SEDE JUNIO'!$K$5:$K$2604,'[1]CONSOLIDADO POR SEDE JUNIO'!$E$5:$E$2604,'RUBROS JUNIO'!$A6,'[1]CONSOLIDADO POR SEDE JUNIO'!$C$5:$C$2604,'RUBROS JUNIO'!AO$5) -> 0 | AP6: =SUMIFS('[1]CONSOLIDADO POR SEDE JUNIO'!$K$5:$K$2604,'[1]CONSOLIDADO POR SEDE JUNIO'!$E$5:$E$2604,'RUBROS JUNIO'!$A6,'[1]CONSOLIDADO POR SEDE JUNIO'!$C$5:$C$2604,'RUBROS JUNIO'!AP$5) -> 0 | AR6: 3829908.7 | AS6: =206649761.235538+5879138.72 -> 2.125289e+08
A7: SEDE 2 - DIRECCIÓN DISTRITAL DE ARCHIVO DE BOGOTA | B7: 4213000 | C7: =SUMIFS('[1]CONSOLIDADO POR SEDE JUNIO'!$K$5:$K$2604,'[1]CONSOLIDADO POR SEDE JUNIO'!$E$5:$E$2604,'RUBROS JUNIO'!$A7,'[1]CONSOLIDADO POR SEDE JUNIO'!$C$5:$C$2604,'RUBROS JUNIO'!C$5) -> 0 | D7: =SUMIFS('[1]CONSOLIDADO POR SEDE JUNIO'!$K$5:$K$2604,'[1]CONSOLIDADO POR SEDE JUNIO'!$E$5:$E$2604,'RUBROS JUNIO'!$A7,'[1]CONSOLIDADO POR SEDE JUNIO'!$C$5:$C$2604,'RUBROS JUNIO'!D$5) -> 0 | E7: =SUMIFS('[1]CONSOLIDADO POR SEDE JUNIO'!$K$5:$K$2604,'[1]CONSOLIDADO POR SEDE JUNIO'!$E$5:$E$2604,'RUBROS JUNIO'!$A7,'[1]CONSOLIDADO POR SEDE JUNIO'!$C$5:$C$2604,'RUBROS JUNIO'!E$5) -> 0 | F7: =SUMIFS('[1]CONSOLIDADO POR SEDE JUNIO'!$K$5:$K$2604,'[1]CONSOLIDADO POR SEDE JUNIO'!$E$5:$E$2604,'RUBROS JUNIO'!$A7,'[1]CONSOLIDADO POR SEDE JUNIO'!$C$5:$C$2604,'RUBROS JUNIO'!F$5) -> 0 | G7: =SUMIFS('[1]CONSOLIDADO POR SEDE JUNIO'!$K$5:$K$2604,'[1]CONSOLIDADO POR SEDE JUNIO'!$E$5:$E$2604,'RUBROS JUNIO'!$A7,'[1]CONSOLIDADO POR SEDE JUNIO'!$C$5:$C$2604,'RUBROS JUNIO'!G$5) -> 0 | H7: =SUMIFS('[1]CONSOLIDADO POR SEDE JUNIO'!$K$5:$K$2604,'[1]CONSOLIDADO POR SEDE JUNIO'!$E$5:$E$2604,'RUBROS JUNIO'!$A7,'[1]CONSOLIDADO POR SEDE JUNIO'!$C$5:$C$2604,'RUBROS JUNIO'!H$5) -> 0 | I7: 0 | J7: 430931.67 | K7: =SUMIFS('[1]CONSOLIDADO POR SEDE JUNIO'!$K$5:$K$2604,'[1]CONSOLIDADO POR SEDE JUNIO'!$E$5:$E$2604,'RUBROS JUNIO'!$A7,'[1]CONSOLIDADO POR SEDE JUNIO'!$C$5:$C$2604,'RUBROS JUNIO'!K$5) -> 0 | L7: =SUMIFS('[1]CONSOLIDADO POR SEDE JUNIO'!$K$5:$K$2604,'[1]CONSOLIDADO POR SEDE JUNIO'!$E$5:$E$2604,'RUBROS JUNIO'!$A7,'[1]CONSOLIDADO POR SEDE JUNIO'!$C$5:$C$2604,'RUBROS JUNIO'!L$5) -> 0 | M7: =SUMIFS('[1]CONSOLIDADO POR SEDE JUNIO'!$K$5:$K$2604,'[1]CONSOLIDADO POR SEDE JUNIO'!$E$5:$E$2604,'RUBROS JUNIO'!$A7,'[1]CONSOLIDADO POR SEDE JUNIO'!$C$5:$C$2604,'RUBROS JUNIO'!M$5) -> 0 | N7: =SUMIFS('[1]CONSOLIDADO POR SEDE JUNIO'!$K$5:$K$2604,'[1]CONSOLIDADO POR SEDE JUNIO'!$E$5:$E$2604,'RUBROS JUNIO'!$A7,'[1]CONSOLIDADO POR SEDE JUNIO'!$C$5:$C$2604,'RUBROS JUNIO'!N$5) -> 0 | O7: =SUMIFS('[1]CONSOLIDADO POR SEDE JUNIO'!$K$5:$K$2604,'[1]CONSOLIDADO POR SEDE JUNIO'!$E$5:$E$2604,'RUBROS JUNIO'!$A7,'[1]CONSOLIDADO POR SEDE JUNIO'!$C$5:$C$2604,'RUBROS JUNIO'!O$5) -> 0 | P7: =SUMIFS('[1]CONSOLIDADO POR SEDE JUNIO'!$K$5:$K$2604,'[1]CONSOLIDADO POR SEDE JUNIO'!$E$5:$E$2604,'RUBROS JUNIO'!$A7,'[1]CONSOLIDADO POR SEDE JUNIO'!$C$5:$C$2604,'RUBROS JUNIO'!P$5) -> 0 | Q7: 0 | R7: =SUMIFS('[1]CONSOLIDADO POR SEDE JUNIO'!$K$5:$K$2604,'[1]CONSOLIDADO POR SEDE JUNIO'!$E$5:$E$2604,'RUBROS JUNIO'!$A7,'[1]CONSOLIDADO POR SEDE JUNIO'!$C$5:$C$2604,'RUBROS JUNIO'!R$5) -> 0 | S7: 0 | T7: =SUMIFS('[1]CONSOLIDADO POR SEDE JUNIO'!$K$5:$K$2604,'[1]CONSOLIDADO POR SEDE JUNIO'!$E$5:$E$2604,'RUBROS JUNIO'!$A7,'[1]CONSOLIDADO POR SEDE JUNIO'!$C$5:$C$2604,'RUBROS JUNIO'!T$5) -> 0 | U7: =SUMIFS('[1]CONSOLIDADO POR SEDE JUNIO'!$K$5:$K$2604,'[1]CONSOLIDADO POR SEDE JUNIO'!$E$5:$E$2604,'RUBROS JUNIO'!$A7,'[1]CONSOLIDADO POR SEDE JUNIO'!$C$5:$C$2604,'RUBROS JUNIO'!U$5) -> 0 | V7: =SUMIFS('[1]CONSOLIDADO POR SEDE JUNIO'!$K$5:$K$2604,'[1]CONSOLIDADO POR SEDE JUNIO'!$E$5:$E$2604,'RUBROS JUNIO'!$A7,'[1]CONSOLIDADO POR SEDE JUNIO'!$C$5:$C$2604,'RUBROS JUNIO'!V$5) -> 0 | W7: =SUMIFS('[1]CONSOLIDADO POR SEDE JUNIO'!$K$5:$K$2604,'[1]CONSOLIDADO POR SEDE JUNIO'!$E$5:$E$2604,'RUBROS JUNIO'!$A7,'[1]CONSOLIDADO POR SEDE JUNIO'!$C$5:$C$2604,'RUBROS JUNIO'!W$5) -> 0 | X7: =SUMIFS('[1]CONSOLIDADO POR SEDE JUNIO'!$K$5:$K$2604,'[1]CONSOLIDADO POR SEDE JUNIO'!$E$5:$E$2604,'RUBROS JUNIO'!$A7,'[1]CONSOLIDADO POR SEDE JUNIO'!$C$5:$C$2604,'RUBROS JUNIO'!X$5) -> 0 | Y7: =SUMIFS('[1]CONSOLIDADO POR SEDE JUNIO'!$K$5:$K$2604,'[1]CONSOLIDADO POR SEDE JUNIO'!$E$5:$E$2604,'RUBROS JUNIO'!$A7,'[1]CONSOLIDADO POR SEDE JUNIO'!$C$5:$C$2604,'RUBROS JUNIO'!Y$5) -> 0 | Z7: =SUMIFS('[1]CONSOLIDADO POR SEDE JUNIO'!$K$5:$K$2604,'[1]CONSOLIDADO POR SEDE JUNIO'!$E$5:$E$2604,'RUBROS JUNIO'!$A7,'[1]CONSOLIDADO POR SEDE JUNIO'!$C$5:$C$2604,'RUBROS JUNIO'!Z$5) -> 0 | AA7: =SUMIFS('[1]CONSOLIDADO POR SEDE JUNIO'!$K$5:$K$2604,'[1]CONSOLIDADO POR SEDE JUNIO'!$E$5:$E$2604,'RUBROS JUNIO'!$A7,'[1]CONSOLIDADO POR SEDE JUNIO'!$C$5:$C$2604,'RUBROS JUNIO'!AA$5) -> 0 | ... AL7: =SUMIFS('[1]CONSOLIDADO POR SEDE JUNIO'!$K$5:$K$2604,'[1]CONSOLIDADO POR SEDE JUNIO'!$E$5:$E$2604,'RUBROS JUNIO'!$A7,'[1]CONSOLIDADO POR SEDE JUNIO'!$C$5:$C$2604,'RUBROS JUNIO'!AL$5) -> 0 | AM7: 0 | AN7: =SUMIFS('[1]CONSOLIDADO POR SEDE JUNIO'!$K$5:$K$2604,'[1]CONSOLIDADO POR SEDE JUNIO'!$E$5:$E$2604,'RUBROS JUNIO'!$A7,'[1]CONSOLIDADO POR SEDE JUNIO'!$C$5:$C$2604,'RUBROS JUNIO'!AN$5) -> 0 | AO7: =SUMIFS('[1]CONSOLIDADO POR SEDE JUNIO'!$K$5:$K$2604,'[1]CONSOLIDADO POR SEDE JUNIO'!$E$5:$E$2604,'RUBROS JUNIO'!$A7,'[1]CONSOLIDADO POR SEDE JUNIO'!$C$5:$C$2604,'RUBROS JUNIO'!AO$5) -> 0 | AP7: =SUMIFS('[1]CONSOLIDADO POR SEDE JUNIO'!$K$5:$K$2604,'[1]CONSOLIDADO POR SEDE JUNIO'!$E$5:$E$2604,'RUBROS JUNIO'!$A7,'[1]CONSOLIDADO POR SEDE JUNIO'!$C$5:$C$2604,'RUBROS JUNIO'!AP$5) -> 0 | AR7: 1108789.6 | AS7: 61864960
A8: SEDE 3 - IMPRENTA DISTRITAL | B8: 4211200 | C8: =SUMIFS('[1]CONSOLIDADO POR SEDE JUNIO'!$K$5:$K$2604,'[1]CONSOLIDADO POR SEDE JUNIO'!$E$5:$E$2604,'RUBROS JUNIO'!$A8,'[1]CONSOLIDADO POR SEDE JUNIO'!$C$5:$C$2604,'RUBROS JUNIO'!C$5) -> 0 | D8: =SUMIFS('[1]CONSOLIDADO POR SEDE JUNIO'!$K$5:$K$2604,'[1]CONSOLIDADO POR SEDE JUNIO'!$E$5:$E$2604,'RUBROS JUNIO'!$A8,'[1]CONSOLIDADO POR SEDE JUNIO'!$C$5:$C$2604,'RUBROS JUNIO'!D$5) -> 0 | E8: =SUMIFS('[1]CONSOLIDADO POR SEDE JUNIO'!$K$5:$K$2604,'[1]CONSOLIDADO POR SEDE JUNIO'!$E$5:$E$2604,'RUBROS JUNIO'!$A8,'[1]CONSOLIDADO POR SEDE JUNIO'!$C$5:$C$2604,'RUBROS JUNIO'!E$5) -> 0 | F8: =SUMIFS('[1]CONSOLIDADO POR SEDE JUNIO'!$K$5:$K$2604,'[1]CONSOLIDADO POR SEDE JUNIO'!$E$5:$E$2604,'RUBROS JUNIO'!$A8,'[1]CONSOLIDADO POR SEDE JUNIO'!$C$5:$C$2604,'RUBROS JUNIO'!F$5) -> 0 | G8: =SUMIFS('[1]CONSOLIDADO POR SEDE JUNIO'!$K$5:$K$2604,'[1]CONSOLIDADO POR SEDE JUNIO'!$E$5:$E$2604,'RUBROS JUNIO'!$A8,'[1]CONSOLIDADO POR SEDE JUNIO'!$C$5:$C$2604,'RUBROS JUNIO'!G$5) -> 0 | H8: =SUMIFS('[1]CONSOLIDADO POR SEDE JUNIO'!$K$5:$K$2604,'[1]CONSOLIDADO POR SEDE JUNIO'!$E$5:$E$2604,'RUBROS JUNIO'!$A8,'[1]CONSOLIDADO POR SEDE JUNIO'!$C$5:$C$2604,'RUBROS JUNIO'!H$5) -> 0 | I8: 0 | J8: 344745.34 | K8: =SUMIFS('[1]CONSOLIDADO POR SEDE JUNIO'!$K$5:$K$2604,'[1]CONSOLIDADO POR SEDE JUNIO'!$E$5:$E$2604,'RUBROS JUNIO'!$A8,'[1]CONSOLIDADO POR SEDE JUNIO'!$C$5:$C$2604,'RUBROS JUNIO'!K$5) -> 0 | L8: =SUMIFS('[1]CONSOLIDADO POR SEDE JUNIO'!$K$5:$K$2604,'[1]CONSOLIDADO POR SEDE JUNIO'!$E$5:$E$2604,'RUBROS JUNIO'!$A8,'[1]CONSOLIDADO POR SEDE JUNIO'!$C$5:$C$2604,'RUBROS JUNIO'!L$5) -> 0 | M8: =SUMIFS('[1]CONSOLIDADO POR SEDE JUNIO'!$K$5:$K$2604,'[1]CONSOLIDADO POR SEDE JUNIO'!$E$5:$E$2604,'RUBROS JUNIO'!$A8,'[1]CONSOLIDADO POR SEDE JUNIO'!$C$5:$C$2604,'RUBROS JUNIO'!M$5) -> 0 | N8: =SUMIFS('[1]CONSOLIDADO POR SEDE JUNIO'!$K$5:$K$2604,'[1]CONSOLIDADO POR SEDE JUNIO'!$E$5:$E$2604,'RUBROS JUNIO'!$A8,'[1]CONSOLIDADO POR SEDE JUNIO'!$C$5:$C$2604,'RUBROS JUNIO'!N$5) -> 0 | O8: =SUMIFS('[1]CONSOLIDADO POR SEDE JUNIO'!$K$5:$K$2604,'[1]CONSOLIDADO POR SEDE JUNIO'!$E$5:$E$2604,'RUBROS JUNIO'!$A8,'[1]CONSOLIDADO POR SEDE JUNIO'!$C$5:$C$2604,'RUBROS JUNIO'!O$5) -> 0 | P8: =SUMIFS('[1]CONSOLIDADO POR SEDE JUNIO'!$K$5:$K$2604,'[1]CONSOLIDADO POR SEDE JUNIO'!$E$5:$E$2604,'RUBROS JUNIO'!$A8,'[1]CONSOLIDADO POR SEDE JUNIO'!$C$5:$C$2604,'RUBROS JUNIO'!P$5) -> 0 | Q8: 0 | R8: =SUMIFS('[1]CONSOLIDADO POR SEDE JUNIO'!$K$5:$K$2604,'[1]CONSOLIDADO POR SEDE JUNIO'!$E$5:$E$2604,'RUBROS JUNIO'!$A8,'[1]CONSOLIDADO POR SEDE JUNIO'!$C$5:$C$2604,'RUBROS JUNIO'!R$5) -> 0 | S8: 0 | T8: =SUMIFS('[1]CONSOLIDADO POR SEDE JUNIO'!$K$5:$K$2604,'[1]CONSOLIDADO POR SEDE JUNIO'!$E$5:$E$2604,'RUBROS JUNIO'!$A8,'[1]CONSOLIDADO POR SEDE JUNIO'!$C$5:$C$2604,'RUBROS JUNIO'!T$5) -> 0 | U8: =SUMIFS('[1]CONSOLIDADO POR SEDE JUNIO'!$K$5:$K$2604,'[1]CONSOLIDADO POR SEDE JUNIO'!$E$5:$E$2604,'RUBROS JUNIO'!$A8,'[1]CONSOLIDADO POR SEDE JUNIO'!$C$5:$C$2604,'RUBROS JUNIO'!U$5) -> 0 | V8: =SUMIFS('[1]CONSOLIDADO POR SEDE JUNIO'!$K$5:$K$2604,'[1]CONSOLIDADO POR SEDE JUNIO'!$E$5:$E$2604,'RUBROS JUNIO'!$A8,'[1]CONSOLIDADO POR SEDE JUNIO'!$C$5:$C$2604,'RUBROS JUNIO'!V$5) -> 0 | W8: =SUMIFS('[1]CONSOLIDADO POR SEDE JUNIO'!$K$5:$K$2604,'[1]CONSOLIDADO POR SEDE JUNIO'!$E$5:$E$2604,'RUBROS JUNIO'!$A8,'[1]CONSOLIDADO POR SEDE JUNIO'!$C$5:$C$2604,'RUBROS JUNIO'!W$5) -> 0 | X8: =SUMIFS('[1]CONSOLIDADO POR SEDE JUNIO'!$K$5:$K$2604,'[1]CONSOLIDADO POR SEDE JUNIO'!$E$5:$E$2604,'RUBROS JUNIO'!$A8,'[1]CONSOLIDADO POR SEDE JUNIO'!$C$5:$C$2604,'RUBROS JUNIO'!X$5) -> 0 | Y8: =SUMIFS('[1]CONSOLIDADO POR SEDE JUNIO'!$K$5:$K$2604,'[1]CONSOLIDADO POR SEDE JUNIO'!$E$5:$E$2604,'RUBROS JUNIO'!$A8,'[1]CONSOLIDADO POR SEDE JUNIO'!$C$5:$C$2604,'RUBROS JUNIO'!Y$5) -> 0 | Z8: =SUMIFS('[1]CONSOLIDADO POR SEDE JUNIO'!$K$5:$K$2604,'[1]CONSOLIDADO POR SEDE JUNIO'!$E$5:$E$2604,'RUBROS JUNIO'!$A8,'[1]CONSOLIDADO POR SEDE JUNIO'!$C$5:$C$2604,'RUBROS JUNIO'!Z$5) -> 0 | AA8: =SUMIFS('[1]CONSOLIDADO POR SEDE JUNIO'!$K$5:$K$2604,'[1]CONSOLIDADO POR SEDE JUNIO'!$E$5:$E$2604,'RUBROS JUNIO'!$A8,'[1]CONSOLIDADO POR SEDE JUNIO'!$C$5:$C$2604,'RUBROS JUNIO'!AA$5) -> 0 | ... AL8: =SUMIFS('[1]CONSOLIDADO POR SEDE JUNIO'!$K$5:$K$2604,'[1]CONSOLIDADO POR SEDE JUNIO'!$E$5:$E$2604,'RUBROS JUNIO'!$A8,'[1]CONSOLIDADO POR SEDE JUNIO'!$C$5:$C$2604,'RUBROS JUNIO'!AL$5) -> 0 | AM8: 0 | AN8: =SUMIFS('[1]CONSOLIDADO POR SEDE JUNIO'!$K$5:$K$2604,'[1]CONSOLIDADO POR SEDE JUNIO'!$E$5:$E$2604,'RUBROS JUNIO'!$A8,'[1]CONSOLIDADO POR SEDE JUNIO'!$C$5:$C$2604,'RUBROS JUNIO'!AN$5) -> 89698.783 | AO8: =SUMIFS('[1]CONSOLIDADO POR SEDE JUNIO'!$K$5:$K$2604,'[1]CONSOLIDADO POR SEDE JUNIO'!$E$5:$E$2604,'RUBROS JUNIO'!$A8,'[1]CONSOLIDADO POR SEDE JUNIO'!$C$5:$C$2604,'RUBROS JUNIO'!AO$5) -> 0 | AP8: =SUMIFS('[1]CONSOLIDADO POR SEDE JUNIO'!$K$5:$K$2604,'[1]CONSOLIDADO POR SEDE JUNIO'!$E$5:$E$2604,'RUBROS JUNIO'!$A8,'[1]CONSOLIDADO POR SEDE JUNIO'!$C$5:$C$2604,'RUBROS JUNIO'!AP$5) -> 0 | AR8: 672616.21 | AS8: 14556461
A9: SEDE 4 - SEDE ALTERNA RESTREPO | C9: =SUMIFS('[1]CONSOLIDADO POR SEDE JUNIO'!$K$5:$K$2604,'[1]CONSOLIDADO POR SEDE JUNIO'!$E$5:$E$2604,'RUBROS JUNIO'!$A9,'[1]CONSOLIDADO POR SEDE JUNIO'!$C$5:$C$2604,'RUBROS JUNIO'!C$5) -> 0 | D9: =SUMIFS('[1]CONSOLIDADO POR SEDE JUNIO'!$K$5:$K$2604,'[1]CONSOLIDADO POR SEDE JUNIO'!$E$5:$E$2604,'RUBROS JUNIO'!$A9,'[1]CONSOLIDADO POR SEDE JUNIO'!$C$5:$C$2604,'RUBROS JUNIO'!D$5) -> 0 | E9: =SUMIFS('[1]CONSOLIDADO POR SEDE JUNIO'!$K$5:$K$2604,'[1]CONSOLIDADO POR SEDE JUNIO'!$E$5:$E$2604,'RUBROS JUNIO'!$A9,'[1]CONSOLIDADO POR SEDE JUNIO'!$C$5:$C$2604,'RUBROS JUNIO'!E$5) -> 0 | F9: =SUMIFS('[1]CONSOLIDADO POR SEDE JUNIO'!$K$5:$K$2604,'[1]CONSOLIDADO POR SEDE JUNIO'!$E$5:$E$2604,'RUBROS JUNIO'!$A9,'[1]CONSOLIDADO POR SEDE JUNIO'!$C$5:$C$2604,'RUBROS JUNIO'!F$5) -> 0 | G9: =SUMIFS('[1]CONSOLIDADO POR SEDE JUNIO'!$K$5:$K$2604,'[1]CONSOLIDADO POR SEDE JUNIO'!$E$5:$E$2604,'RUBROS JUNIO'!$A9,'[1]CONSOLIDADO POR SEDE JUNIO'!$C$5:$C$2604,'RUBROS JUNIO'!G$5) -> 0 | H9: =SUMIFS('[1]CONSOLIDADO POR SEDE JUNIO'!$K$5:$K$2604,'[1]CONSOLIDADO POR SEDE JUNIO'!$E$5:$E$2604,'RUBROS JUNIO'!$A9,'[1]CONSOLIDADO POR SEDE JUNIO'!$C$5:$C$2604,'RUBROS JUNIO'!H$5) -> 0 | I9: =SUMIFS('[1]CONSOLIDADO POR SEDE JUNIO'!$K$5:$K$2604,'[1]CONSOLIDADO POR SEDE JUNIO'!$E$5:$E$2604,'RUBROS JUNIO'!$A9,'[1]CONSOLIDADO POR SEDE JUNIO'!$C$5:$C$2604,'RUBROS JUNIO'!I$5) -> 0 | J9: 0 | K9: =SUMIFS('[1]CONSOLIDADO POR SEDE JUNIO'!$K$5:$K$2604,'[1]CONSOLIDADO POR SEDE JUNIO'!$E$5:$E$2604,'RUBROS JUNIO'!$A9,'[1]CONSOLIDADO POR SEDE JUNIO'!$C$5:$C$2604,'RUBROS JUNIO'!K$5) -> 0 | L9: =SUMIFS('[1]CONSOLIDADO POR SEDE JUNIO'!$K$5:$K$2604,'[1]CONSOLIDADO POR SEDE JUNIO'!$E$5:$E$2604,'RUBROS JUNIO'!$A9,'[1]CONSOLIDADO POR SEDE JUNIO'!$C$5:$C$2604,'RUBROS JUNIO'!L$5) -> 0 | M9: =SUMIFS('[1]CONSOLIDADO POR SEDE JUNIO'!$K$5:$K$2604,'[1]CONSOLIDADO POR SEDE JUNIO'!$E$5:$E$2604,'RUBROS JUNIO'!$A9,'[1]CONSOLIDADO POR SEDE JUNIO'!$C$5:$C$2604,'RUBROS JUNIO'!M$5) -> 0 | N9: =SUMIFS('[1]CONSOLIDADO POR SEDE JUNIO'!$K$5:$K$2604,'[1]CONSOLIDADO POR SEDE JUNIO'!$E$5:$E$2604,'RUBROS JUNIO'!$A9,'[1]CONSOLIDADO POR SEDE JUNIO'!$C$5:$C$2604,'RUBROS JUNIO'!N$5) -> 0 | O9: =SUMIFS('[1]CONSOLIDADO POR SEDE JUNIO'!$K$5:$K$2604,'[1]CONSOLIDADO POR SEDE JUNIO'!$E$5:$E$2604,'RUBROS JUNIO'!$A9,'[1]CONSOLIDADO POR SEDE JUNIO'!$C$5:$C$2604,'RUBROS JUNIO'!O$5) -> 0 | P9: =SUMIFS('[1]CONSOLIDADO POR SEDE JUNIO'!$K$5:$K$2604,'[1]CONSOLIDADO POR SEDE JUNIO'!$E$5:$E$2604,'RUBROS JUNIO'!$A9,'[1]CONSOLIDADO POR SEDE JUNIO'!$C$5:$C$2604,'RUBROS JUNIO'!P$5) -> 0 | Q9: 0 | R9: =SUMIFS('[1]CONSOLIDADO POR SEDE JUNIO'!$K$5:$K$2604,'[1]CONSOLIDADO POR SEDE JUNIO'!$E$5:$E$2604,'RUBROS JUNIO'!$A9,'[1]CONSOLIDADO POR SEDE JUNIO'!$C$5:$C$2604,'RUBROS JUNIO'!R$5) -> 0 | S9: 0 | T9: =SUMIFS('[1]CONSOLIDADO POR SEDE JUNIO'!$K$5:$K$2604,'[1]CONSOLIDADO POR SEDE JUNIO'!$E$5:$E$2604,'RUBROS JUNIO'!$A9,'[1]CONSOLIDADO POR SEDE JUNIO'!$C$5:$C$2604,'RUBROS JUNIO'!T$5) -> 0 | U9: =SUMIFS('[1]CONSOLIDADO POR SEDE JUNIO'!$K$5:$K$2604,'[1]CONSOLIDADO POR SEDE JUNIO'!$E$5:$E$2604,'RUBROS JUNIO'!$A9,'[1]CONSOLIDADO POR SEDE JUNIO'!$C$5:$C$2604,'RUBROS JUNIO'!U$5) -> 0 | V9: =SUMIFS('[1]CONSOLIDADO POR SEDE JUNIO'!$K$5:$K$2604,'[1]CONSOLIDADO POR SEDE JUNIO'!$E$5:$E$2604,'RUBROS JUNIO'!$A9,'[1]CONSOLIDADO POR SEDE JUNIO'!$C$5:$C$2604,'RUBROS JUNIO'!V$5) -> 0 | W9: =SUMIFS('[1]CONSOLIDADO POR SEDE JUNIO'!$K$5:$K$2604,'[1]CONSOLIDADO POR SEDE JUNIO'!$E$5:$E$2604,'RUBROS JUNIO'!$A9,'[1]CONSOLIDADO POR SEDE JUNIO'!$C$5:$C$2604,'RUBROS JUNIO'!W$5) -> 0 | X9: =SUMIFS('[1]CONSOLIDADO POR SEDE JUNIO'!$K$5:$K$2604,'[1]CONSOLIDADO POR SEDE JUNIO'!$E$5:$E$2604,'RUBROS JUNIO'!$A9,'[1]CONSOLIDADO POR SEDE JUNIO'!$C$5:$C$2604,'RUBROS JUNIO'!X$5) -> 0 | Y9: =SUMIFS('[1]CONSOLIDADO POR SEDE JUNIO'!$K$5:$K$2604,'[1]CONSOLIDADO POR SEDE JUNIO'!$E$5:$E$2604,'RUBROS JUNIO'!$A9,'[1]CONSOLIDADO POR SEDE JUNIO'!$C$5:$C$2604,'RUBROS JUNIO'!Y$5) -> 0 | Z9: =SUMIFS('[1]CONSOLIDADO POR SEDE JUNIO'!$K$5:$K$2604,'[1]CONSOLIDADO POR SEDE JUNIO'!$E$5:$E$2604,'RUBROS JUNIO'!$A9,'[1]CONSOLIDADO POR SEDE JUNIO'!$C$5:$C$2604,'RUBROS JUNIO'!Z$5) -> 0 | AA9: =SUMIFS('[1]CONSOLIDADO POR SEDE JUNIO'!$K$5:$K$2604,'[1]CONSOLIDADO POR SEDE JUNIO'!$E$5:$E$2604,'RUBROS JUNIO'!$A9,'[1]CONSOLIDADO POR SEDE JUNIO'!$C$5:$C$2604,'RUBROS JUNIO'!AA$5) -> 0 | ... AL9: =SUMIFS('[1]CONSOLIDADO POR SEDE JUNIO'!$K$5:$K$2604,'[1]CONSOLIDADO POR SEDE JUNIO'!$E$5:$E$2604,'RUBROS JUNIO'!$A9,'[1]CONSOLIDADO POR SEDE JUNIO'!$C$5:$C$2604,'RUBROS JUNIO'!AL$5) -> 0 | AM9: 0 | AN9: =SUMIFS('[1]CONSOLIDADO POR SEDE JUNIO'!$K$5:$K$2604,'[1]CONSOLIDADO POR SEDE JUNIO'!$E$5:$E$2604,'RUBROS JUNIO'!$A9,'[1]CONSOLIDADO POR SEDE JUNIO'!$C$5:$C$2604,'RUBROS JUNIO'!AN$5) -> 0 | AO9: =SUMIFS('[1]CONSOLIDADO POR SEDE JUNIO'!$K$5:$K$2604,'[1]CONSOLIDADO POR SEDE JUNIO'!$E$5:$E$2604,'RUBROS JUNIO'!$A9,'[1]CONSOLIDADO POR SEDE JUNIO'!$C$5:$C$2604,'RUBROS JUNIO'!AO$5) -> 0 | AP9: =SUMIFS('[1]CONSOLIDADO POR SEDE JUNIO'!$K$5:$K$2604,'[1]CONSOLIDADO POR SEDE JUNIO'!$E$5:$E$2604,'RUBROS JUNIO'!$A9,'[1]CONSOLIDADO POR SEDE JUNIO'!$C$5:$C$2604,'RUBROS JUNIO'!AP$5) -> 0 | AR9: 0 | AS9: 7408199
A10: SEDE 5 - SUPERCADE CAD CARRERA | B10: 4222119 | C10: =SUMIFS('[1]CONSOLIDADO POR SEDE JUNIO'!$K$5:$K$2604,'[1]CONSOLIDADO POR SEDE JUNIO'!$E$5:$E$2604,'RUBROS JUNIO'!$A10,'[1]CONSOLIDADO POR SEDE JUNIO'!$C$5:$C$2604,'RUBROS JUNIO'!C$5) -> 0 | D10: =SUMIFS('[1]CONSOLIDADO POR SEDE JUNIO'!$K$5:$K$2604,'[1]CONSOLIDADO POR SEDE JUNIO'!$E$5:$E$2604,'RUBROS JUNIO'!$A10,'[1]CONSOLIDADO POR SEDE JUNIO'!$C$5:$C$2604,'RUBROS JUNIO'!D$5) -> 0 | E10: =SUMIFS('[1]CONSOLIDADO POR SEDE JUNIO'!$K$5:$K$2604,'[1]CONSOLIDADO POR SEDE JUNIO'!$E$5:$E$2604,'RUBROS JUNIO'!$A10,'[1]CONSOLIDADO POR SEDE JUNIO'!$C$5:$C$2604,'RUBROS JUNIO'!E$5) -> 0 | F10: 0 | G10: =SUMIFS('[1]CONSOLIDADO POR SEDE JUNIO'!$K$5:$K$2604,'[1]CONSOLIDADO POR SEDE JUNIO'!$E$5:$E$2604,'RUBROS JUNIO'!$A10,'[1]CONSOLIDADO POR SEDE JUNIO'!$C$5:$C$2604,'RUBROS JUNIO'!G$5) -> 0 | H10: =SUMIFS('[1]CONSOLIDADO POR SEDE JUNIO'!$K$5:$K$2604,'[1]CONSOLIDADO POR SEDE JUNIO'!$E$5:$E$2604,'RUBROS JUNIO'!$A10,'[1]CONSOLIDADO POR SEDE JUNIO'!$C$5:$C$2604,'RUBROS JUNIO'!H$5) -> 0 | I10: 0 | J10: 658735.06 | K10: =SUMIFS('[1]CONSOLIDADO POR SEDE JUNIO'!$K$5:$K$2604,'[1]CONSOLIDADO POR SEDE JUNIO'!$E$5:$E$2604,'RUBROS JUNIO'!$A10,'[1]CONSOLIDADO POR SEDE JUNIO'!$C$5:$C$2604,'RUBROS JUNIO'!K$5) -> 0 | L10: =SUMIFS('[1]CONSOLIDADO POR SEDE JUNIO'!$K$5:$K$2604,'[1]CONSOLIDADO POR SEDE JUNIO'!$E$5:$E$2604,'RUBROS JUNIO'!$A10,'[1]CONSOLIDADO POR SEDE JUNIO'!$C$5:$C$2604,'RUBROS JUNIO'!L$5) -> 0 | M10: =SUMIFS('[1]CONSOLIDADO POR SEDE JUNIO'!$K$5:$K$2604,'[1]CONSOLIDADO POR SEDE JUNIO'!$E$5:$E$2604,'RUBROS JUNIO'!$A10,'[1]CONSOLIDADO POR SEDE JUNIO'!$C$5:$C$2604,'RUBROS JUNIO'!M$5) -> 0 | N10: =SUMIFS('[1]CONSOLIDADO POR SEDE JUNIO'!$K$5:$K$2604,'[1]CONSOLIDADO POR SEDE JUNIO'!$E$5:$E$2604,'RUBROS JUNIO'!$A10,'[1]CONSOLIDADO POR SEDE JUNIO'!$C$5:$C$2604,'RUBROS JUNIO'!N$5) -> 0 | O10: =SUMIFS('[1]CONSOLIDADO POR SEDE JUNIO'!$K$5:$K$2604,'[1]CONSOLIDADO POR SEDE JUNIO'!$E$5:$E$2604,'RUBROS JUNIO'!$A10,'[1]CONSOLIDADO POR SEDE JUNIO'!$C$5:$C$2604,'RUBROS JUNIO'!O$5) -> 0 | P10: =SUMIFS('[1]CONSOLIDADO POR SEDE JUNIO'!$K$5:$K$2604,'[1]CONSOLIDADO POR SEDE JUNIO'!$E$5:$E$2604,'RUBROS JUNIO'!$A10,'[1]CONSOLIDADO POR SEDE JUNIO'!$C$5:$C$2604,'RUBROS JUNIO'!P$5) -> 0 | Q10: 192084.41 | R10: =SUMIFS('[1]CONSOLIDADO POR SEDE JUNIO'!$K$5:$K$2604,'[1]CONSOLIDADO POR SEDE JUNIO'!$E$5:$E$2604,'RUBROS JUNIO'!$A10,'[1]CONSOLIDADO POR SEDE JUNIO'!$C$5:$C$2604,'RUBROS JUNIO'!R$5) -> 0 | S10: 0 | T10: =SUMIFS('[1]CONSOLIDADO POR SEDE JUNIO'!$K$5:$K$2604,'[1]CONSOLIDADO POR SEDE JUNIO'!$E$5:$E$2604,'RUBROS JUNIO'!$A10,'[1]CONSOLIDADO POR SEDE JUNIO'!$C$5:$C$2604,'RUBROS JUNIO'!T$5) -> 0 | U10: =SUMIFS('[1]CONSOLIDADO POR SEDE JUNIO'!$K$5:$K$2604,'[1]CONSOLIDADO POR SEDE JUNIO'!$E$5:$E$2604,'RUBROS JUNIO'!$A10,'[1]CONSOLIDADO POR SEDE JUNIO'!$C$5:$C$2604,'RUBROS JUNIO'!U$5) -> 23027.431 | V10: =SUMIFS('[1]CONSOLIDADO POR SEDE JUNIO'!$K$5:$K$2604,'[1]CONSOLIDADO POR SEDE JUNIO'!$E$5:$E$2604,'RUBROS JUNIO'!$A10,'[1]CONSOLIDADO POR SEDE JUNIO'!$C$5:$C$2604,'RUBROS JUNIO'!V$5) -> 0 | W10: =SUMIFS('[1]CONSOLIDADO POR SEDE JUNIO'!$K$5:$K$2604,'[1]CONSOLIDADO POR SEDE JUNIO'!$E$5:$E$2604,'RUBROS JUNIO'!$A10,'[1]CONSOLIDADO POR SEDE JUNIO'!$C$5:$C$2604,'RUBROS JUNIO'!W$5) -> 0 | X10: =SUMIFS('[1]CONSOLIDADO POR SEDE JUNIO'!$K$5:$K$2604,'[1]CONSOLIDADO POR SEDE JUNIO'!$E$5:$E$2604,'RUBROS JUNIO'!$A10,'[1]CONSOLIDADO POR SEDE JUNIO'!$C$5:$C$2604,'RUBROS JUNIO'!X$5) -> 0 | Y10: =SUMIFS('[1]CONSOLIDADO POR SEDE JUNIO'!$K$5:$K$2604,'[1]CONSOLIDADO POR SEDE JUNIO'!$E$5:$E$2604,'RUBROS JUNIO'!$A10,'[1]CONSOLIDADO POR SEDE JUNIO'!$C$5:$C$2604,'RUBROS JUNIO'!Y$5) -> 0 | Z10: =SUMIFS('[1]CONSOLIDADO POR SEDE JUNIO'!$K$5:$K$2604,'[1]CONSOLIDADO POR SEDE JUNIO'!$E$5:$E$2604,'RUBROS JUNIO'!$A10,'[1]CONSOLIDADO POR SEDE JUNIO'!$C$5:$C$2604,'RUBROS JUNIO'!Z$5) -> 0 | AA10: =SUMIFS('[1]CONSOLIDADO POR SEDE JUNIO'!$K$5:$K$2604,'[1]CONSOLIDADO POR SEDE JUNIO'!$E$5:$E$2604,'RUBROS JUNIO'!$A10,'[1]CONSOLIDADO POR SEDE JUNIO'!$C$5:$C$2604,'RUBROS JUNIO'!AA$5) -> 0 | ... AF10: =SUMIFS('[1]CONSOLIDADO POR SEDE JUNIO'!$K$5:$K$2604,'[1]CONSOLIDADO POR SEDE JUNIO'!$E$5:$E$2604,'RUBROS JUNIO'!$A10,'[1]CONSOLIDADO POR SEDE JUNIO'!$C$5:$C$2604,'RUBROS JUNIO'!AF$5) -> 22047.766 | AG10: 0 | AH10: =SUMIFS('[1]CONSOLIDADO POR SEDE JUNIO'!$K$5:$K$2604,'[1]CONSOLIDADO POR SEDE JUNIO'!$E$5:$E$2604,'RUBROS JUNIO'!$A10,'[1]CONSOLIDADO POR SEDE JUNIO'!$C$5:$C$2604,'RUBROS JUNIO'!AH$5) -> 0 | AI10: =SUMIFS('[1]CONSOLIDADO POR SEDE JUNIO'!$K$5:$K$2604,'[1]CONSOLIDADO POR SEDE JUNIO'!$E$5:$E$2604,'RUBROS JUNIO'!$A10,'[1]CONSOLIDADO POR SEDE JUNIO'!$C$5:$C$2604,'RUBROS JUNIO'!AI$5) -> 0 | AJ10: =SUMIFS('[1]CONSOLIDADO POR SEDE JUNIO'!$K$5:$K$2604,'[1]CONSOLIDADO POR SEDE JUNIO'!$E$5:$E$2604,'RUBROS JUNIO'!$A10,'[1]CONSOLIDADO POR SEDE JUNIO'!$C$5:$C$2604,'RUBROS JUNIO'!AJ$5) -> 0 | AK10: =SUMIFS('[1]CONSOLIDADO POR SEDE JUNIO'!$K$5:$K$2604,'[1]CONSOLIDADO POR SEDE JUNIO'!$E$5:$E$2604,'RUBROS JUNIO'!$A10,'[1]CONSOLIDADO POR SEDE JUNIO'!$C$5:$C$2604,'RUBROS JUNIO'!AK$5) -> 0 | AL10: =SUMIFS('[1]CONSOLIDADO POR SEDE JUNIO'!$K$5:$K$2604,'[1]CONSOLIDADO POR SEDE JUNIO'!$E$5:$E$2604,'RUBROS JUNIO'!$A10,'[1]CONSOLIDADO POR SEDE JUNIO'!$C$5:$C$2604,'RUBROS JUNIO'!AL$5) -> 0 | AM10: 656675.77 | AN10: =SUMIFS('[1]CONSOLIDADO POR SEDE JUNIO'!$K$5:$K$2604,'[1]CONSOLIDADO POR SEDE JUNIO'!$E$5:$E$2604,'RUBROS JUNIO'!$A10,'[1]CONSOLIDADO POR SEDE JUNIO'!$C$5:$C$2604,'RUBROS JUNIO'!AN$5) -> 22888.655 | AO10: =SUMIFS('[1]CONSOLIDADO POR SEDE JUNIO'!$K$5:$K$2604,'[1]CONSOLIDADO POR SEDE JUNIO'!$E$5:$E$2604,'RUBROS JUNIO'!$A10,'[1]CONSOLIDADO POR SEDE JUNIO'!$C$5:$C$2604,'RUBROS JUNIO'!AO$5) -> 0 | AP10: 0 | AR10: 914630.04 | AS10: 46788625
A11: SEDE 6 - SUPERCADE AMERICAS | B11: 4222120 | C11: =SUMIFS('[1]CONSOLIDADO POR SEDE JUNIO'!$K$5:$K$2604,'[1]CONSOLIDADO POR SEDE JUNIO'!$E$5:$E$2604,'RUBROS JUNIO'!$A11,'[1]CONSOLIDADO POR SEDE JUNIO'!$C$5:$C$2604,'RUBROS JUNIO'!C$5) -> 0 | D11: =SUMIFS('[1]CONSOLIDADO POR SEDE JUNIO'!$K$5:$K$2604,'[1]CONSOLIDADO POR SEDE JUNIO'!$E$5:$E$2604,'RUBROS JUNIO'!$A11,'[1]CONSOLIDADO POR SEDE JUNIO'!$C$5:$C$2604,'RUBROS JUNIO'!D$5) -> 0 | E11: =SUMIFS('[1]CONSOLIDADO POR SEDE JUNIO'!$K$5:$K$2604,'[1]CONSOLIDADO POR SEDE JUNIO'!$E$5:$E$2604,'RUBROS JUNIO'!$A11,'[1]CONSOLIDADO POR SEDE JUNIO'!$C$5:$C$2604,'RUBROS JUNIO'!E$5) -> 0 | F11: 0 | G11: =SUMIFS('[1]CONSOLIDADO POR SEDE JUNIO'!$K$5:$K$2604,'[1]CONSOLIDADO POR SEDE JUNIO'!$E$5:$E$2604,'RUBROS JUNIO'!$A11,'[1]CONSOLIDADO POR SEDE JUNIO'!$C$5:$C$2604,'RUBROS JUNIO'!G$5) -> 0 | H11: =SUMIFS('[1]CONSOLIDADO POR SEDE JUNIO'!$K$5:$K$2604,'[1]CONSOLIDADO POR SEDE JUNIO'!$E$5:$E$2604,'RUBROS JUNIO'!$A11,'[1]CONSOLIDADO POR SEDE JUNIO'!$C$5:$C$2604,'RUBROS JUNIO'!H$5) -> 0 | I11: 0 | J11: 790036.11 | K11: =SUMIFS('[1]CONSOLIDADO POR SEDE JUNIO'!$K$5:$K$2604,'[1]CONSOLIDADO POR SEDE JUNIO'!$E$5:$E$2604,'RUBROS JUNIO'!$A11,'[1]CONSOLIDADO POR SEDE JUNIO'!$C$5:$C$2604,'RUBROS JUNIO'!K$5) -> 0 | L11: =SUMIFS('[1]CONSOLIDADO POR SEDE JUNIO'!$K$5:$K$2604,'[1]CONSOLIDADO POR SEDE JUNIO'!$E$5:$E$2604,'RUBROS JUNIO'!$A11,'[1]CONSOLIDADO POR SEDE JUNIO'!$C$5:$C$2604,'RUBROS JUNIO'!L$5) -> 0 | M11: =SUMIFS('[1]CONSOLIDADO POR SEDE JUNIO'!$K$5:$K$2604,'[1]CONSOLIDADO POR SEDE JUNIO'!$E$5:$E$2604,'RUBROS JUNIO'!$A11,'[1]CONSOLIDADO POR SEDE JUNIO'!$C$5:$C$2604,'RUBROS JUNIO'!M$5) -> 0 | N11: =SUMIFS('[1]CONSOLIDADO POR SEDE JUNIO'!$K$5:$K$2604,'[1]CONSOLIDADO POR SEDE JUNIO'!$E$5:$E$2604,'RUBROS JUNIO'!$A11,'[1]CONSOLIDADO POR SEDE JUNIO'!$C$5:$C$2604,'RUBROS JUNIO'!N$5) -> 0 | O11: =SUMIFS('[1]CONSOLIDADO POR SEDE JUNIO'!$K$5:$K$2604,'[1]CONSOLIDADO POR SEDE JUNIO'!$E$5:$E$2604,'RUBROS JUNIO'!$A11,'[1]CONSOLIDADO POR SEDE JUNIO'!$C$5:$C$2604,'RUBROS JUNIO'!O$5) -> 0 | P11: =SUMIFS('[1]CONSOLIDADO POR SEDE JUNIO'!$K$5:$K$2604,'[1]CONSOLIDADO POR SEDE JUNIO'!$E$5:$E$2604,'RUBROS JUNIO'!$A11,'[1]CONSOLIDADO POR SEDE JUNIO'!$C$5:$C$2604,'RUBROS JUNIO'!P$5) -> 0 | Q11: 87969.961 | R11: 0 | S11: 154653.07 | T11: =SUMIFS('[1]CONSOLIDADO POR SEDE JUNIO'!$K$5:$K$2604,'[1]CONSOLIDADO POR SEDE JUNIO'!$E$5:$E$2604,'RUBROS JUNIO'!$A11,'[1]CONSOLIDADO POR SEDE JUNIO'!$C$5:$C$2604,'RUBROS JUNIO'!T$5) -> 0 | U11: =SUMIFS('[1]CONSOLIDADO POR SEDE JUNIO'!$K$5:$K$2604,'[1]CONSOLIDADO POR SEDE JUNIO'!$E$5:$E$2604,'RUBROS JUNIO'!$A11,'[1]CONSOLIDADO POR SEDE JUNIO'!$C$5:$C$2604,'RUBROS JUNIO'!U$5) -> 0 | V11: =SUMIFS('[1]CONSOLIDADO POR SEDE JUNIO'!$K$5:$K$2604,'[1]CONSOLIDADO POR SEDE JUNIO'!$E$5:$E$2604,'RUBROS JUNIO'!$A11,'[1]CONSOLIDADO POR SEDE JUNIO'!$C$5:$C$2604,'RUBROS JUNIO'!V$5) -> 0 | W11: =SUMIFS('[1]CONSOLIDADO POR SEDE JUNIO'!$K$5:$K$2604,'[1]CONSOLIDADO POR SEDE JUNIO'!$E$5:$E$2604,'RUBROS JUNIO'!$A11,'[1]CONSOLIDADO POR SEDE JUNIO'!$C$5:$C$2604,'RUBROS JUNIO'!W$5) -> 0 | X11: =SUMIFS('[1]CONSOLIDADO POR SEDE JUNIO'!$K$5:$K$2604,'[1]CONSOLIDADO POR SEDE JUNIO'!$E$5:$E$2604,'RUBROS JUNIO'!$A11,'[1]CONSOLIDADO POR SEDE JUNIO'!$C$5:$C$2604,'RUBROS JUNIO'!X$5) -> 0 | Y11: =SUMIFS('[1]CONSOLIDADO POR SEDE JUNIO'!$K$5:$K$2604,'[1]CONSOLIDADO POR SEDE JUNIO'!$E$5:$E$2604,'RUBROS JUNIO'!$A11,'[1]CONSOLIDADO POR SEDE JUNIO'!$C$5:$C$2604,'RUBROS JUNIO'!Y$5) -> 0 | Z11: =SUMIFS('[1]CONSOLIDADO POR SEDE JUNIO'!$K$5:$K$2604,'[1]CONSOLIDADO POR SEDE JUNIO'!$E$5:$E$2604,'RUBROS JUNIO'!$A11,'[1]CONSOLIDADO POR SEDE JUNIO'!$C$5:$C$2604,'RUBROS JUNIO'!Z$5) -> 0 | AA11: =SUMIFS('[1]CONSOLIDADO POR SEDE JUNIO'!$K$5:$K$2604,'[1]CONSOLIDADO POR SEDE JUNIO'!$E$5:$E$2604,'RUBROS JUNIO'!$A11,'[1]CONSOLIDADO POR SEDE JUNIO'!$C$5:$C$2604,'RUBROS JUNIO'!AA$5) -> 0 | ... AF11: =SUMIFS('[1]CONSOLIDADO POR SEDE JUNIO'!$K$5:$K$2604,'[1]CONSOLIDADO POR SEDE JUNIO'!$E$5:$E$2604,'RUBROS JUNIO'!$A11,'[1]CONSOLIDADO POR SEDE JUNIO'!$C$5:$C$2604,'RUBROS JUNIO'!AF$5) -> 0 | AG11: 0 | AH11: =SUMIFS('[1]CONSOLIDADO POR SEDE JUNIO'!$K$5:$K$2604,'[1]CONSOLIDADO POR SEDE JUNIO'!$E$5:$E$2604,'RUBROS JUNIO'!$A11,'[1]CONSOLIDADO POR SEDE JUNIO'!$C$5:$C$2604,'RUBROS JUNIO'!AH$5) -> 0 | AI11: =SUMIFS('[1]CONSOLIDADO POR SEDE JUNIO'!$K$5:$K$2604,'[1]CONSOLIDADO POR SEDE JUNIO'!$E$5:$E$2604,'RUBROS JUNIO'!$A11,'[1]CONSOLIDADO POR SEDE JUNIO'!$C$5:$C$2604,'RUBROS JUNIO'!AI$5) -> 0 | AJ11: =SUMIFS('[1]CONSOLIDADO POR SEDE JUNIO'!$K$5:$K$2604,'[1]CONSOLIDADO POR SEDE JUNIO'!$E$5:$E$2604,'RUBROS JUNIO'!$A11,'[1]CONSOLIDADO POR SEDE JUNIO'!$C$5:$C$2604,'RUBROS JUNIO'!AJ$5) -> 0 | AK11: =SUMIFS('[1]CONSOLIDADO POR SEDE JUNIO'!$K$5:$K$2604,'[1]CONSOLIDADO POR SEDE JUNIO'!$E$5:$E$2604,'RUBROS JUNIO'!$A11,'[1]CONSOLIDADO POR SEDE JUNIO'!$C$5:$C$2604,'RUBROS JUNIO'!AK$5) -> 0 | AL11: =SUMIFS('[1]CONSOLIDADO POR SEDE JUNIO'!$K$5:$K$2604,'[1]CONSOLIDADO POR SEDE JUNIO'!$E$5:$E$2604,'RUBROS JUNIO'!$A11,'[1]CONSOLIDADO POR SEDE JUNIO'!$C$5:$C$2604,'RUBROS JUNIO'!AL$5) -> 0 | AM11: 47489.666 | AN11: =SUMIFS('[1]CONSOLIDADO POR SEDE JUNIO'!$K$5:$K$2604,'[1]CONSOLIDADO POR SEDE JUNIO'!$E$5:$E$2604,'RUBROS JUNIO'!$A11,'[1]CONSOLIDADO POR SEDE JUNIO'!$C$5:$C$2604,'RUBROS JUNIO'!AN$5) -> 0 | AO11: =SUMIFS('[1]CONSOLIDADO POR SEDE JUNIO'!$K$5:$K$2604,'[1]CONSOLIDADO POR SEDE JUNIO'!$E$5:$E$2604,'RUBROS JUNIO'!$A11,'[1]CONSOLIDADO POR SEDE JUNIO'!$C$5:$C$2604,'RUBROS JUNIO'!AO$5) -> 6056.7554 | AP11: =SUMIFS('[1]CONSOLIDADO POR SEDE JUNIO'!$K$5:$K$2604,'[1]CONSOLIDADO POR SEDE JUNIO'!$E$5:$E$2604,'RUBROS JUNIO'!$A11,'[1]CONSOLIDADO POR SEDE JUNIO'!$C$5:$C$2604,'RUBROS JUNIO'!AP$5) -> 0 | AR11: 569178.59 | AS11: 38990521
A12: SEDE 7 - SUPERCADE BOSA | B12: 4222122 | C12: =SUMIFS('[1]CONSOLIDADO POR SEDE JUNIO'!$K$5:$K$2604,'[1]CONSOLIDADO POR SEDE JUNIO'!$E$5:$E$2604,'RUBROS JUNIO'!$A12,'[1]CONSOLIDADO POR SEDE JUNIO'!$C$5:$C$2604,'RUBROS JUNIO'!C$5) -> 0 | D12: =SUMIFS('[1]CONSOLIDADO POR SEDE JUNIO'!$K$5:$K$2604,'[1]CONSOLIDADO POR SEDE JUNIO'!$E$5:$E$2604,'RUBROS JUNIO'!$A12,'[1]CONSOLIDADO POR SEDE JUNIO'!$C$5:$C$2604,'RUBROS JUNIO'!D$5) -> 0 | E12: =SUMIFS('[1]CONSOLIDADO POR SEDE JUNIO'!$K$5:$K$2604,'[1]CONSOLIDADO POR SEDE JUNIO'!$E$5:$E$2604,'RUBROS JUNIO'!$A12,'[1]CONSOLIDADO POR SEDE JUNIO'!$C$5:$C$2604,'RUBROS JUNIO'!E$5) -> 0 | F12: 0 | G12: =SUMIFS('[1]CONSOLIDADO POR SEDE JUNIO'!$K$5:$K$2604,'[1]CONSOLIDADO POR SEDE JUNIO'!$E$5:$E$2604,'RUBROS JUNIO'!$A12,'[1]CONSOLIDADO POR SEDE JUNIO'!$C$5:$C$2604,'RUBROS JUNIO'!G$5) -> 0 | H12: =SUMIFS('[1]CONSOLIDADO POR SEDE JUNIO'!$K$5:$K$2604,'[1]CONSOLIDADO POR SEDE JUNIO'!$E$5:$E$2604,'RUBROS JUNIO'!$A12,'[1]CONSOLIDADO POR SEDE JUNIO'!$C$5:$C$2604,'RUBROS JUNIO'!H$5) -> 0 | I12: 0 | J12: 791033.42 | K12: =SUMIFS('[1]CONSOLIDADO POR SEDE JUNIO'!$K$5:$K$2604,'[1]CONSOLIDADO POR SEDE JUNIO'!$E$5:$E$2604,'RUBROS JUNIO'!$A12,'[1]CONSOLIDADO POR SEDE JUNIO'!$C$5:$C$2604,'RUBROS JUNIO'!K$5) -> 0 | L12: =SUMIFS('[1]CONSOLIDADO POR SEDE JUNIO'!$K$5:$K$2604,'[1]CONSOLIDADO POR SEDE JUNIO'!$E$5:$E$2604,'RUBROS JUNIO'!$A12,'[1]CONSOLIDADO POR SEDE JUNIO'!$C$5:$C$2604,'RUBROS JUNIO'!L$5) -> 0 | M12: =SUMIFS('[1]CONSOLIDADO POR SEDE JUNIO'!$K$5:$K$2604,'[1]CONSOLIDADO POR SEDE JUNIO'!$E$5:$E$2604,'RUBROS JUNIO'!$A12,'[1]CONSOLIDADO POR SEDE JUNIO'!$C$5:$C$2604,'RUBROS JUNIO'!M$5) -> 0 | N12: =SUMIFS('[1]CONSOLIDADO POR SEDE JUNIO'!$K$5:$K$2604,'[1]CONSOLIDADO POR SEDE JUNIO'!$E$5:$E$2604,'RUBROS JUNIO'!$A12,'[1]CONSOLIDADO POR SEDE JUNIO'!$C$5:$C$2604,'RUBROS JUNIO'!N$5) -> 0 | O12: =SUMIFS('[1]CONSOLIDADO POR SEDE JUNIO'!$K$5:$K$2604,'[1]CONSOLIDADO POR SEDE JUNIO'!$E$5:$E$2604,'RUBROS JUNIO'!$A12,'[1]CONSOLIDADO POR SEDE JUNIO'!$C$5:$C$2604,'RUBROS JUNIO'!O$5) -> 0 | P12: =SUMIFS('[1]CONSOLIDADO POR SEDE JUNIO'!$K$5:$K$2604,'[1]CONSOLIDADO POR SEDE JUNIO'!$E$5:$E$2604,'RUBROS JUNIO'!$A12,'[1]CONSOLIDADO POR SEDE JUNIO'!$C$5:$C$2604,'RUBROS JUNIO'!P$5) -> 0 | Q12: 307894.86 | R12: 0 | S12: 61861.229 | T12: =SUMIFS('[1]CONSOLIDADO POR SEDE JUNIO'!$K$5:$K$2604,'[1]CONSOLIDADO POR SEDE JUNIO'!$E$5:$E$2604,'RUBROS JUNIO'!$A12,'[1]CONSOLIDADO POR SEDE JUNIO'!$C$5:$C$2604,'RUBROS JUNIO'!T$5) -> 0 | U12: =SUMIFS('[1]CONSOLIDADO POR SEDE JUNIO'!$K$5:$K$2604,'[1]CONSOLIDADO POR SEDE JUNIO'!$E$5:$E$2604,'RUBROS JUNIO'!$A12,'[1]CONSOLIDADO POR SEDE JUNIO'!$C$5:$C$2604,'RUBROS JUNIO'!U$5) -> 0 | V12: =SUMIFS('[1]CONSOLIDADO POR SEDE JUNIO'!$K$5:$K$2604,'[1]CONSOLIDADO POR SEDE JUNIO'!$E$5:$E$2604,'RUBROS JUNIO'!$A12,'[1]CONSOLIDADO POR SEDE JUNIO'!$C$5:$C$2604,'RUBROS JUNIO'!V$5) -> 0 | W12: =SUMIFS('[1]CONSOLIDADO POR SEDE JUNIO'!$K$5:$K$2604,'[1]CONSOLIDADO POR SEDE JUNIO'!$E$5:$E$2604,'RUBROS JUNIO'!$A12,'[1]CONSOLIDADO POR SEDE JUNIO'!$C$5:$C$2604,'RUBROS JUNIO'!W$5) -> 0 | X12: =SUMIFS('[1]CONSOLIDADO POR SEDE JUNIO'!$K$5:$K$2604,'[1]CONSOLIDADO POR SEDE JUNIO'!$E$5:$E$2604,'RUBROS JUNIO'!$A12,'[1]CONSOLIDADO POR SEDE JUNIO'!$C$5:$C$2604,'RUBROS JUNIO'!X$5) -> 0 | Y12: =SUMIFS('[1]CONSOLIDADO POR SEDE JUNIO'!$K$5:$K$2604,'[1]CONSOLIDADO POR SEDE JUNIO'!$E$5:$E$2604,'RUBROS JUNIO'!$A12,'[1]CONSOLIDADO POR SEDE JUNIO'!$C$5:$C$2604,'RUBROS JUNIO'!Y$5) -> 0 | Z12: =SUMIFS('[1]CONSOLIDADO POR SEDE JUNIO'!$K$5:$K$2604,'[1]CONSOLIDADO POR SEDE JUNIO'!$E$5:$E$2604,'RUBROS JUNIO'!$A12,'[1]CONSOLIDADO POR SEDE JUNIO'!$C$5:$C$2604,'RUBROS JUNIO'!Z$5) -> 0 | AA12: =SUMIFS('[1]CONSOLIDADO POR SEDE JUNIO'!$K$5:$K$2604,'[1]CONSOLIDADO POR SEDE JUNIO'!$E$5:$E$2604,'RUBROS JUNIO'!$A12,'[1]CONSOLIDADO POR SEDE JUNIO'!$C$5:$C$2604,'RUBROS JUNIO'!AA$5) -> 0 | ... AF12: =SUMIFS('[1]CONSOLIDADO POR SEDE JUNIO'!$K$5:$K$2604,'[1]CONSOLIDADO POR SEDE JUNIO'!$E$5:$E$2604,'RUBROS JUNIO'!$A12,'[1]CONSOLIDADO POR SEDE JUNIO'!$C$5:$C$2604,'RUBROS JUNIO'!AF$5) -> 0 | AG12: 0 | AH12: =SUMIFS('[1]CONSOLIDADO POR SEDE JUNIO'!$K$5:$K$2604,'[1]CONSOLIDADO POR SEDE JUNIO'!$E$5:$E$2604,'RUBROS JUNIO'!$A12,'[1]CONSOLIDADO POR SEDE JUNIO'!$C$5:$C$2604,'RUBROS JUNIO'!AH$5) -> 0 | AI12: =SUMIFS('[1]CONSOLIDADO POR SEDE JUNIO'!$K$5:$K$2604,'[1]CONSOLIDADO POR SEDE JUNIO'!$E$5:$E$2604,'RUBROS JUNIO'!$A12,'[1]CONSOLIDADO POR SEDE JUNIO'!$C$5:$C$2604,'RUBROS JUNIO'!AI$5) -> 0 | AJ12: =SUMIFS('[1]CONSOLIDADO POR SEDE JUNIO'!$K$5:$K$2604,'[1]CONSOLIDADO POR SEDE JUNIO'!$E$5:$E$2604,'RUBROS JUNIO'!$A12,'[1]CONSOLIDADO POR SEDE JUNIO'!$C$5:$C$2604,'RUBROS JUNIO'!AJ$5) -> 0 | AK12: =SUMIFS('[1]CONSOLIDADO POR SEDE JUNIO'!$K$5:$K$2604,'[1]CONSOLIDADO POR SEDE JUNIO'!$E$5:$E$2604,'RUBROS JUNIO'!$A12,'[1]CONSOLIDADO POR SEDE JUNIO'!$C$5:$C$2604,'RUBROS JUNIO'!AK$5) -> 0 | AL12: =SUMIFS('[1]CONSOLIDADO POR SEDE JUNIO'!$K$5:$K$2604,'[1]CONSOLIDADO POR SEDE JUNIO'!$E$5:$E$2604,'RUBROS JUNIO'!$A12,'[1]CONSOLIDADO POR SEDE JUNIO'!$C$5:$C$2604,'RUBROS JUNIO'!AL$5) -> 0 | AM12: 32283.094 | AN12: =SUMIFS('[1]CONSOLIDADO POR SEDE JUNIO'!$K$5:$K$2604,'[1]CONSOLIDADO POR SEDE JUNIO'!$E$5:$E$2604,'RUBROS JUNIO'!$A12,'[1]CONSOLIDADO POR SEDE JUNIO'!$C$5:$C$2604,'RUBROS JUNIO'!AN$5) -> 179397.57 | AO12: =SUMIFS('[1]CONSOLIDADO POR SEDE JUNIO'!$K$5:$K$2604,'[1]CONSOLIDADO POR SEDE JUNIO'!$E$5:$E$2604,'RUBROS JUNIO'!$A12,'[1]CONSOLIDADO POR SEDE JUNIO'!$C$5:$C$2604,'RUBROS JUNIO'!AO$5) -> 1817.0266 | AP12: =SUMIFS('[1]CONSOLIDADO POR SEDE JUNIO'!$K$5:$K$2604,'[1]CONSOLIDADO POR SEDE JUNIO'!$E$5:$E$2604,'RUBROS JUNIO'!$A12,'[1]CONSOLIDADO POR SEDE JUNIO'!$C$5:$C$2604,'RUBROS JUNIO'!AP$5) -> 0 | AR12: 569178.59 | AS12: 34701564
A13: SEDE 8 - SUPERCADE CALLE 13 | B13: 4222125 | C13: =SUMIFS('[1]CONSOLIDADO POR SEDE JUNIO'!$K$5:$K$2604,'[1]CONSOLIDADO POR SEDE JUNIO'!$E$5:$E$2604,'RUBROS JUNIO'!$A13,'[1]CONSOLIDADO POR SEDE JUNIO'!$C$5:$C$2604,'RUBROS JUNIO'!C$5) -> 0 | D13: =SUMIFS('[1]CONSOLIDADO POR SEDE JUNIO'!$K$5:$K$2604,'[1]CONSOLIDADO POR SEDE JUNIO'!$E$5:$E$2604,'RUBROS JUNIO'!$A13,'[1]CONSOLIDADO POR SEDE JUNIO'!$C$5:$C$2604,'RUBROS JUNIO'!D$5) -> 0 | E13: =SUMIFS('[1]CONSOLIDADO POR SEDE JUNIO'!$K$5:$K$2604,'[1]CONSOLIDADO POR SEDE JUNIO'!$E$5:$E$2604,'RUBROS JUNIO'!$A13,'[1]CONSOLIDADO POR SEDE JUNIO'!$C$5:$C$2604,'RUBROS JUNIO'!E$5) -> 0 | F13: 0 | G13: =SUMIFS('[1]CONSOLIDADO POR SEDE JUNIO'!$K$5:$K$2604,'[1]CONSOLIDADO POR SEDE JUNIO'!$E$5:$E$2604,'RUBROS JUNIO'!$A13,'[1]CONSOLIDADO POR SEDE JUNIO'!$C$5:$C$2604,'RUBROS JUNIO'!G$5) -> 0 | H13: =SUMIFS('[1]CONSOLIDADO POR SEDE JUNIO'!$K$5:$K$2604,'[1]CONSOLIDADO POR SEDE JUNIO'!$E$5:$E$2604,'RUBROS JUNIO'!$A13,'[1]CONSOLIDADO POR SEDE JUNIO'!$C$5:$C$2604,'RUBROS JUNIO'!H$5) -> 0 | I13: 0 | J13: 172372.67 | K13: =SUMIFS('[1]CONSOLIDADO POR SEDE JUNIO'!$K$5:$K$2604,'[1]CONSOLIDADO POR SEDE JUNIO'!$E$5:$E$2604,'RUBROS JUNIO'!$A13,'[1]CONSOLIDADO POR SEDE JUNIO'!$C$5:$C$2604,'RUBROS JUNIO'!K$5) -> 0 | L13: =SUMIFS('[1]CONSOLIDADO POR SEDE JUNIO'!$K$5:$K$2604,'[1]CONSOLIDADO POR SEDE JUNIO'!$E$5:$E$2604,'RUBROS JUNIO'!$A13,'[1]CONSOLIDADO POR SEDE JUNIO'!$C$5:$C$2604,'RUBROS JUNIO'!L$5) -> 0 | M13: =SUMIFS('[1]CONSOLIDADO POR SEDE JUNIO'!$K$5:$K$2604,'[1]CONSOLIDADO POR SEDE JUNIO'!$E$5:$E$2604,'RUBROS JUNIO'!$A13,'[1]CONSOLIDADO POR SEDE JUNIO'!$C$5:$C$2604,'RUBROS JUNIO'!M$5) -> 0 | N13: =SUMIFS('[1]CONSOLIDADO POR SEDE JUNIO'!$K$5:$K$2604,'[1]CONSOLIDADO POR SEDE JUNIO'!$E$5:$E$2604,'RUBROS JUNIO'!$A13,'[1]CONSOLIDADO POR SEDE JUNIO'!$C$5:$C$2604,'RUBROS JUNIO'!N$5) -> 0 | O13: =SUMIFS('[1]CONSOLIDADO POR SEDE JUNIO'!$K$5:$K$2604,'[1]CONSOLIDADO POR SEDE JUNIO'!$E$5:$E$2604,'RUBROS JUNIO'!$A13,'[1]CONSOLIDADO POR SEDE JUNIO'!$C$5:$C$2604,'RUBROS JUNIO'!O$5) -> 0 | P13: =SUMIFS('[1]CONSOLIDADO POR SEDE JUNIO'!$K$5:$K$2604,'[1]CONSOLIDADO POR SEDE JUNIO'!$E$5:$E$2604,'RUBROS JUNIO'!$A13,'[1]CONSOLIDADO POR SEDE JUNIO'!$C$5:$C$2604,'RUBROS JUNIO'!P$5) -> 0 | Q13: 0 | R13: =SUMIFS('[1]CONSOLIDADO POR SEDE JUNIO'!$K$5:$K$2604,'[1]CONSOLIDADO POR SEDE JUNIO'!$E$5:$E$2604,'RUBROS JUNIO'!$A13,'[1]CONSOLIDADO POR SEDE JUNIO'!$C$5:$C$2604,'RUBROS JUNIO'!R$5) -> 0 | S13: 0 | T13: =SUMIFS('[1]CONSOLIDADO POR SEDE JUNIO'!$K$5:$K$2604,'[1]CONSOLIDADO POR SEDE JUNIO'!$E$5:$E$2604,'RUBROS JUNIO'!$A13,'[1]CONSOLIDADO POR SEDE JUNIO'!$C$5:$C$2604,'RUBROS JUNIO'!T$5) -> 0 | U13: =SUMIFS('[1]CONSOLIDADO POR SEDE JUNIO'!$K$5:$K$2604,'[1]CONSOLIDADO POR SEDE JUNIO'!$E$5:$E$2604,'RUBROS JUNIO'!$A13,'[1]CONSOLIDADO POR SEDE JUNIO'!$C$5:$C$2604,'RUBROS JUNIO'!U$5) -> 0 | V13: =SUMIFS('[1]CONSOLIDADO POR SEDE JUNIO'!$K$5:$K$2604,'[1]CONSOLIDADO POR SEDE JUNIO'!$E$5:$E$2604,'RUBROS JUNIO'!$A13,'[1]CONSOLIDADO POR SEDE JUNIO'!$C$5:$C$2604,'RUBROS JUNIO'!V$5) -> 0 | W13: =SUMIFS('[1]CONSOLIDADO POR SEDE JUNIO'!$K$5:$K$2604,'[1]CONSOLIDADO POR SEDE JUNIO'!$E$5:$E$2604,'RUBROS JUNIO'!$A13,'[1]CONSOLIDADO POR SEDE JUNIO'!$C$5:$C$2604,'RUBROS JUNIO'!W$5) -> 0 | X13: =SUMIFS('[1]CONSOLIDADO POR SEDE JUNIO'!$K$5:$K$2604,'[1]CONSOLIDADO POR SEDE JUNIO'!$E$5:$E$2604,'RUBROS JUNIO'!$A13,'[1]CONSOLIDADO POR SEDE JUNIO'!$C$5:$C$2604,'RUBROS JUNIO'!X$5) -> 0 | Y13: =SUMIFS('[1]CONSOLIDADO POR SEDE JUNIO'!$K$5:$K$2604,'[1]CONSOLIDADO POR SEDE JUNIO'!$E$5:$E$2604,'RUBROS JUNIO'!$A13,'[1]CONSOLIDADO POR SEDE JUNIO'!$C$5:$C$2604,'RUBROS JUNIO'!Y$5) -> 0 | Z13: =SUMIFS('[1]CONSOLIDADO POR SEDE JUNIO'!$K$5:$K$2604,'[1]CONSOLIDADO POR SEDE JUNIO'!$E$5:$E$2604,'RUBROS JUNIO'!$A13,'[1]CONSOLIDADO POR SEDE JUNIO'!$C$5:$C$2604,'RUBROS JUNIO'!Z$5) -> 0 | AA13: =SUMIFS('[1]CONSOLIDADO POR SEDE JUNIO'!$K$5:$K$2604,'[1]CONSOLIDADO POR SEDE JUNIO'!$E$5:$E$2604,'RUBROS JUNIO'!$A13,'[1]CONSOLIDADO POR SEDE JUNIO'!$C$5:$C$2604,'RUBROS JUNIO'!AA$5) -> 0 | ... AF13: =SUMIFS('[1]CONSOLIDADO POR SEDE JUNIO'!$K$5:$K$2604,'[1]CONSOLIDADO POR SEDE JUNIO'!$E$5:$E$2604,'RUBROS JUNIO'!$A13,'[1]CONSOLIDADO POR SEDE JUNIO'!$C$5:$C$2604,'RUBROS JUNIO'!AF$5) -> 0 | AG13: 0 | AH13: =SUMIFS('[1]CONSOLIDADO POR SEDE JUNIO'!$K$5:$K$2604,'[1]CONSOLIDADO POR SEDE JUNIO'!$E$5:$E$2604,'RUBROS JUNIO'!$A13,'[1]CONSOLIDADO POR SEDE JUNIO'!$C$5:$C$2604,'RUBROS JUNIO'!AH$5) -> 0 | AI13: =SUMIFS('[1]CONSOLIDADO POR SEDE JUNIO'!$K$5:$K$2604,'[1]CONSOLIDADO POR SEDE JUNIO'!$E$5:$E$2604,'RUBROS JUNIO'!$A13,'[1]CONSOLIDADO POR SEDE JUNIO'!$C$5:$C$2604,'RUBROS JUNIO'!AI$5) -> 0 | AJ13: =SUMIFS('[1]CONSOLIDADO POR SEDE JUNIO'!$K$5:$K$2604,'[1]CONSOLIDADO POR SEDE JUNIO'!$E$5:$E$2604,'RUBROS JUNIO'!$A13,'[1]CONSOLIDADO POR SEDE JUNIO'!$C$5:$C$2604,'RUBROS JUNIO'!AJ$5) -> 0 | AK13: =SUMIFS('[1]CONSOLIDADO POR SEDE JUNIO'!$K$5:$K$2604,'[1]CONSOLIDADO POR SEDE JUNIO'!$E$5:$E$2604,'RUBROS JUNIO'!$A13,'[1]CONSOLIDADO POR SEDE JUNIO'!$C$5:$C$2604,'RUBROS JUNIO'!AK$5) -> 0 | AL13: =SUMIFS('[1]CONSOLIDADO POR SEDE JUNIO'!$K$5:$K$2604,'[1]CONSOLIDADO POR SEDE JUNIO'!$E$5:$E$2604,'RUBROS JUNIO'!$A13,'[1]CONSOLIDADO POR SEDE JUNIO'!$C$5:$C$2604,'RUBROS JUNIO'!AL$5) -> 0 | AM13: 16141.547 | AN13: =SUMIFS('[1]CONSOLIDADO POR SEDE JUNIO'!$K$5:$K$2604,'[1]CONSOLIDADO POR SEDE JUNIO'!$E$5:$E$2604,'RUBROS JUNIO'!$A13,'[1]CONSOLIDADO POR SEDE JUNIO'!$C$5:$C$2604,'RUBROS JUNIO'!AN$5) -> 0 | AO13: =SUMIFS('[1]CONSOLIDADO POR SEDE JUNIO'!$K$5:$K$2604,'[1]CONSOLIDADO POR SEDE JUNIO'!$E$5:$E$2604,'RUBROS JUNIO'!$A13,'[1]CONSOLIDADO POR SEDE JUNIO'!$C$5:$C$2604,'RUBROS JUNIO'!AO$5) -> 0 | AP13: =SUMIFS('[1]CONSOLIDADO POR SEDE JUNIO'!$K$5:$K$2604,'[1]CONSOLIDADO POR SEDE JUNIO'!$E$5:$E$2604,'RUBROS JUNIO'!$A13,'[1]CONSOLIDADO POR SEDE JUNIO'!$C$5:$C$2604,'RUBROS JUNIO'!AP$5) -> 0 | AR13: 569178.59 | AS13: 11697156
A14: SEDE 9 - SUPERCADE 20 DE JULIO | B14: 4222124 | C14: =SUMIFS('[1]CONSOLIDADO POR SEDE JUNIO'!$K$5:$K$2604,'[1]CONSOLIDADO POR SEDE JUNIO'!$E$5:$E$2604,'RUBROS JUNIO'!$A14,'[1]CONSOLIDADO POR SEDE JUNIO'!$C$5:$C$2604,'RUBROS JUNIO'!C$5) -> 0 | D14: =SUMIFS('[1]CONSOLIDADO POR SEDE JUNIO'!$K$5:$K$2604,'[1]CONSOLIDADO POR SEDE JUNIO'!$E$5:$E$2604,'RUBROS JUNIO'!$A14,'[1]CONSOLIDADO POR SEDE JUNIO'!$C$5:$C$2604,'RUBROS JUNIO'!D$5) -> 0 | E14: =SUMIFS('[1]CONSOLIDADO POR SEDE JUNIO'!$K$5:$K$2604,'[1]CONSOLIDADO POR SEDE JUNIO'!$E$5:$E$2604,'RUBROS JUNIO'!$A14,'[1]CONSOLIDADO POR SEDE JUNIO'!$C$5:$C$2604,'RUBROS JUNIO'!E$5) -> 0 | F14: 0 | G14: =SUMIFS('[1]CONSOLIDADO POR SEDE JUNIO'!$K$5:$K$2604,'[1]CONSOLIDADO POR SEDE JUNIO'!$E$5:$E$2604,'RUBROS JUNIO'!$A14,'[1]CONSOLIDADO POR SEDE JUNIO'!$C$5:$C$2604,'RUBROS JUNIO'!G$5) -> 0 | H14: =SUMIFS('[1]CONSOLIDADO POR SEDE JUNIO'!$K$5:$K$2604,'[1]CONSOLIDADO POR SEDE JUNIO'!$E$5:$E$2604,'RUBROS JUNIO'!$A14,'[1]CONSOLIDADO POR SEDE JUNIO'!$C$5:$C$2604,'RUBROS JUNIO'!H$5) -> 0 | I14: 0 | J14: 704563.65 | K14: =SUMIFS('[1]CONSOLIDADO POR SEDE JUNIO'!$K$5:$K$2604,'[1]CONSOLIDADO POR SEDE JUNIO'!$E$5:$E$2604,'RUBROS JUNIO'!$A14,'[1]CONSOLIDADO POR SEDE JUNIO'!$C$5:$C$2604,'RUBROS JUNIO'!K$5) -> 0 | L14: =SUMIFS('[1]CONSOLIDADO POR SEDE JUNIO'!$K$5:$K$2604,'[1]CONSOLIDADO POR SEDE JUNIO'!$E$5:$E$2604,'RUBROS JUNIO'!$A14,'[1]CONSOLIDADO POR SEDE JUNIO'!$C$5:$C$2604,'RUBROS JUNIO'!L$5) -> 0 | M14: =SUMIFS('[1]CONSOLIDADO POR SEDE JUNIO'!$K$5:$K$2604,'[1]CONSOLIDADO POR SEDE JUNIO'!$E$5:$E$2604,'RUBROS JUNIO'!$A14,'[1]CONSOLIDADO POR SEDE JUNIO'!$C$5:$C$2604,'RUBROS JUNIO'!M$5) -> 0 | N14: =SUMIFS('[1]CONSOLIDADO POR SEDE JUNIO'!$K$5:$K$2604,'[1]CONSOLIDADO POR SEDE JUNIO'!$E$5:$E$2604,'RUBROS JUNIO'!$A14,'[1]CONSOLIDADO POR SEDE JUNIO'!$C$5:$C$2604,'RUBROS JUNIO'!N$5) -> 0 | O14: =SUMIFS('[1]CONSOLIDADO POR SEDE JUNIO'!$K$5:$K$2604,'[1]CONSOLIDADO POR SEDE JUNIO'!$E$5:$E$2604,'RUBROS JUNIO'!$A14,'[1]CONSOLIDADO POR SEDE JUNIO'!$C$5:$C$2604,'RUBROS JUNIO'!O$5) -> 0 | P14: =SUMIFS('[1]CONSOLIDADO POR SEDE JUNIO'!$K$5:$K$2604,'[1]CONSOLIDADO POR SEDE JUNIO'!$E$5:$E$2604,'RUBROS JUNIO'!$A14,'[1]CONSOLIDADO POR SEDE JUNIO'!$C$5:$C$2604,'RUBROS JUNIO'!P$5) -> 0 | Q14: 384168.82 | R14: =SUMIFS('[1]CONSOLIDADO POR SEDE JUNIO'!$K$5:$K$2604,'[1]CONSOLIDADO POR SEDE JUNIO'!$E$5:$E$2604,'RUBROS JUNIO'!$A14,'[1]CONSOLIDADO POR SEDE JUNIO'!$C$5:$C$2604,'RUBROS JUNIO'!R$5) -> 0 | S14: 0 | T14: =SUMIFS('[1]CONSOLIDADO POR SEDE JUNIO'!$K$5:$K$2604,'[1]CONSOLIDADO POR SEDE JUNIO'!$E$5:$E$2604,'RUBROS JUNIO'!$A14,'[1]CONSOLIDADO POR SEDE JUNIO'!$C$5:$C$2604,'RUBROS JUNIO'!T$5) -> 0 | U14: =SUMIFS('[1]CONSOLIDADO POR SEDE JUNIO'!$K$5:$K$2604,'[1]CONSOLIDADO POR SEDE JUNIO'!$E$5:$E$2604,'RUBROS JUNIO'!$A14,'[1]CONSOLIDADO POR SEDE JUNIO'!$C$5:$C$2604,'RUBROS JUNIO'!U$5) -> 0 | V14: =SUMIFS('[1]CONSOLIDADO POR SEDE JUNIO'!$K$5:$K$2604,'[1]CONSOLIDADO POR SEDE JUNIO'!$E$5:$E$2604,'RUBROS JUNIO'!$A14,'[1]CONSOLIDADO POR SEDE JUNIO'!$C$5:$C$2604,'RUBROS JUNIO'!V$5) -> 0 | W14: =SUMIFS('[1]CONSOLIDADO POR SEDE JUNIO'!$K$5:$K$2604,'[1]CONSOLIDADO POR SEDE JUNIO'!$E$5:$E$2604,'RUBROS JUNIO'!$A14,'[1]CONSOLIDADO POR SEDE JUNIO'!$C$5:$C$2604,'RUBROS JUNIO'!W$5) -> 0 | X14: =SUMIFS('[1]CONSOLIDADO POR SEDE JUNIO'!$K$5:$K$2604,'[1]CONSOLIDADO POR SEDE JUNIO'!$E$5:$E$2604,'RUBROS JUNIO'!$A14,'[1]CONSOLIDADO POR SEDE JUNIO'!$C$5:$C$2604,'RUBROS JUNIO'!X$5) -> 0 | Y14: =SUMIFS('[1]CONSOLIDADO POR SEDE JUNIO'!$K$5:$K$2604,'[1]CONSOLIDADO POR SEDE JUNIO'!$E$5:$E$2604,'RUBROS JUNIO'!$A14,'[1]CONSOLIDADO POR SEDE JUNIO'!$C$5:$C$2604,'RUBROS JUNIO'!Y$5) -> 0 | Z14: =SUMIFS('[1]CONSOLIDADO POR SEDE JUNIO'!$K$5:$K$2604,'[1]CONSOLIDADO POR SEDE JUNIO'!$E$5:$E$2604,'RUBROS JUNIO'!$A14,'[1]CONSOLIDADO POR SEDE JUNIO'!$C$5:$C$2604,'RUBROS JUNIO'!Z$5) -> 0 | AA14: =SUMIFS('[1]CONSOLIDADO POR SEDE JUNIO'!$K$5:$K$2604,'[1]CONSOLIDADO POR SEDE JUNIO'!$E$5:$E$2604,'RUBROS JUNIO'!$A14,'[1]CONSOLIDADO POR SEDE JUNIO'!$C$5:$C$2604,'RUBROS JUNIO'!AA$5) -> 0 | ... AF14: =SUMIFS('[1]CONSOLIDADO POR SEDE JUNIO'!$K$5:$K$2604,'[1]CONSOLIDADO POR SEDE JUNIO'!$E$5:$E$2604,'RUBROS JUNIO'!$A14,'[1]CONSOLIDADO POR SEDE JUNIO'!$C$5:$C$2604,'RUBROS JUNIO'!AF$5) -> 0 | AG14: 0 | AH14: =SUMIFS('[1]CONSOLIDADO POR SEDE JUNIO'!$K$5:$K$2604,'[1]CONSOLIDADO POR SEDE JUNIO'!$E$5:$E$2604,'RUBROS JUNIO'!$A14,'[1]CONSOLIDADO POR SEDE JUNIO'!$C$5:$C$2604,'RUBROS JUNIO'!AH$5) -> 0 | AI14: =SUMIFS('[1]CONSOLIDADO POR SEDE JUNIO'!$K$5:$K$2604,'[1]CONSOLIDADO POR SEDE JUNIO'!$E$5:$E$2604,'RUBROS JUNIO'!$A14,'[1]CONSOLIDADO POR SEDE JUNIO'!$C$5:$C$2604,'RUBROS JUNIO'!AI$5) -> 0 | AJ14: =SUMIFS('[1]CONSOLIDADO POR SEDE JUNIO'!$K$5:$K$2604,'[1]CONSOLIDADO POR SEDE JUNIO'!$E$5:$E$2604,'RUBROS JUNIO'!$A14,'[1]CONSOLIDADO POR SEDE JUNIO'!$C$5:$C$2604,'RUBROS JUNIO'!AJ$5) -> 0 | AK14: =SUMIFS('[1]CONSOLIDADO POR SEDE JUNIO'!$K$5:$K$2604,'[1]CONSOLIDADO POR SEDE JUNIO'!$E$5:$E$2604,'RUBROS JUNIO'!$A14,'[1]CONSOLIDADO POR SEDE JUNIO'!$C$5:$C$2604,'RUBROS JUNIO'!AK$5) -> 0 | AL14: =SUMIFS('[1]CONSOLIDADO POR SEDE JUNIO'!$K$5:$K$2604,'[1]CONSOLIDADO POR SEDE JUNIO'!$E$5:$E$2604,'RUBROS JUNIO'!$A14,'[1]CONSOLIDADO POR SEDE JUNIO'!$C$5:$C$2604,'RUBROS JUNIO'!AL$5) -> 0 | AM14: 8070.7735 | AN14: =SUMIFS('[1]CONSOLIDADO POR SEDE JUNIO'!$K$5:$K$2604,'[1]CONSOLIDADO POR SEDE JUNIO'!$E$5:$E$2604,'RUBROS JUNIO'!$A14,'[1]CONSOLIDADO POR SEDE JUNIO'!$C$5:$C$2604,'RUBROS JUNIO'!AN$5) -> 0 | AO14: =SUMIFS('[1]CONSOLIDADO POR SEDE JUNIO'!$K$5:$K$2604,'[1]CONSOLIDADO POR SEDE JUNIO'!$E$5:$E$2604,'RUBROS JUNIO'!$A14,'[1]CONSOLIDADO POR SEDE JUNIO'!$C$5:$C$2604,'RUBROS JUNIO'!AO$5) -> 2363.8987 | AP14: =SUMIFS('[1]CONSOLIDADO POR SEDE JUNIO'!$K$5:$K$2604,'[1]CONSOLIDADO POR SEDE JUNIO'!$E$5:$E$2604,'RUBROS JUNIO'!$A14,'[1]CONSOLIDADO POR SEDE JUNIO'!$C$5:$C$2604,'RUBROS JUNIO'!AP$5) -> 0 | AR14: 569178.59 | AS14: 31192417
A15: SEDE 10 - SUPERCADE MANITAS | B15: 4222138 | C15: =SUMIFS('[1]CONSOLIDADO POR SEDE JUNIO'!$K$5:$K$2604,'[1]CONSOLIDADO POR SEDE JUNIO'!$E$5:$E$2604,'RUBROS JUNIO'!$A15,'[1]CONSOLIDADO POR SEDE JUNIO'!$C$5:$C$2604,'RUBROS JUNIO'!C$5) -> 0 | D15: =SUMIFS('[1]CONSOLIDADO POR SEDE JUNIO'!$K$5:$K$2604,'[1]CONSOLIDADO POR SEDE JUNIO'!$E$5:$E$2604,'RUBROS JUNIO'!$A15,'[1]CONSOLIDADO POR SEDE JUNIO'!$C$5:$C$2604,'RUBROS JUNIO'!D$5) -> 0 | E15: =SUMIFS('[1]CONSOLIDADO POR SEDE JUNIO'!$K$5:$K$2604,'[1]CONSOLIDADO POR SEDE JUNIO'!$E$5:$E$2604,'RUBROS JUNIO'!$A15,'[1]CONSOLIDADO POR SEDE JUNIO'!$C$5:$C$2604,'RUBROS JUNIO'!E$5) -> 0 | F15: 0 | G15: =SUMIFS('[1]CONSOLIDADO POR SEDE JUNIO'!$K$5:$K$2604,'[1]CONSOLIDADO POR SEDE JUNIO'!$E$5:$E$2604,'RUBROS JUNIO'!$A15,'[1]CONSOLIDADO POR SEDE JUNIO'!$C$5:$C$2604,'RUBROS JUNIO'!G$5) -> 0 | H15: =SUMIFS('[1]CONSOLIDADO POR SEDE JUNIO'!$K$5:$K$2604,'[1]CONSOLIDADO POR SEDE JUNIO'!$E$5:$E$2604,'RUBROS JUNIO'!$A15,'[1]CONSOLIDADO POR SEDE JUNIO'!$C$5:$C$2604,'RUBROS JUNIO'!H$5) -> 0 | I15: 0 | J15: 406989.26 | K15: =SUMIFS('[1]CONSOLIDADO POR SEDE JUNIO'!$K$5:$K$2604,'[1]CONSOLIDADO POR SEDE JUNIO'!$E$5:$E$2604,'RUBROS JUNIO'!$A15,'[1]CONSOLIDADO POR SEDE JUNIO'!$C$5:$C$2604,'RUBROS JUNIO'!K$5) -> 0 | L15: =SUMIFS('[1]CONSOLIDADO POR SEDE JUNIO'!$K$5:$K$2604,'[1]CONSOLIDADO POR SEDE JUNIO'!$E$5:$E$2604,'RUBROS JUNIO'!$A15,'[1]CONSOLIDADO POR SEDE JUNIO'!$C$5:$C$2604,'RUBROS JUNIO'!L$5) -> 0 | M15: =SUMIFS('[1]CONSOLIDADO POR SEDE JUNIO'!$K$5:$K$2604,'[1]CONSOLIDADO POR SEDE JUNIO'!$E$5:$E$2604,'RUBROS JUNIO'!$A15,'[1]CONSOLIDADO POR SEDE JUNIO'!$C$5:$C$2604,'RUBROS JUNIO'!M$5) -> 0 | N15: =SUMIFS('[1]CONSOLIDADO POR SEDE JUNIO'!$K$5:$K$2604,'[1]CONSOLIDADO POR SEDE JUNIO'!$E$5:$E$2604,'RUBROS JUNIO'!$A15,'[1]CONSOLIDADO POR SEDE JUNIO'!$C$5:$C$2604,'RUBROS JUNIO'!N$5) -> 0 | O15: =SUMIFS('[1]CONSOLIDADO POR SEDE JUNIO'!$K$5:$K$2604,'[1]CONSOLIDADO POR SEDE JUNIO'!$E$5:$E$2604,'RUBROS JUNIO'!$A15,'[1]CONSOLIDADO POR SEDE JUNIO'!$C$5:$C$2604,'RUBROS JUNIO'!O$5) -> 0 | P15: =SUMIFS('[1]CONSOLIDADO POR SEDE JUNIO'!$K$5:$K$2604,'[1]CONSOLIDADO POR SEDE JUNIO'!$E$5:$E$2604,'RUBROS JUNIO'!$A15,'[1]CONSOLIDADO POR SEDE JUNIO'!$C$5:$C$2604,'RUBROS JUNIO'!P$5) -> 0 | Q15: 76833.764 | R15: 0 | S15: 154653.07 | T15: =SUMIFS('[1]CONSOLIDADO POR SEDE JUNIO'!$K$5:$K$2604,'[1]CONSOLIDADO POR SEDE JUNIO'!$E$5:$E$2604,'RUBROS JUNIO'!$A15,'[1]CONSOLIDADO POR SEDE JUNIO'!$C$5:$C$2604,'RUBROS JUNIO'!T$5) -> 0 | U15: =SUMIFS('[1]CONSOLIDADO POR SEDE JUNIO'!$K$5:$K$2604,'[1]CONSOLIDADO POR SEDE JUNIO'!$E$5:$E$2604,'RUBROS JUNIO'!$A15,'[1]CONSOLIDADO POR SEDE JUNIO'!$C$5:$C$2604,'RUBROS JUNIO'!U$5) -> 0 | V15: =SUMIFS('[1]CONSOLIDADO POR SEDE JUNIO'!$K$5:$K$2604,'[1]CONSOLIDADO POR SEDE JUNIO'!$E$5:$E$2604,'RUBROS JUNIO'!$A15,'[1]CONSOLIDADO POR SEDE JUNIO'!$C$5:$C$2604,'RUBROS JUNIO'!V$5) -> 0 | W15: =SUMIFS('[1]CONSOLIDADO POR SEDE JUNIO'!$K$5:$K$2604,'[1]CONSOLIDADO POR SEDE JUNIO'!$E$5:$E$2604,'RUBROS JUNIO'!$A15,'[1]CONSOLIDADO POR SEDE JUNIO'!$C$5:$C$2604,'RUBROS JUNIO'!W$5) -> 0 | X15: =SUMIFS('[1]CONSOLIDADO POR SEDE JUNIO'!$K$5:$K$2604,'[1]CONSOLIDADO POR SEDE JUNIO'!$E$5:$E$2604,'RUBROS JUNIO'!$A15,'[1]CONSOLIDADO POR SEDE JUNIO'!$C$5:$C$2604,'RUBROS JUNIO'!X$5) -> 0 | Y15: =SUMIFS('[1]CONSOLIDADO POR SEDE JUNIO'!$K$5:$K$2604,'[1]CONSOLIDADO POR SEDE JUNIO'!$E$5:$E$2604,'RUBROS JUNIO'!$A15,'[1]CONSOLIDADO POR SEDE JUNIO'!$C$5:$C$2604,'RUBROS JUNIO'!Y$5) -> 0 | Z15: =SUMIFS('[1]CONSOLIDADO POR SEDE JUNIO'!$K$5:$K$2604,'[1]CONSOLIDADO POR SEDE JUNIO'!$E$5:$E$2604,'RUBROS JUNIO'!$A15,'[1]CONSOLIDADO POR SEDE JUNIO'!$C$5:$C$2604,'RUBROS JUNIO'!Z$5) -> 0 | AA15: =SUMIFS('[1]CONSOLIDADO POR SEDE JUNIO'!$K$5:$K$2604,'[1]CONSOLIDADO POR SEDE JUNIO'!$E$5:$E$2604,'RUBROS JUNIO'!$A15,'[1]CONSOLIDADO POR SEDE JUNIO'!$C$5:$C$2604,'RUBROS JUNIO'!AA$5) -> 0 | ... AF15: =SUMIFS('[1]CONSOLIDADO POR SEDE JUNIO'!$K$5:$K$2604,'[1]CONSOLIDADO POR SEDE JUNIO'!$E$5:$E$2604,'RUBROS JUNIO'!$A15,'[1]CONSOLIDADO POR SEDE JUNIO'!$C$5:$C$2604,'RUBROS JUNIO'!AF$5) -> 0 | AG15: 0 | AH15: =SUMIFS('[1]CONSOLIDADO POR SEDE JUNIO'!$K$5:$K$2604,'[1]CONSOLIDADO POR SEDE JUNIO'!$E$5:$E$2604,'RUBROS JUNIO'!$A15,'[1]CONSOLIDADO POR SEDE JUNIO'!$C$5:$C$2604,'RUBROS JUNIO'!AH$5) -> 0 | AI15: =SUMIFS('[1]CONSOLIDADO POR SEDE JUNIO'!$K$5:$K$2604,'[1]CONSOLIDADO POR SEDE JUNIO'!$E$5:$E$2604,'RUBROS JUNIO'!$A15,'[1]CONSOLIDADO POR SEDE JUNIO'!$C$5:$C$2604,'RUBROS JUNIO'!AI$5) -> 0 | AJ15: =SUMIFS('[1]CONSOLIDADO POR SEDE JUNIO'!$K$5:$K$2604,'[1]CONSOLIDADO POR SEDE JUNIO'!$E$5:$E$2604,'RUBROS JUNIO'!$A15,'[1]CONSOLIDADO POR SEDE JUNIO'!$C$5:$C$2604,'RUBROS JUNIO'!AJ$5) -> 0 | AK15: =SUMIFS('[1]CONSOLIDADO POR SEDE JUNIO'!$K$5:$K$2604,'[1]CONSOLIDADO POR SEDE JUNIO'!$E$5:$E$2604,'RUBROS JUNIO'!$A15,'[1]CONSOLIDADO POR SEDE JUNIO'!$C$5:$C$2604,'RUBROS JUNIO'!AK$5) -> 0 | AL15: =SUMIFS('[1]CONSOLIDADO POR SEDE JUNIO'!$K$5:$K$2604,'[1]CONSOLIDADO POR SEDE JUNIO'!$E$5:$E$2604,'RUBROS JUNIO'!$A15,'[1]CONSOLIDADO POR SEDE JUNIO'!$C$5:$C$2604,'RUBROS JUNIO'!AL$5) -> 0 | AM15: 8044.312 | AN15: =SUMIFS('[1]CONSOLIDADO POR SEDE JUNIO'!$K$5:$K$2604,'[1]CONSOLIDADO POR SEDE JUNIO'!$E$5:$E$2604,'RUBROS JUNIO'!$A15,'[1]CONSOLIDADO POR SEDE JUNIO'!$C$5:$C$2604,'RUBROS JUNIO'!AN$5) -> 0 | AO15: =SUMIFS('[1]CONSOLIDADO POR SEDE JUNIO'!$K$5:$K$2604,'[1]CONSOLIDADO POR SEDE JUNIO'!$E$5:$E$2604,'RUBROS JUNIO'!$A15,'[1]CONSOLIDADO POR SEDE JUNIO'!$C$5:$C$2604,'RUBROS JUNIO'!AO$5) -> 12248.759 | AP15: 0 | AR15: 702230.8 | AS15: 46008815
A16: SEDE 11 - SUPERCADE SUBA | B16: 4222121 | C16: =SUMIFS('[1]CONSOLIDADO POR SEDE JUNIO'!$K$5:$K$2604,'[1]CONSOLIDADO POR SEDE JUNIO'!$E$5:$E$2604,'RUBROS JUNIO'!$A16,'[1]CONSOLIDADO POR SEDE JUNIO'!$C$5:$C$2604,'RUBROS JUNIO'!C$5) -> 0 | D16: =SUMIFS('[1]CONSOLIDADO POR SEDE JUNIO'!$K$5:$K$2604,'[1]CONSOLIDADO POR SEDE JUNIO'!$E$5:$E$2604,'RUBROS JUNIO'!$A16,'[1]CONSOLIDADO POR SEDE JUNIO'!$C$5:$C$2604,'RUBROS JUNIO'!D$5) -> 0 | E16: =SUMIFS('[1]CONSOLIDADO POR SEDE JUNIO'!$K$5:$K$2604,'[1]CONSOLIDADO POR SEDE JUNIO'!$E$5:$E$2604,'RUBROS JUNIO'!$A16,'[1]CONSOLIDADO POR SEDE JUNIO'!$C$5:$C$2604,'RUBROS JUNIO'!E$5) -> 0 | F16: 0 | G16: =SUMIFS('[1]CONSOLIDADO POR SEDE JUNIO'!$K$5:$K$2604,'[1]CONSOLIDADO POR SEDE JUNIO'!$E$5:$E$2604,'RUBROS JUNIO'!$A16,'[1]CONSOLIDADO POR SEDE JUNIO'!$C$5:$C$2604,'RUBROS JUNIO'!G$5) -> 0 | H16: =SUMIFS('[1]CONSOLIDADO POR SEDE JUNIO'!$K$5:$K$2604,'[1]CONSOLIDADO POR SEDE JUNIO'!$E$5:$E$2604,'RUBROS JUNIO'!$A16,'[1]CONSOLIDADO POR SEDE JUNIO'!$C$5:$C$2604,'RUBROS JUNIO'!H$5) -> 0 | I16: 0 | J16: 1302357.2 | K16: =SUMIFS('[1]CONSOLIDADO POR SEDE JUNIO'!$K$5:$K$2604,'[1]CONSOLIDADO POR SEDE JUNIO'!$E$5:$E$2604,'RUBROS JUNIO'!$A16,'[1]CONSOLIDADO POR SEDE JUNIO'!$C$5:$C$2604,'RUBROS JUNIO'!K$5) -> 0 | L16: =SUMIFS('[1]CONSOLIDADO POR SEDE JUNIO'!$K$5:$K$2604,'[1]CONSOLIDADO POR SEDE JUNIO'!$E$5:$E$2604,'RUBROS JUNIO'!$A16,'[1]CONSOLIDADO POR SEDE JUNIO'!$C$5:$C$2604,'RUBROS JUNIO'!L$5) -> 0 | M16: =SUMIFS('[1]CONSOLIDADO POR SEDE JUNIO'!$K$5:$K$2604,'[1]CONSOLIDADO POR SEDE JUNIO'!$E$5:$E$2604,'RUBROS JUNIO'!$A16,'[1]CONSOLIDADO POR SEDE JUNIO'!$C$5:$C$2604,'RUBROS JUNIO'!M$5) -> 0 | N16: =SUMIFS('[1]CONSOLIDADO POR SEDE JUNIO'!$K$5:$K$2604,'[1]CONSOLIDADO POR SEDE JUNIO'!$E$5:$E$2604,'RUBROS JUNIO'!$A16,'[1]CONSOLIDADO POR SEDE JUNIO'!$C$5:$C$2604,'RUBROS JUNIO'!N$5) -> 0 | O16: =SUMIFS('[1]CONSOLIDADO POR SEDE JUNIO'!$K$5:$K$2604,'[1]CONSOLIDADO POR SEDE JUNIO'!$E$5:$E$2604,'RUBROS JUNIO'!$A16,'[1]CONSOLIDADO POR SEDE JUNIO'!$C$5:$C$2604,'RUBROS JUNIO'!O$5) -> 0 | P16: =SUMIFS('[1]CONSOLIDADO POR SEDE JUNIO'!$K$5:$K$2604,'[1]CONSOLIDADO POR SEDE JUNIO'!$E$5:$E$2604,'RUBROS JUNIO'!$A16,'[1]CONSOLIDADO POR SEDE JUNIO'!$C$5:$C$2604,'RUBROS JUNIO'!P$5) -> 0 | Q16: 614670.11 | R16: =SUMIFS('[1]CONSOLIDADO POR SEDE JUNIO'!$K$5:$K$2604,'[1]CONSOLIDADO POR SEDE JUNIO'!$E$5:$E$2604,'RUBROS JUNIO'!$A16,'[1]CONSOLIDADO POR SEDE JUNIO'!$C$5:$C$2604,'RUBROS JUNIO'!R$5) -> 0 | S16: 0 | T16: =SUMIFS('[1]CONSOLIDADO POR SEDE JUNIO'!$K$5:$K$2604,'[1]CONSOLIDADO POR SEDE JUNIO'!$E$5:$E$2604,'RUBROS JUNIO'!$A16,'[1]CONSOLIDADO POR SEDE JUNIO'!$C$5:$C$2604,'RUBROS JUNIO'!T$5) -> 0 | U16: =SUMIFS('[1]CONSOLIDADO POR SEDE JUNIO'!$K$5:$K$2604,'[1]CONSOLIDADO POR SEDE JUNIO'!$E$5:$E$2604,'RUBROS JUNIO'!$A16,'[1]CONSOLIDADO POR SEDE JUNIO'!$C$5:$C$2604,'RUBROS JUNIO'!U$5) -> 0 | V16: =SUMIFS('[1]CONSOLIDADO POR SEDE JUNIO'!$K$5:$K$2604,'[1]CONSOLIDADO POR SEDE JUNIO'!$E$5:$E$2604,'RUBROS JUNIO'!$A16,'[1]CONSOLIDADO POR SEDE JUNIO'!$C$5:$C$2604,'RUBROS JUNIO'!V$5) -> 0 | W16: =SUMIFS('[1]CONSOLIDADO POR SEDE JUNIO'!$K$5:$K$2604,'[1]CONSOLIDADO POR SEDE JUNIO'!$E$5:$E$2604,'RUBROS JUNIO'!$A16,'[1]CONSOLIDADO POR SEDE JUNIO'!$C$5:$C$2604,'RUBROS JUNIO'!W$5) -> 0 | X16: =SUMIFS('[1]CONSOLIDADO POR SEDE JUNIO'!$K$5:$K$2604,'[1]CONSOLIDADO POR SEDE JUNIO'!$E$5:$E$2604,'RUBROS JUNIO'!$A16,'[1]CONSOLIDADO POR SEDE JUNIO'!$C$5:$C$2604,'RUBROS JUNIO'!X$5) -> 0 | Y16: =SUMIFS('[1]CONSOLIDADO POR SEDE JUNIO'!$K$5:$K$2604,'[1]CONSOLIDADO POR SEDE JUNIO'!$E$5:$E$2604,'RUBROS JUNIO'!$A16,'[1]CONSOLIDADO POR SEDE JUNIO'!$C$5:$C$2604,'RUBROS JUNIO'!Y$5) -> 0 | Z16: =SUMIFS('[1]CONSOLIDADO POR SEDE JUNIO'!$K$5:$K$2604,'[1]CONSOLIDADO POR SEDE JUNIO'!$E$5:$E$2604,'RUBROS JUNIO'!$A16,'[1]CONSOLIDADO POR SEDE JUNIO'!$C$5:$C$2604,'RUBROS JUNIO'!Z$5) -> 0 | AA16: =SUMIFS('[1]CONSOLIDADO POR SEDE JUNIO'!$K$5:$K$2604,'[1]CONSOLIDADO POR SEDE JUNIO'!$E$5:$E$2604,'RUBROS JUNIO'!$A16,'[1]CONSOLIDADO POR SEDE JUNIO'!$C$5:$C$2604,'RUBROS JUNIO'!AA$5) -> 0 | ... AF16: =SUMIFS('[1]CONSOLIDADO POR SEDE JUNIO'!$K$5:$K$2604,'[1]CONSOLIDADO POR SEDE JUNIO'!$E$5:$E$2604,'RUBROS JUNIO'!$A16,'[1]CONSOLIDADO POR SEDE JUNIO'!$C$5:$C$2604,'RUBROS JUNIO'!AF$5) -> 0 | AG16: 0 | AH16: =SUMIFS('[1]CONSOLIDADO POR SEDE JUNIO'!$K$5:$K$2604,'[1]CONSOLIDADO POR SEDE JUNIO'!$E$5:$E$2604,'RUBROS JUNIO'!$A16,'[1]CONSOLIDADO POR SEDE JUNIO'!$C$5:$C$2604,'RUBROS JUNIO'!AH$5) -> 0 | AI16: =SUMIFS('[1]CONSOLIDADO POR SEDE JUNIO'!$K$5:$K$2604,'[1]CONSOLIDADO POR SEDE JUNIO'!$E$5:$E$2604,'RUBROS JUNIO'!$A16,'[1]CONSOLIDADO POR SEDE JUNIO'!$C$5:$C$2604,'RUBROS JUNIO'!AI$5) -> 0 | AJ16: =SUMIFS('[1]CONSOLIDADO POR SEDE JUNIO'!$K$5:$K$2604,'[1]CONSOLIDADO POR SEDE JUNIO'!$E$5:$E$2604,'RUBROS JUNIO'!$A16,'[1]CONSOLIDADO POR SEDE JUNIO'!$C$5:$C$2604,'RUBROS JUNIO'!AJ$5) -> 0 | AK16: =SUMIFS('[1]CONSOLIDADO POR SEDE JUNIO'!$K$5:$K$2604,'[1]CONSOLIDADO POR SEDE JUNIO'!$E$5:$E$2604,'RUBROS JUNIO'!$A16,'[1]CONSOLIDADO POR SEDE JUNIO'!$C$5:$C$2604,'RUBROS JUNIO'!AK$5) -> 0 | AL16: =SUMIFS('[1]CONSOLIDADO POR SEDE JUNIO'!$K$5:$K$2604,'[1]CONSOLIDADO POR SEDE JUNIO'!$E$5:$E$2604,'RUBROS JUNIO'!$A16,'[1]CONSOLIDADO POR SEDE JUNIO'!$C$5:$C$2604,'RUBROS JUNIO'!AL$5) -> 0 | AM16: 16141.547 | AN16: =SUMIFS('[1]CONSOLIDADO POR SEDE JUNIO'!$K$5:$K$2604,'[1]CONSOLIDADO POR SEDE JUNIO'!$E$5:$E$2604,'RUBROS JUNIO'!$A16,'[1]CONSOLIDADO POR SEDE JUNIO'!$C$5:$C$2604,'RUBROS JUNIO'!AN$5) -> 0 | AO16: =SUMIFS('[1]CONSOLIDADO POR SEDE JUNIO'!$K$5:$K$2604,'[1]CONSOLIDADO POR SEDE JUNIO'!$E$5:$E$2604,'RUBROS JUNIO'!$A16,'[1]CONSOLIDADO POR SEDE JUNIO'!$C$5:$C$2604,'RUBROS JUNIO'!AO$5) -> 0 | AP16: =SUMIFS('[1]CONSOLIDADO POR SEDE JUNIO'!$K$5:$K$2604,'[1]CONSOLIDADO POR SEDE JUNIO'!$E$5:$E$2604,'RUBROS JUNIO'!$A16,'[1]CONSOLIDADO POR SEDE JUNIO'!$C$5:$C$2604,'RUBROS JUNIO'!AP$5) -> 0 | AR16: 569178.59 | AS16: 53936887
A17: SEDE 12 - SUPERCADE SOCIAL | B17: 4222135 | C17: =SUMIFS('[1]CONSOLIDADO POR SEDE JUNIO'!$K$5:$K$2604,'[1]CONSOLIDADO POR SEDE JUNIO'!$E$5:$E$2604,'RUBROS JUNIO'!$A17,'[1]CONSOLIDADO POR SEDE JUNIO'!$C$5:$C$2604,'RUBROS JUNIO'!C$5) -> 0 | D17: =SUMIFS('[1]CONSOLIDADO POR SEDE JUNIO'!$K$5:$K$2604,'[1]CONSOLIDADO POR SEDE JUNIO'!$E$5:$E$2604,'RUBROS JUNIO'!$A17,'[1]CONSOLIDADO POR SEDE JUNIO'!$C$5:$C$2604,'RUBROS JUNIO'!D$5) -> 0 | E17: =SUMIFS('[1]CONSOLIDADO POR SEDE JUNIO'!$K$5:$K$2604,'[1]CONSOLIDADO POR SEDE JUNIO'!$E$5:$E$2604,'RUBROS JUNIO'!$A17,'[1]CONSOLIDADO POR SEDE JUNIO'!$C$5:$C$2604,'RUBROS JUNIO'!E$5) -> 0 | F17: 0 | G17: =SUMIFS('[1]CONSOLIDADO POR SEDE JUNIO'!$K$5:$K$2604,'[1]CONSOLIDADO POR SEDE JUNIO'!$E$5:$E$2604,'RUBROS JUNIO'!$A17,'[1]CONSOLIDADO POR SEDE JUNIO'!$C$5:$C$2604,'RUBROS JUNIO'!G$5) -> 0 | H17: =SUMIFS('[1]CONSOLIDADO POR SEDE JUNIO'!$K$5:$K$2604,'[1]CONSOLIDADO POR SEDE JUNIO'!$E$5:$E$2604,'RUBROS JUNIO'!$A17,'[1]CONSOLIDADO POR SEDE JUNIO'!$C$5:$C$2604,'RUBROS JUNIO'!H$5) -> 0 | I17: 0 | J17: 292074.15 | K17: =SUMIFS('[1]CONSOLIDADO POR SEDE JUNIO'!$K$5:$K$2604,'[1]CONSOLIDADO POR SEDE JUNIO'!$E$5:$E$2604,'RUBROS JUNIO'!$A17,'[1]CONSOLIDADO POR SEDE JUNIO'!$C$5:$C$2604,'RUBROS JUNIO'!K$5) -> 0 | L17: =SUMIFS('[1]CONSOLIDADO POR SEDE JUNIO'!$K$5:$K$2604,'[1]CONSOLIDADO POR SEDE JUNIO'!$E$5:$E$2604,'RUBROS JUNIO'!$A17,'[1]CONSOLIDADO POR SEDE JUNIO'!$C$5:$C$2604,'RUBROS JUNIO'!L$5) -> 0 | M17: =SUMIFS('[1]CONSOLIDADO POR SEDE JUNIO'!$K$5:$K$2604,'[1]CONSOLIDADO POR SEDE JUNIO'!$E$5:$E$2604,'RUBROS JUNIO'!$A17,'[1]CONSOLIDADO POR SEDE JUNIO'!$C$5:$C$2604,'RUBROS JUNIO'!M$5) -> 0 | N17: =SUMIFS('[1]CONSOLIDADO POR SEDE JUNIO'!$K$5:$K$2604,'[1]CONSOLIDADO POR SEDE JUNIO'!$E$5:$E$2604,'RUBROS JUNIO'!$A17,'[1]CONSOLIDADO POR SEDE JUNIO'!$C$5:$C$2604,'RUBROS JUNIO'!N$5) -> 0 | O17: =SUMIFS('[1]CONSOLIDADO POR SEDE JUNIO'!$K$5:$K$2604,'[1]CONSOLIDADO POR SEDE JUNIO'!$E$5:$E$2604,'RUBROS JUNIO'!$A17,'[1]CONSOLIDADO POR SEDE JUNIO'!$C$5:$C$2604,'RUBROS JUNIO'!O$5) -> 0 | P17: =SUMIFS('[1]CONSOLIDADO POR SEDE JUNIO'!$K$5:$K$2604,'[1]CONSOLIDADO POR SEDE JUNIO'!$E$5:$E$2604,'RUBROS JUNIO'!$A17,'[1]CONSOLIDADO POR SEDE JUNIO'!$C$5:$C$2604,'RUBROS JUNIO'!P$5) -> 0 | Q17: 0 | R17: =SUMIFS('[1]CONSOLIDADO POR SEDE JUNIO'!$K$5:$K$2604,'[1]CONSOLIDADO POR SEDE JUNIO'!$E$5:$E$2604,'RUBROS JUNIO'!$A17,'[1]CONSOLIDADO POR SEDE JUNIO'!$C$5:$C$2604,'RUBROS JUNIO'!R$5) -> 0 | S17: 0 | T17: =SUMIFS('[1]CONSOLIDADO POR SEDE JUNIO'!$K$5:$K$2604,'[1]CONSOLIDADO POR SEDE JUNIO'!$E$5:$E$2604,'RUBROS JUNIO'!$A17,'[1]CONSOLIDADO POR SEDE JUNIO'!$C$5:$C$2604,'RUBROS JUNIO'!T$5) -> 0 | U17: =SUMIFS('[1]CONSOLIDADO POR SEDE JUNIO'!$K$5:$K$2604,'[1]CONSOLIDADO POR SEDE JUNIO'!$E$5:$E$2604,'RUBROS JUNIO'!$A17,'[1]CONSOLIDADO POR SEDE JUNIO'!$C$5:$C$2604,'RUBROS JUNIO'!U$5) -> 0 | V17: =SUMIFS('[1]CONSOLIDADO POR SEDE JUNIO'!$K$5:$K$2604,'[1]CONSOLIDADO POR SEDE JUNIO'!$E$5:$E$2604,'RUBROS JUNIO'!$A17,'[1]CONSOLIDADO POR SEDE JUNIO'!$C$5:$C$2604,'RUBROS JUNIO'!V$5) -> 0 | W17: =SUMIFS('[1]CONSOLIDADO POR SEDE JUNIO'!$K$5:$K$2604,'[1]CONSOLIDADO POR SEDE JUNIO'!$E$5:$E$2604,'RUBROS JUNIO'!$A17,'[1]CONSOLIDADO POR SEDE JUNIO'!$C$5:$C$2604,'RUBROS JUNIO'!W$5) -> 0 | X17: =SUMIFS('[1]CONSOLIDADO POR SEDE JUNIO'!$K$5:$K$2604,'[1]CONSOLIDADO POR SEDE JUNIO'!$E$5:$E$2604,'RUBROS JUNIO'!$A17,'[1]CONSOLIDADO POR SEDE JUNIO'!$C$5:$C$2604,'RUBROS JUNIO'!X$5) -> 0 | Y17: =SUMIFS('[1]CONSOLIDADO POR SEDE JUNIO'!$K$5:$K$2604,'[1]CONSOLIDADO POR SEDE JUNIO'!$E$5:$E$2604,'RUBROS JUNIO'!$A17,'[1]CONSOLIDADO POR SEDE JUNIO'!$C$5:$C$2604,'RUBROS JUNIO'!Y$5) -> 0 | Z17: =SUMIFS('[1]CONSOLIDADO POR SEDE JUNIO'!$K$5:$K$2604,'[1]CONSOLIDADO POR SEDE JUNIO'!$E$5:$E$2604,'RUBROS JUNIO'!$A17,'[1]CONSOLIDADO POR SEDE JUNIO'!$C$5:$C$2604,'RUBROS JUNIO'!Z$5) -> 0 | AA17: =SUMIFS('[1]CONSOLIDADO POR SEDE JUNIO'!$K$5:$K$2604,'[1]CONSOLIDADO POR SEDE JUNIO'!$E$5:$E$2604,'RUBROS JUNIO'!$A17,'[1]CONSOLIDADO POR SEDE JUNIO'!$C$5:$C$2604,'RUBROS JUNIO'!AA$5) -> 0 | ... AF17: =SUMIFS('[1]CONSOLIDADO POR SEDE JUNIO'!$K$5:$K$2604,'[1]CONSOLIDADO POR SEDE JUNIO'!$E$5:$E$2604,'RUBROS JUNIO'!$A17,'[1]CONSOLIDADO POR SEDE JUNIO'!$C$5:$C$2604,'RUBROS JUNIO'!AF$5) -> 0 | AG17: 0 | AH17: =SUMIFS('[1]CONSOLIDADO POR SEDE JUNIO'!$K$5:$K$2604,'[1]CONSOLIDADO POR SEDE JUNIO'!$E$5:$E$2604,'RUBROS JUNIO'!$A17,'[1]CONSOLIDADO POR SEDE JUNIO'!$C$5:$C$2604,'RUBROS JUNIO'!AH$5) -> 0 | AI17: =SUMIFS('[1]CONSOLIDADO POR SEDE JUNIO'!$K$5:$K$2604,'[1]CONSOLIDADO POR SEDE JUNIO'!$E$5:$E$2604,'RUBROS JUNIO'!$A17,'[1]CONSOLIDADO POR SEDE JUNIO'!$C$5:$C$2604,'RUBROS JUNIO'!AI$5) -> 0 | AJ17: =SUMIFS('[1]CONSOLIDADO POR SEDE JUNIO'!$K$5:$K$2604,'[1]CONSOLIDADO POR SEDE JUNIO'!$E$5:$E$2604,'RUBROS JUNIO'!$A17,'[1]CONSOLIDADO POR SEDE JUNIO'!$C$5:$C$2604,'RUBROS JUNIO'!AJ$5) -> 0 | AK17: =SUMIFS('[1]CONSOLIDADO POR SEDE JUNIO'!$K$5:$K$2604,'[1]CONSOLIDADO POR SEDE JUNIO'!$E$5:$E$2604,'RUBROS JUNIO'!$A17,'[1]CONSOLIDADO POR SEDE JUNIO'!$C$5:$C$2604,'RUBROS JUNIO'!AK$5) -> 0 | AL17: =SUMIFS('[1]CONSOLIDADO POR SEDE JUNIO'!$K$5:$K$2604,'[1]CONSOLIDADO POR SEDE JUNIO'!$E$5:$E$2604,'RUBROS JUNIO'!$A17,'[1]CONSOLIDADO POR SEDE JUNIO'!$C$5:$C$2604,'RUBROS JUNIO'!AL$5) -> 0 | AM17: 0 | AN17: =SUMIFS('[1]CONSOLIDADO POR SEDE JUNIO'!$K$5:$K$2604,'[1]CONSOLIDADO POR SEDE JUNIO'!$E$5:$E$2604,'RUBROS JUNIO'!$A17,'[1]CONSOLIDADO POR SEDE JUNIO'!$C$5:$C$2604,'RUBROS JUNIO'!AN$5) -> 0 | AO17: =SUMIFS('[1]CONSOLIDADO POR SEDE JUNIO'!$K$5:$K$2604,'[1]CONSOLIDADO POR SEDE JUNIO'!$E$5:$E$2604,'RUBROS JUNIO'!$A17,'[1]CONSOLIDADO POR SEDE JUNIO'!$C$5:$C$2604,'RUBROS JUNIO'!AO$5) -> 0 | AP17: =SUMIFS('[1]CONSOLIDADO POR SEDE JUNIO'!$K$5:$K$2604,'[1]CONSOLIDADO POR SEDE JUNIO'!$E$5:$E$2604,'RUBROS JUNIO'!$A17,'[1]CONSOLIDADO POR SEDE JUNIO'!$C$5:$C$2604,'RUBROS JUNIO'!AP$5) -> 0 | AR17: 387508.86 | AS17: 7798104.2
A18: SEDE 13 - CADE SERVITA | B18: 4222102 | C18: =SUMIFS('[1]CONSOLIDADO POR SEDE JUNIO'!$K$5:$K$2604,'[1]CONSOLIDADO POR SEDE JUNIO'!$E$5:$E$2604,'RUBROS JUNIO'!$A18,'[1]CONSOLIDADO POR SEDE JUNIO'!$C$5:$C$2604,'RUBROS JUNIO'!C$5) -> 0 | D18: =SUMIFS('[1]CONSOLIDADO POR SEDE JUNIO'!$K$5:$K$2604,'[1]CONSOLIDADO POR SEDE JUNIO'!$E$5:$E$2604,'RUBROS JUNIO'!$A18,'[1]CONSOLIDADO POR SEDE JUNIO'!$C$5:$C$2604,'RUBROS JUNIO'!D$5) -> 0 | E18: =SUMIFS('[1]CONSOLIDADO POR SEDE JUNIO'!$K$5:$K$2604,'[1]CONSOLIDADO POR SEDE JUNIO'!$E$5:$E$2604,'RUBROS JUNIO'!$A18,'[1]CONSOLIDADO POR SEDE JUNIO'!$C$5:$C$2604,'RUBROS JUNIO'!E$5) -> 0 | F18: 0 | G18: =SUMIFS('[1]CONSOLIDADO POR SEDE JUNIO'!$K$5:$K$2604,'[1]CONSOLIDADO POR SEDE JUNIO'!$E$5:$E$2604,'RUBROS JUNIO'!$A18,'[1]CONSOLIDADO POR SEDE JUNIO'!$C$5:$C$2604,'RUBROS JUNIO'!G$5) -> 0 | H18: =SUMIFS('[1]CONSOLIDADO POR SEDE JUNIO'!$K$5:$K$2604,'[1]CONSOLIDADO POR SEDE JUNIO'!$E$5:$E$2604,'RUBROS JUNIO'!$A18,'[1]CONSOLIDADO POR SEDE JUNIO'!$C$5:$C$2604,'RUBROS JUNIO'!H$5) -> 0 | I18: 0 | J18: 287287.78 | K18: =SUMIFS('[1]CONSOLIDADO POR SEDE JUNIO'!$K$5:$K$2604,'[1]CONSOLIDADO POR SEDE JUNIO'!$E$5:$E$2604,'RUBROS JUNIO'!$A18,'[1]CONSOLIDADO POR SEDE JUNIO'!$C$5:$C$2604,'RUBROS JUNIO'!K$5) -> 0 | L18: =SUMIFS('[1]CONSOLIDADO POR SEDE JUNIO'!$K$5:$K$2604,'[1]CONSOLIDADO POR SEDE JUNIO'!$E$5:$E$2604,'RUBROS JUNIO'!$A18,'[1]CONSOLIDADO POR SEDE JUNIO'!$C$5:$C$2604,'RUBROS JUNIO'!L$5) -> 0 | M18: =SUMIFS('[1]CONSOLIDADO POR SEDE JUNIO'!$K$5:$K$2604,'[1]CONSOLIDADO POR SEDE JUNIO'!$E$5:$E$2604,'RUBROS JUNIO'!$A18,'[1]CONSOLIDADO POR SEDE JUNIO'!$C$5:$C$2604,'RUBROS JUNIO'!M$5) -> 0 | N18: =SUMIFS('[1]CONSOLIDADO POR SEDE JUNIO'!$K$5:$K$2604,'[1]CONSOLIDADO POR SEDE JUNIO'!$E$5:$E$2604,'RUBROS JUNIO'!$A18,'[1]CONSOLIDADO POR SEDE JUNIO'!$C$5:$C$2604,'RUBROS JUNIO'!N$5) -> 0 | O18: =SUMIFS('[1]CONSOLIDADO POR SEDE JUNIO'!$K$5:$K$2604,'[1]CONSOLIDADO POR SEDE JUNIO'!$E$5:$E$2604,'RUBROS JUNIO'!$A18,'[1]CONSOLIDADO POR SEDE JUNIO'!$C$5:$C$2604,'RUBROS JUNIO'!O$5) -> 0 | P18: =SUMIFS('[1]CONSOLIDADO POR SEDE JUNIO'!$K$5:$K$2604,'[1]CONSOLIDADO POR SEDE JUNIO'!$E$5:$E$2604,'RUBROS JUNIO'!$A18,'[1]CONSOLIDADO POR SEDE JUNIO'!$C$5:$C$2604,'RUBROS JUNIO'!P$5) -> 0 | Q18: 230501.29 | R18: =SUMIFS('[1]CONSOLIDADO POR SEDE JUNIO'!$K$5:$K$2604,'[1]CONSOLIDADO POR SEDE JUNIO'!$E$5:$E$2604,'RUBROS JUNIO'!$A18,'[1]CONSOLIDADO POR SEDE JUNIO'!$C$5:$C$2604,'RUBROS JUNIO'!R$5) -> 0 | S18: 0 | T18: =SUMIFS('[1]CONSOLIDADO POR SEDE JUNIO'!$K$5:$K$2604,'[1]CONSOLIDADO POR SEDE JUNIO'!$E$5:$E$2604,'RUBROS JUNIO'!$A18,'[1]CONSOLIDADO POR SEDE JUNIO'!$C$5:$C$2604,'RUBROS JUNIO'!T$5) -> 0 | U18: =SUMIFS('[1]CONSOLIDADO POR SEDE JUNIO'!$K$5:$K$2604,'[1]CONSOLIDADO POR SEDE JUNIO'!$E$5:$E$2604,'RUBROS JUNIO'!$A18,'[1]CONSOLIDADO POR SEDE JUNIO'!$C$5:$C$2604,'RUBROS JUNIO'!U$5) -> 0 | V18: =SUMIFS('[1]CONSOLIDADO POR SEDE JUNIO'!$K$5:$K$2604,'[1]CONSOLIDADO POR SEDE JUNIO'!$E$5:$E$2604,'RUBROS JUNIO'!$A18,'[1]CONSOLIDADO POR SEDE JUNIO'!$C$5:$C$2604,'RUBROS JUNIO'!V$5) -> 0 | W18: =SUMIFS('[1]CONSOLIDADO POR SEDE JUNIO'!$K$5:$K$2604,'[1]CONSOLIDADO POR SEDE JUNIO'!$E$5:$E$2604,'RUBROS JUNIO'!$A18,'[1]CONSOLIDADO POR SEDE JUNIO'!$C$5:$C$2604,'RUBROS JUNIO'!W$5) -> 0 | X18: =SUMIFS('[1]CONSOLIDADO POR SEDE JUNIO'!$K$5:$K$2604,'[1]CONSOLIDADO POR SEDE JUNIO'!$E$5:$E$2604,'RUBROS JUNIO'!$A18,'[1]CONSOLIDADO POR SEDE JUNIO'!$C$5:$C$2604,'RUBROS JUNIO'!X$5) -> 0 | Y18: =SUMIFS('[1]CONSOLIDADO POR SEDE JUNIO'!$K$5:$K$2604,'[1]CONSOLIDADO POR SEDE JUNIO'!$E$5:$E$2604,'RUBROS JUNIO'!$A18,'[1]CONSOLIDADO POR SEDE JUNIO'!$C$5:$C$2604,'RUBROS JUNIO'!Y$5) -> 0 | Z18: =SUMIFS('[1]CONSOLIDADO POR SEDE JUNIO'!$K$5:$K$2604,'[1]CONSOLIDADO POR SEDE JUNIO'!$E$5:$E$2604,'RUBROS JUNIO'!$A18,'[1]CONSOLIDADO POR SEDE JUNIO'!$C$5:$C$2604,'RUBROS JUNIO'!Z$5) -> 0 | AA18: =SUMIFS('[1]CONSOLIDADO POR SEDE JUNIO'!$K$5:$K$2604,'[1]CONSOLIDADO POR SEDE JUNIO'!$E$5:$E$2604,'RUBROS JUNIO'!$A18,'[1]CONSOLIDADO POR SEDE JUNIO'!$C$5:$C$2604,'RUBROS JUNIO'!AA$5) -> 0 | ... AF18: =SUMIFS('[1]CONSOLIDADO POR SEDE JUNIO'!$K$5:$K$2604,'[1]CONSOLIDADO POR SEDE JUNIO'!$E$5:$E$2604,'RUBROS JUNIO'!$A18,'[1]CONSOLIDADO POR SEDE JUNIO'!$C$5:$C$2604,'RUBROS JUNIO'!AF$5) -> 0 | AG18: 0 | AH18: =SUMIFS('[1]CONSOLIDADO POR SEDE JUNIO'!$K$5:$K$2604,'[1]CONSOLIDADO POR SEDE JUNIO'!$E$5:$E$2604,'RUBROS JUNIO'!$A18,'[1]CONSOLIDADO POR SEDE JUNIO'!$C$5:$C$2604,'RUBROS JUNIO'!AH$5) -> 0 | AI18: =SUMIFS('[1]CONSOLIDADO POR SEDE JUNIO'!$K$5:$K$2604,'[1]CONSOLIDADO POR SEDE JUNIO'!$E$5:$E$2604,'RUBROS JUNIO'!$A18,'[1]CONSOLIDADO POR SEDE JUNIO'!$C$5:$C$2604,'RUBROS JUNIO'!AI$5) -> 0 | AJ18: =SUMIFS('[1]CONSOLIDADO POR SEDE JUNIO'!$K$5:$K$2604,'[1]CONSOLIDADO POR SEDE JUNIO'!$E$5:$E$2604,'RUBROS JUNIO'!$A18,'[1]CONSOLIDADO POR SEDE JUNIO'!$C$5:$C$2604,'RUBROS JUNIO'!AJ$5) -> 0 | AK18: =SUMIFS('[1]CONSOLIDADO POR SEDE JUNIO'!$K$5:$K$2604,'[1]CONSOLIDADO POR SEDE JUNIO'!$E$5:$E$2604,'RUBROS JUNIO'!$A18,'[1]CONSOLIDADO POR SEDE JUNIO'!$C$5:$C$2604,'RUBROS JUNIO'!AK$5) -> 0 | AL18: =SUMIFS('[1]CONSOLIDADO POR SEDE JUNIO'!$K$5:$K$2604,'[1]CONSOLIDADO POR SEDE JUNIO'!$E$5:$E$2604,'RUBROS JUNIO'!$A18,'[1]CONSOLIDADO POR SEDE JUNIO'!$C$5:$C$2604,'RUBROS JUNIO'!AL$5) -> 0 | AM18: 32283.094 | AN18: =SUMIFS('[1]CONSOLIDADO POR SEDE JUNIO'!$K$5:$K$2604,'[1]CONSOLIDADO POR SEDE JUNIO'!$E$5:$E$2604,'RUBROS JUNIO'!$A18,'[1]CONSOLIDADO POR SEDE JUNIO'!$C$5:$C$2604,'RUBROS JUNIO'!AN$5) -> 0 | AO18: =SUMIFS('[1]CONSOLIDADO POR SEDE JUNIO'!$K$5:$K$2604,'[1]CONSOLIDADO POR SEDE JUNIO'!$E$5:$E$2604,'RUBROS JUNIO'!$A18,'[1]CONSOLIDADO POR SEDE JUNIO'!$C$5:$C$2604,'RUBROS JUNIO'!AO$5) -> 0 | AP18: =SUMIFS('[1]CONSOLIDADO POR SEDE JUNIO'!$K$5:$K$2604,'[1]CONSOLIDADO POR SEDE JUNIO'!$E$5:$E$2604,'RUBROS JUNIO'!$A18,'[1]CONSOLIDADO POR SEDE JUNIO'!$C$5:$C$2604,'RUBROS JUNIO'!AP$5) -> 0 | AR18: 267518.06 | AS18: 7798104.2
A19: SEDE 14 - CADE LA VICTORIA | B19: 4222104 | C19: =SUMIFS('[1]CONSOLIDADO POR SEDE JUNIO'!$K$5:$K$2604,'[1]CONSOLIDADO POR SEDE JUNIO'!$E$5:$E$2604,'RUBROS JUNIO'!$A19,'[1]CONSOLIDADO POR SEDE JUNIO'!$C$5:$C$2604,'RUBROS JUNIO'!C$5) -> 0 | D19: =SUMIFS('[1]CONSOLIDADO POR SEDE JUNIO'!$K$5:$K$2604,'[1]CONSOLIDADO POR SEDE JUNIO'!$E$5:$E$2604,'RUBROS JUNIO'!$A19,'[1]CONSOLIDADO POR SEDE JUNIO'!$C$5:$C$2604,'RUBROS JUNIO'!D$5) -> 0 | E19: =SUMIFS('[1]CONSOLIDADO POR SEDE JUNIO'!$K$5:$K$2604,'[1]CONSOLIDADO POR SEDE JUNIO'!$E$5:$E$2604,'RUBROS JUNIO'!$A19,'[1]CONSOLIDADO POR SEDE JUNIO'!$C$5:$C$2604,'RUBROS JUNIO'!E$5) -> 0 | F19: 0 | G19: =SUMIFS('[1]CONSOLIDADO POR SEDE JUNIO'!$K$5:$K$2604,'[1]CONSOLIDADO POR SEDE JUNIO'!$E$5:$E$2604,'RUBROS JUNIO'!$A19,'[1]CONSOLIDADO POR SEDE JUNIO'!$C$5:$C$2604,'RUBROS JUNIO'!G$5) -> 0 | H19: =SUMIFS('[1]CONSOLIDADO POR SEDE JUNIO'!$K$5:$K$2604,'[1]CONSOLIDADO POR SEDE JUNIO'!$E$5:$E$2604,'RUBROS JUNIO'!$A19,'[1]CONSOLIDADO POR SEDE JUNIO'!$C$5:$C$2604,'RUBROS JUNIO'!H$5) -> 0 | I19: 0 | J19: 263345.37 | K19: =SUMIFS('[1]CONSOLIDADO POR SEDE JUNIO'!$K$5:$K$2604,'[1]CONSOLIDADO POR SEDE JUNIO'!$E$5:$E$2604,'RUBROS JUNIO'!$A19,'[1]CONSOLIDADO POR SEDE JUNIO'!$C$5:$C$2604,'RUBROS JUNIO'!K$5) -> 0 | L19: =SUMIFS('[1]CONSOLIDADO POR SEDE JUNIO'!$K$5:$K$2604,'[1]CONSOLIDADO POR SEDE JUNIO'!$E$5:$E$2604,'RUBROS JUNIO'!$A19,'[1]CONSOLIDADO POR SEDE JUNIO'!$C$5:$C$2604,'RUBROS JUNIO'!L$5) -> 0 | M19: =SUMIFS('[1]CONSOLIDADO POR SEDE JUNIO'!$K$5:$K$2604,'[1]CONSOLIDADO POR SEDE JUNIO'!$E$5:$E$2604,'RUBROS JUNIO'!$A19,'[1]CONSOLIDADO POR SEDE JUNIO'!$C$5:$C$2604,'RUBROS JUNIO'!M$5) -> 0 | N19: =SUMIFS('[1]CONSOLIDADO POR SEDE JUNIO'!$K$5:$K$2604,'[1]CONSOLIDADO POR SEDE JUNIO'!$E$5:$E$2604,'RUBROS JUNIO'!$A19,'[1]CONSOLIDADO POR SEDE JUNIO'!$C$5:$C$2604,'RUBROS JUNIO'!N$5) -> 0 | O19: =SUMIFS('[1]CONSOLIDADO POR SEDE JUNIO'!$K$5:$K$2604,'[1]CONSOLIDADO POR SEDE JUNIO'!$E$5:$E$2604,'RUBROS JUNIO'!$A19,'[1]CONSOLIDADO POR SEDE JUNIO'!$C$5:$C$2604,'RUBROS JUNIO'!O$5) -> 0 | P19: =SUMIFS('[1]CONSOLIDADO POR SEDE JUNIO'!$K$5:$K$2604,'[1]CONSOLIDADO POR SEDE JUNIO'!$E$5:$E$2604,'RUBROS JUNIO'!$A19,'[1]CONSOLIDADO POR SEDE JUNIO'!$C$5:$C$2604,'RUBROS JUNIO'!P$5) -> 0 | Q19: 46100.258 | R19: 0 | S19: 61861.229 | T19: =SUMIFS('[1]CONSOLIDADO POR SEDE JUNIO'!$K$5:$K$2604,'[1]CONSOLIDADO POR SEDE JUNIO'!$E$5:$E$2604,'RUBROS JUNIO'!$A19,'[1]CONSOLIDADO POR SEDE JUNIO'!$C$5:$C$2604,'RUBROS JUNIO'!T$5) -> 0 | U19: =SUMIFS('[1]CONSOLIDADO POR SEDE JUNIO'!$K$5:$K$2604,'[1]CONSOLIDADO POR SEDE JUNIO'!$E$5:$E$2604,'RUBROS JUNIO'!$A19,'[1]CONSOLIDADO POR SEDE JUNIO'!$C$5:$C$2604,'RUBROS JUNIO'!U$5) -> 0 | V19: =SUMIFS('[1]CONSOLIDADO POR SEDE JUNIO'!$K$5:$K$2604,'[1]CONSOLIDADO POR SEDE JUNIO'!$E$5:$E$2604,'RUBROS JUNIO'!$A19,'[1]CONSOLIDADO POR SEDE JUNIO'!$C$5:$C$2604,'RUBROS JUNIO'!V$5) -> 0 | W19: =SUMIFS('[1]CONSOLIDADO POR SEDE JUNIO'!$K$5:$K$2604,'[1]CONSOLIDADO POR SEDE JUNIO'!$E$5:$E$2604,'RUBROS JUNIO'!$A19,'[1]CONSOLIDADO POR SEDE JUNIO'!$C$5:$C$2604,'RUBROS JUNIO'!W$5) -> 0 | X19: =SUMIFS('[1]CONSOLIDADO POR SEDE JUNIO'!$K$5:$K$2604,'[1]CONSOLIDADO POR SEDE JUNIO'!$E$5:$E$2604,'RUBROS JUNIO'!$A19,'[1]CONSOLIDADO POR SEDE JUNIO'!$C$5:$C$2604,'RUBROS JUNIO'!X$5) -> 0 | Y19: =SUMIFS('[1]CONSOLIDADO POR SEDE JUNIO'!$K$5:$K$2604,'[1]CONSOLIDADO POR SEDE JUNIO'!$E$5:$E$2604,'RUBROS JUNIO'!$A19,'[1]CONSOLIDADO POR SEDE JUNIO'!$C$5:$C$2604,'RUBROS JUNIO'!Y$5) -> 0 | Z19: =SUMIFS('[1]CONSOLIDADO POR SEDE JUNIO'!$K$5:$K$2604,'[1]CONSOLIDADO POR SEDE JUNIO'!$E$5:$E$2604,'RUBROS JUNIO'!$A19,'[1]CONSOLIDADO POR SEDE JUNIO'!$C$5:$C$2604,'RUBROS JUNIO'!Z$5) -> 0 | AA19: =SUMIFS('[1]CONSOLIDADO POR SEDE JUNIO'!$K$5:$K$2604,'[1]CONSOLIDADO POR SEDE JUNIO'!$E$5:$E$2604,'RUBROS JUNIO'!$A19,'[1]CONSOLIDADO POR SEDE JUNIO'!$C$5:$C$2604,'RUBROS JUNIO'!AA$5) -> 0 | ... AF19: =SUMIFS('[1]CONSOLIDADO POR SEDE JUNIO'!$K$5:$K$2604,'[1]CONSOLIDADO POR SEDE JUNIO'!$E$5:$E$2604,'RUBROS JUNIO'!$A19,'[1]CONSOLIDADO POR SEDE JUNIO'!$C$5:$C$2604,'RUBROS JUNIO'!AF$5) -> 0 | AG19: 0 | AH19: =SUMIFS('[1]CONSOLIDADO POR SEDE JUNIO'!$K$5:$K$2604,'[1]CONSOLIDADO POR SEDE JUNIO'!$E$5:$E$2604,'RUBROS JUNIO'!$A19,'[1]CONSOLIDADO POR SEDE JUNIO'!$C$5:$C$2604,'RUBROS JUNIO'!AH$5) -> 0 | AI19: =SUMIFS('[1]CONSOLIDADO POR SEDE JUNIO'!$K$5:$K$2604,'[1]CONSOLIDADO POR SEDE JUNIO'!$E$5:$E$2604,'RUBROS JUNIO'!$A19,'[1]CONSOLIDADO POR SEDE JUNIO'!$C$5:$C$2604,'RUBROS JUNIO'!AI$5) -> 0 | AJ19: =SUMIFS('[1]CONSOLIDADO POR SEDE JUNIO'!$K$5:$K$2604,'[1]CONSOLIDADO POR SEDE JUNIO'!$E$5:$E$2604,'RUBROS JUNIO'!$A19,'[1]CONSOLIDADO POR SEDE JUNIO'!$C$5:$C$2604,'RUBROS JUNIO'!AJ$5) -> 0 | AK19: =SUMIFS('[1]CONSOLIDADO POR SEDE JUNIO'!$K$5:$K$2604,'[1]CONSOLIDADO POR SEDE JUNIO'!$E$5:$E$2604,'RUBROS JUNIO'!$A19,'[1]CONSOLIDADO POR SEDE JUNIO'!$C$5:$C$2604,'RUBROS JUNIO'!AK$5) -> 0 | AL19: =SUMIFS('[1]CONSOLIDADO POR SEDE JUNIO'!$K$5:$K$2604,'[1]CONSOLIDADO POR SEDE JUNIO'!$E$5:$E$2604,'RUBROS JUNIO'!$A19,'[1]CONSOLIDADO POR SEDE JUNIO'!$C$5:$C$2604,'RUBROS JUNIO'!AL$5) -> 0 | AM19: 6456.6188 | AN19: =SUMIFS('[1]CONSOLIDADO POR SEDE JUNIO'!$K$5:$K$2604,'[1]CONSOLIDADO POR SEDE JUNIO'!$E$5:$E$2604,'RUBROS JUNIO'!$A19,'[1]CONSOLIDADO POR SEDE JUNIO'!$C$5:$C$2604,'RUBROS JUNIO'!AN$5) -> 0 | AO19: =SUMIFS('[1]CONSOLIDADO POR SEDE JUNIO'!$K$5:$K$2604,'[1]CONSOLIDADO POR SEDE JUNIO'!$E$5:$E$2604,'RUBROS JUNIO'!$A19,'[1]CONSOLIDADO POR SEDE JUNIO'!$C$5:$C$2604,'RUBROS JUNIO'!AO$5) -> 3604.6515 | AP19: =SUMIFS('[1]CONSOLIDADO POR SEDE JUNIO'!$K$5:$K$2604,'[1]CONSOLIDADO POR SEDE JUNIO'!$E$5:$E$2604,'RUBROS JUNIO'!$A19,'[1]CONSOLIDADO POR SEDE JUNIO'!$C$5:$C$2604,'RUBROS JUNIO'!AP$5) -> 0 | AR19: 255282.24 | AS19: 11697156
A20: SEDE 15 - CADE LA GAITANA | B20: 4222113 | C20: =SUMIFS('[1]CONSOLIDADO POR SEDE JUNIO'!$K$5:$K$2604,'[1]CONSOLIDADO POR SEDE JUNIO'!$E$5:$E$2604,'RUBROS JUNIO'!$A20,'[1]CONSOLIDADO POR SEDE JUNIO'!$C$5:$C$2604,'RUBROS JUNIO'!C$5) -> 0 | D20: =SUMIFS('[1]CONSOLIDADO POR SEDE JUNIO'!$K$5:$K$2604,'[1]CONSOLIDADO POR SEDE JUNIO'!$E$5:$E$2604,'RUBROS JUNIO'!$A20,'[1]CONSOLIDADO POR SEDE JUNIO'!$C$5:$C$2604,'RUBROS JUNIO'!D$5) -> 0 | E20: =SUMIFS('[1]CONSOLIDADO POR SEDE JUNIO'!$K$5:$K$2604,'[1]CONSOLIDADO POR SEDE JUNIO'!$E$5:$E$2604,'RUBROS JUNIO'!$A20,'[1]CONSOLIDADO POR SEDE JUNIO'!$C$5:$C$2604,'RUBROS JUNIO'!E$5) -> 0 | F20: 0 | G20: =SUMIFS('[1]CONSOLIDADO POR SEDE JUNIO'!$K$5:$K$2604,'[1]CONSOLIDADO POR SEDE JUNIO'!$E$5:$E$2604,'RUBROS JUNIO'!$A20,'[1]CONSOLIDADO POR SEDE JUNIO'!$C$5:$C$2604,'RUBROS JUNIO'!G$5) -> 0 | H20: =SUMIFS('[1]CONSOLIDADO POR SEDE JUNIO'!$K$5:$K$2604,'[1]CONSOLIDADO POR SEDE JUNIO'!$E$5:$E$2604,'RUBROS JUNIO'!$A20,'[1]CONSOLIDADO POR SEDE JUNIO'!$C$5:$C$2604,'RUBROS JUNIO'!H$5) -> 0 | I20: =SUMIFS('[1]CONSOLIDADO POR SEDE JUNIO'!$K$5:$K$2604,'[1]CONSOLIDADO POR SEDE JUNIO'!$E$5:$E$2604,'RUBROS JUNIO'!$A20,'[1]CONSOLIDADO POR SEDE JUNIO'!$C$5:$C$2604,'RUBROS JUNIO'!I$5) -> 0 | J20: 0 | K20: =SUMIFS('[1]CONSOLIDADO POR SEDE JUNIO'!$K$5:$K$2604,'[1]CONSOLIDADO POR SEDE JUNIO'!$E$5:$E$2604,'RUBROS JUNIO'!$A20,'[1]CONSOLIDADO POR SEDE JUNIO'!$C$5:$C$2604,'RUBROS JUNIO'!K$5) -> 0 | L20: =SUMIFS('[1]CONSOLIDADO POR SEDE JUNIO'!$K$5:$K$2604,'[1]CONSOLIDADO POR SEDE JUNIO'!$E$5:$E$2604,'RUBROS JUNIO'!$A20,'[1]CONSOLIDADO POR SEDE JUNIO'!$C$5:$C$2604,'RUBROS JUNIO'!L$5) -> 0 | M20: =SUMIFS('[1]CONSOLIDADO POR SEDE JUNIO'!$K$5:$K$2604,'[1]CONSOLIDADO POR SEDE JUNIO'!$E$5:$E$2604,'RUBROS JUNIO'!$A20,'[1]CONSOLIDADO POR SEDE JUNIO'!$C$5:$C$2604,'RUBROS JUNIO'!M$5) -> 0 | N20: =SUMIFS('[1]CONSOLIDADO POR SEDE JUNIO'!$K$5:$K$2604,'[1]CONSOLIDADO POR SEDE JUNIO'!$E$5:$E$2604,'RUBROS JUNIO'!$A20,'[1]CONSOLIDADO POR SEDE JUNIO'!$C$5:$C$2604,'RUBROS JUNIO'!N$5) -> 0 | O20: =SUMIFS('[1]CONSOLIDADO POR SEDE JUNIO'!$K$5:$K$2604,'[1]CONSOLIDADO POR SEDE JUNIO'!$E$5:$E$2604,'RUBROS JUNIO'!$A20,'[1]CONSOLIDADO POR SEDE JUNIO'!$C$5:$C$2604,'RUBROS JUNIO'!O$5) -> 0 | P20: =SUMIFS('[1]CONSOLIDADO POR SEDE JUNIO'!$K$5:$K$2604,'[1]CONSOLIDADO POR SEDE JUNIO'!$E$5:$E$2604,'RUBROS JUNIO'!$A20,'[1]CONSOLIDADO POR SEDE JUNIO'!$C$5:$C$2604,'RUBROS JUNIO'!P$5) -> 0 | Q20: 0 | R20: =SUMIFS('[1]CONSOLIDADO POR SEDE JUNIO'!$K$5:$K$2604,'[1]CONSOLIDADO POR SEDE JUNIO'!$E$5:$E$2604,'RUBROS JUNIO'!$A20,'[1]CONSOLIDADO POR SEDE JUNIO'!$C$5:$C$2604,'RUBROS JUNIO'!R$5) -> 0 | S20: 0 | T20: =SUMIFS('[1]CONSOLIDADO POR SEDE JUNIO'!$K$5:$K$2604,'[1]CONSOLIDADO POR SEDE JUNIO'!$E$5:$E$2604,'RUBROS JUNIO'!$A20,'[1]CONSOLIDADO POR SEDE JUNIO'!$C$5:$C$2604,'RUBROS JUNIO'!T$5) -> 0 | U20: =SUMIFS('[1]CONSOLIDADO POR SEDE JUNIO'!$K$5:$K$2604,'[1]CONSOLIDADO POR SEDE JUNIO'!$E$5:$E$2604,'RUBROS JUNIO'!$A20,'[1]CONSOLIDADO POR SEDE JUNIO'!$C$5:$C$2604,'RUBROS JUNIO'!U$5) -> 0 | V20: =SUMIFS('[1]CONSOLIDADO POR SEDE JUNIO'!$K$5:$K$2604,'[1]CONSOLIDADO POR SEDE JUNIO'!$E$5:$E$2604,'RUBROS JUNIO'!$A20,'[1]CONSOLIDADO POR SEDE JUNIO'!$C$5:$C$2604,'RUBROS JUNIO'!V$5) -> 0 | W20: =SUMIFS('[1]CONSOLIDADO POR SEDE JUNIO'!$K$5:$K$2604,'[1]CONSOLIDADO POR SEDE JUNIO'!$E$5:$E$2604,'RUBROS JUNIO'!$A20,'[1]CONSOLIDADO POR SEDE JUNIO'!$C$5:$C$2604,'RUBROS JUNIO'!W$5) -> 0 | X20: =SUMIFS('[1]CONSOLIDADO POR SEDE JUNIO'!$K$5:$K$2604,'[1]CONSOLIDADO POR SEDE JUNIO'!$E$5:$E$2604,'RUBROS JUNIO'!$A20,'[1]CONSOLIDADO POR SEDE JUNIO'!$C$5:$C$2604,'RUBROS JUNIO'!X$5) -> 0 | Y20: =SUMIFS('[1]CONSOLIDADO POR SEDE JUNIO'!$K$5:$K$2604,'[1]CONSOLIDADO POR SEDE JUNIO'!$E$5:$E$2604,'RUBROS JUNIO'!$A20,'[1]CONSOLIDADO POR SEDE JUNIO'!$C$5:$C$2604,'RUBROS JUNIO'!Y$5) -> 0 | Z20: =SUMIFS('[1]CONSOLIDADO POR SEDE JUNIO'!$K$5:$K$2604,'[1]CONSOLIDADO POR SEDE JUNIO'!$E$5:$E$2604,'RUBROS JUNIO'!$A20,'[1]CONSOLIDADO POR SEDE JUNIO'!$C$5:$C$2604,'RUBROS JUNIO'!Z$5) -> 0 | AA20: =SUMIFS('[1]CONSOLIDADO POR SEDE JUNIO'!$K$5:$K$2604,'[1]CONSOLIDADO POR SEDE JUNIO'!$E$5:$E$2604,'RUBROS JUNIO'!$A20,'[1]CONSOLIDADO POR SEDE JUNIO'!$C$5:$C$2604,'RUBROS JUNIO'!AA$5) -> 0 | ... AF20: =SUMIFS('[1]CONSOLIDADO POR SEDE JUNIO'!$K$5:$K$2604,'[1]CONSOLIDADO POR SEDE JUNIO'!$E$5:$E$2604,'RUBROS JUNIO'!$A20,'[1]CONSOLIDADO POR SEDE JUNIO'!$C$5:$C$2604,'RUBROS JUNIO'!AF$5) -> 0 | AG20: 0 | AH20: =SUMIFS('[1]CONSOLIDADO POR SEDE JUNIO'!$K$5:$K$2604,'[1]CONSOLIDADO POR SEDE JUNIO'!$E$5:$E$2604,'RUBROS JUNIO'!$A20,'[1]CONSOLIDADO POR SEDE JUNIO'!$C$5:$C$2604,'RUBROS JUNIO'!AH$5) -> 0 | AI20: =SUMIFS('[1]CONSOLIDADO POR SEDE JUNIO'!$K$5:$K$2604,'[1]CONSOLIDADO POR SEDE JUNIO'!$E$5:$E$2604,'RUBROS JUNIO'!$A20,'[1]CONSOLIDADO POR SEDE JUNIO'!$C$5:$C$2604,'RUBROS JUNIO'!AI$5) -> 0 | AJ20: =SUMIFS('[1]CONSOLIDADO POR SEDE JUNIO'!$K$5:$K$2604,'[1]CONSOLIDADO POR SEDE JUNIO'!$E$5:$E$2604,'RUBROS JUNIO'!$A20,'[1]CONSOLIDADO POR SEDE JUNIO'!$C$5:$C$2604,'RUBROS JUNIO'!AJ$5) -> 0 | AK20: =SUMIFS('[1]CONSOLIDADO POR SEDE JUNIO'!$K$5:$K$2604,'[1]CONSOLIDADO POR SEDE JUNIO'!$E$5:$E$2604,'RUBROS JUNIO'!$A20,'[1]CONSOLIDADO POR SEDE JUNIO'!$C$5:$C$2604,'RUBROS JUNIO'!AK$5) -> 0 | AL20: =SUMIFS('[1]CONSOLIDADO POR SEDE JUNIO'!$K$5:$K$2604,'[1]CONSOLIDADO POR SEDE JUNIO'!$E$5:$E$2604,'RUBROS JUNIO'!$A20,'[1]CONSOLIDADO POR SEDE JUNIO'!$C$5:$C$2604,'RUBROS JUNIO'!AL$5) -> 0 | AM20: 0 | AN20: =SUMIFS('[1]CONSOLIDADO POR SEDE JUNIO'!$K$5:$K$2604,'[1]CONSOLIDADO POR SEDE JUNIO'!$E$5:$E$2604,'RUBROS JUNIO'!$A20,'[1]CONSOLIDADO POR SEDE JUNIO'!$C$5:$C$2604,'RUBROS JUNIO'!AN$5) -> 0 | AO20: =SUMIFS('[1]CONSOLIDADO POR SEDE JUNIO'!$K$5:$K$2604,'[1]CONSOLIDADO POR SEDE JUNIO'!$E$5:$E$2604,'RUBROS JUNIO'!$A20,'[1]CONSOLIDADO POR SEDE JUNIO'!$C$5:$C$2604,'RUBROS JUNIO'!AO$5) -> 0 | AP20: =SUMIFS('[1]CONSOLIDADO POR SEDE JUNIO'!$K$5:$K$2604,'[1]CONSOLIDADO POR SEDE JUNIO'!$E$5:$E$2604,'RUBROS JUNIO'!$A20,'[1]CONSOLIDADO POR SEDE JUNIO'!$C$5:$C$2604,'RUBROS JUNIO'!AP$5) -> 0 | AR20: 205656.83 | AS20: 19105355
A21: SEDE 16 - SUPERCADE ENGATIVA | B21: 4222126 | C21: =SUMIFS('[1]CONSOLIDADO POR SEDE JUNIO'!$K$5:$K$2604,'[1]CONSOLIDADO POR SEDE JUNIO'!$E$5:$E$2604,'RUBROS JUNIO'!$A21,'[1]CONSOLIDADO POR SEDE JUNIO'!$C$5:$C$2604,'RUBROS JUNIO'!C$5) -> 0 | D21: =SUMIFS('[1]CONSOLIDADO POR SEDE JUNIO'!$K$5:$K$2604,'[1]CONSOLIDADO POR SEDE JUNIO'!$E$5:$E$2604,'RUBROS JUNIO'!$A21,'[1]CONSOLIDADO POR SEDE JUNIO'!$C$5:$C$2604,'RUBROS JUNIO'!D$5) -> 0 | E21: =SUMIFS('[1]CONSOLIDADO POR SEDE JUNIO'!$K$5:$K$2604,'[1]CONSOLIDADO POR SEDE JUNIO'!$E$5:$E$2604,'RUBROS JUNIO'!$A21,'[1]CONSOLIDADO POR SEDE JUNIO'!$C$5:$C$2604,'RUBROS JUNIO'!E$5) -> 0 | F21: 0 | G21: =SUMIFS('[1]CONSOLIDADO POR SEDE JUNIO'!$K$5:$K$2604,'[1]CONSOLIDADO POR SEDE JUNIO'!$E$5:$E$2604,'RUBROS JUNIO'!$A21,'[1]CONSOLIDADO POR SEDE JUNIO'!$C$5:$C$2604,'RUBROS JUNIO'!G$5) -> 344745.34 | H21: =SUMIFS('[1]CONSOLIDADO POR SEDE JUNIO'!$K$5:$K$2604,'[1]CONSOLIDADO POR SEDE JUNIO'!$E$5:$E$2604,'RUBROS JUNIO'!$A21,'[1]CONSOLIDADO POR SEDE JUNIO'!$C$5:$C$2604,'RUBROS JUNIO'!H$5) -> 0 | I21: =SUMIFS('[1]CONSOLIDADO POR SEDE JUNIO'!$K$5:$K$2604,'[1]CONSOLIDADO POR SEDE JUNIO'!$E$5:$E$2604,'RUBROS JUNIO'!$A21,'[1]CONSOLIDADO POR SEDE JUNIO'!$C$5:$C$2604,'RUBROS JUNIO'!I$5) -> 0 | J21: 0 | K21: =SUMIFS('[1]CONSOLIDADO POR SEDE JUNIO'!$K$5:$K$2604,'[1]CONSOLIDADO POR SEDE JUNIO'!$E$5:$E$2604,'RUBROS JUNIO'!$A21,'[1]CONSOLIDADO POR SEDE JUNIO'!$C$5:$C$2604,'RUBROS JUNIO'!K$5) -> 0 | L21: =SUMIFS('[1]CONSOLIDADO POR SEDE JUNIO'!$K$5:$K$2604,'[1]CONSOLIDADO POR SEDE JUNIO'!$E$5:$E$2604,'RUBROS JUNIO'!$A21,'[1]CONSOLIDADO POR SEDE JUNIO'!$C$5:$C$2604,'RUBROS JUNIO'!L$5) -> 0 | M21: =SUMIFS('[1]CONSOLIDADO POR SEDE JUNIO'!$K$5:$K$2604,'[1]CONSOLIDADO POR SEDE JUNIO'!$E$5:$E$2604,'RUBROS JUNIO'!$A21,'[1]CONSOLIDADO POR SEDE JUNIO'!$C$5:$C$2604,'RUBROS JUNIO'!M$5) -> 0 | N21: =SUMIFS('[1]CONSOLIDADO POR SEDE JUNIO'!$K$5:$K$2604,'[1]CONSOLIDADO POR SEDE JUNIO'!$E$5:$E$2604,'RUBROS JUNIO'!$A21,'[1]CONSOLIDADO POR SEDE JUNIO'!$C$5:$C$2604,'RUBROS JUNIO'!N$5) -> 0 | O21: =SUMIFS('[1]CONSOLIDADO POR SEDE JUNIO'!$K$5:$K$2604,'[1]CONSOLIDADO POR SEDE JUNIO'!$E$5:$E$2604,'RUBROS JUNIO'!$A21,'[1]CONSOLIDADO POR SEDE JUNIO'!$C$5:$C$2604,'RUBROS JUNIO'!O$5) -> 0 | P21: =SUMIFS('[1]CONSOLIDADO POR SEDE JUNIO'!$K$5:$K$2604,'[1]CONSOLIDADO POR SEDE JUNIO'!$E$5:$E$2604,'RUBROS JUNIO'!$A21,'[1]CONSOLIDADO POR SEDE JUNIO'!$C$5:$C$2604,'RUBROS JUNIO'!P$5) -> 0 | Q21: 471684.58 | R21: =SUMIFS('[1]CONSOLIDADO POR SEDE JUNIO'!$K$5:$K$2604,'[1]CONSOLIDADO POR SEDE JUNIO'!$E$5:$E$2604,'RUBROS JUNIO'!$A21,'[1]CONSOLIDADO POR SEDE JUNIO'!$C$5:$C$2604,'RUBROS JUNIO'!R$5) -> 0 | S21: 0 | T21: =SUMIFS('[1]CONSOLIDADO POR SEDE JUNIO'!$K$5:$K$2604,'[1]CONSOLIDADO POR SEDE JUNIO'!$E$5:$E$2604,'RUBROS JUNIO'!$A21,'[1]CONSOLIDADO POR SEDE JUNIO'!$C$5:$C$2604,'RUBROS JUNIO'!T$5) -> 0 | U21: =SUMIFS('[1]CONSOLIDADO POR SEDE JUNIO'!$K$5:$K$2604,'[1]CONSOLIDADO POR SEDE JUNIO'!$E$5:$E$2604,'RUBROS JUNIO'!$A21,'[1]CONSOLIDADO POR SEDE JUNIO'!$C$5:$C$2604,'RUBROS JUNIO'!U$5) -> 0 | V21: =SUMIFS('[1]CONSOLIDADO POR SEDE JUNIO'!$K$5:$K$2604,'[1]CONSOLIDADO POR SEDE JUNIO'!$E$5:$E$2604,'RUBROS JUNIO'!$A21,'[1]CONSOLIDADO POR SEDE JUNIO'!$C$5:$C$2604,'RUBROS JUNIO'!V$5) -> 0 | W21: =SUMIFS('[1]CONSOLIDADO POR SEDE JUNIO'!$K$5:$K$2604,'[1]CONSOLIDADO POR SEDE JUNIO'!$E$5:$E$2604,'RUBROS JUNIO'!$A21,'[1]CONSOLIDADO POR SEDE JUNIO'!$C$5:$C$2604,'RUBROS JUNIO'!W$5) -> 0 | X21: =SUMIFS('[1]CONSOLIDADO POR SEDE JUNIO'!$K$5:$K$2604,'[1]CONSOLIDADO POR SEDE JUNIO'!$E$5:$E$2604,'RUBROS JUNIO'!$A21,'[1]CONSOLIDADO POR SEDE JUNIO'!$C$5:$C$2604,'RUBROS JUNIO'!X$5) -> 0 | Y21: =SUMIFS('[1]CONSOLIDADO POR SEDE JUNIO'!$K$5:$K$2604,'[1]CONSOLIDADO POR SEDE JUNIO'!$E$5:$E$2604,'RUBROS JUNIO'!$A21,'[1]CONSOLIDADO POR SEDE JUNIO'!$C$5:$C$2604,'RUBROS JUNIO'!Y$5) -> 0 | Z21: =SUMIFS('[1]CONSOLIDADO POR SEDE JUNIO'!$K$5:$K$2604,'[1]CONSOLIDADO POR SEDE JUNIO'!$E$5:$E$2604,'RUBROS JUNIO'!$A21,'[1]CONSOLIDADO POR SEDE JUNIO'!$C$5:$C$2604,'RUBROS JUNIO'!Z$5) -> 0 | AA21: =SUMIFS('[1]CONSOLIDADO POR SEDE JUNIO'!$K$5:$K$2604,'[1]CONSOLIDADO POR SEDE JUNIO'!$E$5:$E$2604,'RUBROS JUNIO'!$A21,'[1]CONSOLIDADO POR SEDE JUNIO'!$C$5:$C$2604,'RUBROS JUNIO'!AA$5) -> 0 | ... AF21: =SUMIFS('[1]CONSOLIDADO POR SEDE JUNIO'!$K$5:$K$2604,'[1]CONSOLIDADO POR SEDE JUNIO'!$E$5:$E$2604,'RUBROS JUNIO'!$A21,'[1]CONSOLIDADO POR SEDE JUNIO'!$C$5:$C$2604,'RUBROS JUNIO'!AF$5) -> 0 | AG21: 0 | AH21: =SUMIFS('[1]CONSOLIDADO POR SEDE JUNIO'!$K$5:$K$2604,'[1]CONSOLIDADO POR SEDE JUNIO'!$E$5:$E$2604,'RUBROS JUNIO'!$A21,'[1]CONSOLIDADO POR SEDE JUNIO'!$C$5:$C$2604,'RUBROS JUNIO'!AH$5) -> 0 | AI21: =SUMIFS('[1]CONSOLIDADO POR SEDE JUNIO'!$K$5:$K$2604,'[1]CONSOLIDADO POR SEDE JUNIO'!$E$5:$E$2604,'RUBROS JUNIO'!$A21,'[1]CONSOLIDADO POR SEDE JUNIO'!$C$5:$C$2604,'RUBROS JUNIO'!AI$5) -> 0 | AJ21: =SUMIFS('[1]CONSOLIDADO POR SEDE JUNIO'!$K$5:$K$2604,'[1]CONSOLIDADO POR SEDE JUNIO'!$E$5:$E$2604,'RUBROS JUNIO'!$A21,'[1]CONSOLIDADO POR SEDE JUNIO'!$C$5:$C$2604,'RUBROS JUNIO'!AJ$5) -> 0 | AK21: =SUMIFS('[1]CONSOLIDADO POR SEDE JUNIO'!$K$5:$K$2604,'[1]CONSOLIDADO POR SEDE JUNIO'!$E$5:$E$2604,'RUBROS JUNIO'!$A21,'[1]CONSOLIDADO POR SEDE JUNIO'!$C$5:$C$2604,'RUBROS JUNIO'!AK$5) -> 0 | AL21: =SUMIFS('[1]CONSOLIDADO POR SEDE JUNIO'!$K$5:$K$2604,'[1]CONSOLIDADO POR SEDE JUNIO'!$E$5:$E$2604,'RUBROS JUNIO'!$A21,'[1]CONSOLIDADO POR SEDE JUNIO'!$C$5:$C$2604,'RUBROS JUNIO'!AL$5) -> 0 | AM21: 0 | AN21: =SUMIFS('[1]CONSOLIDADO POR SEDE JUNIO'!$K$5:$K$2604,'[1]CONSOLIDADO POR SEDE JUNIO'!$E$5:$E$2604,'RUBROS JUNIO'!$A21,'[1]CONSOLIDADO POR SEDE JUNIO'!$C$5:$C$2604,'RUBROS JUNIO'!AN$5) -> 0 | AO21: =SUMIFS('[1]CONSOLIDADO POR SEDE JUNIO'!$K$5:$K$2604,'[1]CONSOLIDADO POR SEDE JUNIO'!$E$5:$E$2604,'RUBROS JUNIO'!$A21,'[1]CONSOLIDADO POR SEDE JUNIO'!$C$5:$C$2604,'RUBROS JUNIO'!AO$5) -> 6056.7554 | AP21: =SUMIFS('[1]CONSOLIDADO POR SEDE JUNIO'!$K$5:$K$2604,'[1]CONSOLIDADO POR SEDE JUNIO'!$E$5:$E$2604,'RUBROS JUNIO'!$A21,'[1]CONSOLIDADO POR SEDE JUNIO'!$C$5:$C$2604,'RUBROS JUNIO'!AP$5) -> 0 | AR21: 552309.05 | AS21: 19495260
A22: SEDE 17 - CADE LOS LUCEROS | B22: 4222127 | C22: =SUMIFS('[1]CONSOLIDADO POR SEDE JUNIO'!$K$5:$K$2604,'[1]CONSOLIDADO POR SEDE JUNIO'!$E$5:$E$2604,'RUBROS JUNIO'!$A22,'[1]CONSOLIDADO POR SEDE JUNIO'!$C$5:$C$2604,'RUBROS JUNIO'!C$5) -> 0 | D22: =SUMIFS('[1]CONSOLIDADO POR SEDE JUNIO'!$K$5:$K$2604,'[1]CONSOLIDADO POR SEDE JUNIO'!$E$5:$E$2604,'RUBROS JUNIO'!$A22,'[1]CONSOLIDADO POR SEDE JUNIO'!$C$5:$C$2604,'RUBROS JUNIO'!D$5) -> 0 | E22: =SUMIFS('[1]CONSOLIDADO POR SEDE JUNIO'!$K$5:$K$2604,'[1]CONSOLIDADO POR SEDE JUNIO'!$E$5:$E$2604,'RUBROS JUNIO'!$A22,'[1]CONSOLIDADO POR SEDE JUNIO'!$C$5:$C$2604,'RUBROS JUNIO'!E$5) -> 0 | F22: 0 | G22: =SUMIFS('[1]CONSOLIDADO POR SEDE JUNIO'!$K$5:$K$2604,'[1]CONSOLIDADO POR SEDE JUNIO'!$E$5:$E$2604,'RUBROS JUNIO'!$A22,'[1]CONSOLIDADO POR SEDE JUNIO'!$C$5:$C$2604,'RUBROS JUNIO'!G$5) -> 0 | H22: =SUMIFS('[1]CONSOLIDADO POR SEDE JUNIO'!$K$5:$K$2604,'[1]CONSOLIDADO POR SEDE JUNIO'!$E$5:$E$2604,'RUBROS JUNIO'!$A22,'[1]CONSOLIDADO POR SEDE JUNIO'!$C$5:$C$2604,'RUBROS JUNIO'!H$5) -> 0 | I22: =SUMIFS('[1]CONSOLIDADO POR SEDE JUNIO'!$K$5:$K$2604,'[1]CONSOLIDADO POR SEDE JUNIO'!$E$5:$E$2604,'RUBROS JUNIO'!$A22,'[1]CONSOLIDADO POR SEDE JUNIO'!$C$5:$C$2604,'RUBROS JUNIO'!I$5) -> 0 | J22: 0 | K22: =SUMIFS('[1]CONSOLIDADO POR SEDE JUNIO'!$K$5:$K$2604,'[1]CONSOLIDADO POR SEDE JUNIO'!$E$5:$E$2604,'RUBROS JUNIO'!$A22,'[1]CONSOLIDADO POR SEDE JUNIO'!$C$5:$C$2604,'RUBROS JUNIO'!K$5) -> 0 | L22: =SUMIFS('[1]CONSOLIDADO POR SEDE JUNIO'!$K$5:$K$2604,'[1]CONSOLIDADO POR SEDE JUNIO'!$E$5:$E$2604,'RUBROS JUNIO'!$A22,'[1]CONSOLIDADO POR SEDE JUNIO'!$C$5:$C$2604,'RUBROS JUNIO'!L$5) -> 0 | M22: =SUMIFS('[1]CONSOLIDADO POR SEDE JUNIO'!$K$5:$K$2604,'[1]CONSOLIDADO POR SEDE JUNIO'!$E$5:$E$2604,'RUBROS JUNIO'!$A22,'[1]CONSOLIDADO POR SEDE JUNIO'!$C$5:$C$2604,'RUBROS JUNIO'!M$5) -> 0 | N22: =SUMIFS('[1]CONSOLIDADO POR SEDE JUNIO'!$K$5:$K$2604,'[1]CONSOLIDADO POR SEDE JUNIO'!$E$5:$E$2604,'RUBROS JUNIO'!$A22,'[1]CONSOLIDADO POR SEDE JUNIO'!$C$5:$C$2604,'RUBROS JUNIO'!N$5) -> 0 | O22: =SUMIFS('[1]CONSOLIDADO POR SEDE JUNIO'!$K$5:$K$2604,'[1]CONSOLIDADO POR SEDE JUNIO'!$E$5:$E$2604,'RUBROS JUNIO'!$A22,'[1]CONSOLIDADO POR SEDE JUNIO'!$C$5:$C$2604,'RUBROS JUNIO'!O$5) -> 0 | P22: =SUMIFS('[1]CONSOLIDADO POR SEDE JUNIO'!$K$5:$K$2604,'[1]CONSOLIDADO POR SEDE JUNIO'!$E$5:$E$2604,'RUBROS JUNIO'!$A22,'[1]CONSOLIDADO POR SEDE JUNIO'!$C$5:$C$2604,'RUBROS JUNIO'!P$5) -> 0 | Q22: 0 | R22: =SUMIFS('[1]CONSOLIDADO POR SEDE JUNIO'!$K$5:$K$2604,'[1]CONSOLIDADO POR SEDE JUNIO'!$E$5:$E$2604,'RUBROS JUNIO'!$A22,'[1]CONSOLIDADO POR SEDE JUNIO'!$C$5:$C$2604,'RUBROS JUNIO'!R$5) -> 0 | S22: 0 | T22: =SUMIFS('[1]CONSOLIDADO POR SEDE JUNIO'!$K$5:$K$2604,'[1]CONSOLIDADO POR SEDE JUNIO'!$E$5:$E$2604,'RUBROS JUNIO'!$A22,'[1]CONSOLIDADO POR SEDE JUNIO'!$C$5:$C$2604,'RUBROS JUNIO'!T$5) -> 0 | U22: =SUMIFS('[1]CONSOLIDADO POR SEDE JUNIO'!$K$5:$K$2604,'[1]CONSOLIDADO POR SEDE JUNIO'!$E$5:$E$2604,'RUBROS JUNIO'!$A22,'[1]CONSOLIDADO POR SEDE JUNIO'!$C$5:$C$2604,'RUBROS JUNIO'!U$5) -> 0 | V22: =SUMIFS('[1]CONSOLIDADO POR SEDE JUNIO'!$K$5:$K$2604,'[1]CONSOLIDADO POR SEDE JUNIO'!$E$5:$E$2604,'RUBROS JUNIO'!$A22,'[1]CONSOLIDADO POR SEDE JUNIO'!$C$5:$C$2604,'RUBROS JUNIO'!V$5) -> 0 | W22: =SUMIFS('[1]CONSOLIDADO POR SEDE JUNIO'!$K$5:$K$2604,'[1]CONSOLIDADO POR SEDE JUNIO'!$E$5:$E$2604,'RUBROS JUNIO'!$A22,'[1]CONSOLIDADO POR SEDE JUNIO'!$C$5:$C$2604,'RUBROS JUNIO'!W$5) -> 0 | X22: =SUMIFS('[1]CONSOLIDADO POR SEDE JUNIO'!$K$5:$K$2604,'[1]CONSOLIDADO POR SEDE JUNIO'!$E$5:$E$2604,'RUBROS JUNIO'!$A22,'[1]CONSOLIDADO POR SEDE JUNIO'!$C$5:$C$2604,'RUBROS JUNIO'!X$5) -> 0 | Y22: =SUMIFS('[1]CONSOLIDADO POR SEDE JUNIO'!$K$5:$K$2604,'[1]CONSOLIDADO POR SEDE JUNIO'!$E$5:$E$2604,'RUBROS JUNIO'!$A22,'[1]CONSOLIDADO POR SEDE JUNIO'!$C$5:$C$2604,'RUBROS JUNIO'!Y$5) -> 0 | Z22: =SUMIFS('[1]CONSOLIDADO POR SEDE JUNIO'!$K$5:$K$2604,'[1]CONSOLIDADO POR SEDE JUNIO'!$E$5:$E$2604,'RUBROS JUNIO'!$A22,'[1]CONSOLIDADO POR SEDE JUNIO'!$C$5:$C$2604,'RUBROS JUNIO'!Z$5) -> 0 | AA22: =SUMIFS('[1]CONSOLIDADO POR SEDE JUNIO'!$K$5:$K$2604,'[1]CONSOLIDADO POR SEDE JUNIO'!$E$5:$E$2604,'RUBROS JUNIO'!$A22,'[1]CONSOLIDADO POR SEDE JUNIO'!$C$5:$C$2604,'RUBROS JUNIO'!AA$5) -> 0 | ... AF22: =SUMIFS('[1]CONSOLIDADO POR SEDE JUNIO'!$K$5:$K$2604,'[1]CONSOLIDADO POR SEDE JUNIO'!$E$5:$E$2604,'RUBROS JUNIO'!$A22,'[1]CONSOLIDADO POR SEDE JUNIO'!$C$5:$C$2604,'RUBROS JUNIO'!AF$5) -> 0 | AG22: 0 | AH22: =SUMIFS('[1]CONSOLIDADO POR SEDE JUNIO'!$K$5:$K$2604,'[1]CONSOLIDADO POR SEDE JUNIO'!$E$5:$E$2604,'RUBROS JUNIO'!$A22,'[1]CONSOLIDADO POR SEDE JUNIO'!$C$5:$C$2604,'RUBROS JUNIO'!AH$5) -> 0 | AI22: =SUMIFS('[1]CONSOLIDADO POR SEDE JUNIO'!$K$5:$K$2604,'[1]CONSOLIDADO POR SEDE JUNIO'!$E$5:$E$2604,'RUBROS JUNIO'!$A22,'[1]CONSOLIDADO POR SEDE JUNIO'!$C$5:$C$2604,'RUBROS JUNIO'!AI$5) -> 0 | AJ22: =SUMIFS('[1]CONSOLIDADO POR SEDE JUNIO'!$K$5:$K$2604,'[1]CONSOLIDADO POR SEDE JUNIO'!$E$5:$E$2604,'RUBROS JUNIO'!$A22,'[1]CONSOLIDADO POR SEDE JUNIO'!$C$5:$C$2604,'RUBROS JUNIO'!AJ$5) -> 0 | AK22: =SUMIFS('[1]CONSOLIDADO POR SEDE JUNIO'!$K$5:$K$2604,'[1]CONSOLIDADO POR SEDE JUNIO'!$E$5:$E$2604,'RUBROS JUNIO'!$A22,'[1]CONSOLIDADO POR SEDE JUNIO'!$C$5:$C$2604,'RUBROS JUNIO'!AK$5) -> 0 | AL22: =SUMIFS('[1]CONSOLIDADO POR SEDE JUNIO'!$K$5:$K$2604,'[1]CONSOLIDADO POR SEDE JUNIO'!$E$5:$E$2604,'RUBROS JUNIO'!$A22,'[1]CONSOLIDADO POR SEDE JUNIO'!$C$5:$C$2604,'RUBROS JUNIO'!AL$5) -> 0 | AM22: 0 | AN22: =SUMIFS('[1]CONSOLIDADO POR SEDE JUNIO'!$K$5:$K$2604,'[1]CONSOLIDADO POR SEDE JUNIO'!$E$5:$E$2604,'RUBROS JUNIO'!$A22,'[1]CONSOLIDADO POR SEDE JUNIO'!$C$5:$C$2604,'RUBROS JUNIO'!AN$5) -> 0 | AO22: =SUMIFS('[1]CONSOLIDADO POR SEDE JUNIO'!$K$5:$K$2604,'[1]CONSOLIDADO POR SEDE JUNIO'!$E$5:$E$2604,'RUBROS JUNIO'!$A22,'[1]CONSOLIDADO POR SEDE JUNIO'!$C$5:$C$2604,'RUBROS JUNIO'!AO$5) -> 0 | AP22: =SUMIFS('[1]CONSOLIDADO POR SEDE JUNIO'!$K$5:$K$2604,'[1]CONSOLIDADO POR SEDE JUNIO'!$E$5:$E$2604,'RUBROS JUNIO'!$A22,'[1]CONSOLIDADO POR SEDE JUNIO'!$C$5:$C$2604,'RUBROS JUNIO'!AP$5) -> 0 | AR22: 289826.92 | AS22: 3899052.1
A23: SEDE 18 - CENTRO DE MEMORIA, PAZ Y RECONCILIACIÓN | B23: 4121000 | C23: =SUMIFS('[1]CONSOLIDADO POR SEDE JUNIO'!$K$5:$K$2604,'[1]CONSOLIDADO POR SEDE JUNIO'!$E$5:$E$2604,'RUBROS JUNIO'!$A23,'[1]CONSOLIDADO POR SEDE JUNIO'!$C$5:$C$2604,'RUBROS JUNIO'!C$5) -> 0 | D23: =SUMIFS('[1]CONSOLIDADO POR SEDE JUNIO'!$K$5:$K$2604,'[1]CONSOLIDADO POR SEDE JUNIO'!$E$5:$E$2604,'RUBROS JUNIO'!$A23,'[1]CONSOLIDADO POR SEDE JUNIO'!$C$5:$C$2604,'RUBROS JUNIO'!D$5) -> 0 | E23: =SUMIFS('[1]CONSOLIDADO POR SEDE JUNIO'!$K$5:$K$2604,'[1]CONSOLIDADO POR SEDE JUNIO'!$E$5:$E$2604,'RUBROS JUNIO'!$A23,'[1]CONSOLIDADO POR SEDE JUNIO'!$C$5:$C$2604,'RUBROS JUNIO'!E$5) -> 0 | F23: 0 | G23: =SUMIFS('[1]CONSOLIDADO POR SEDE JUNIO'!$K$5:$K$2604,'[1]CONSOLIDADO POR SEDE JUNIO'!$E$5:$E$2604,'RUBROS JUNIO'!$A23,'[1]CONSOLIDADO POR SEDE JUNIO'!$C$5:$C$2604,'RUBROS JUNIO'!G$5) -> 287287.78 | H23: =SUMIFS('[1]CONSOLIDADO POR SEDE JUNIO'!$K$5:$K$2604,'[1]CONSOLIDADO POR SEDE JUNIO'!$E$5:$E$2604,'RUBROS JUNIO'!$A23,'[1]CONSOLIDADO POR SEDE JUNIO'!$C$5:$C$2604,'RUBROS JUNIO'!H$5) -> 0 | I23: =SUMIFS('[1]CONSOLIDADO POR SEDE JUNIO'!$K$5:$K$2604,'[1]CONSOLIDADO POR SEDE JUNIO'!$E$5:$E$2604,'RUBROS JUNIO'!$A23,'[1]CONSOLIDADO POR SEDE JUNIO'!$C$5:$C$2604,'RUBROS JUNIO'!I$5) -> 0 | J23: 0 | K23: =SUMIFS('[1]CONSOLIDADO POR SEDE JUNIO'!$K$5:$K$2604,'[1]CONSOLIDADO POR SEDE JUNIO'!$E$5:$E$2604,'RUBROS JUNIO'!$A23,'[1]CONSOLIDADO POR SEDE JUNIO'!$C$5:$C$2604,'RUBROS JUNIO'!K$5) -> 0 | L23: =SUMIFS('[1]CONSOLIDADO POR SEDE JUNIO'!$K$5:$K$2604,'[1]CONSOLIDADO POR SEDE JUNIO'!$E$5:$E$2604,'RUBROS JUNIO'!$A23,'[1]CONSOLIDADO POR SEDE JUNIO'!$C$5:$C$2604,'RUBROS JUNIO'!L$5) -> 0 | M23: =SUMIFS('[1]CONSOLIDADO POR SEDE JUNIO'!$K$5:$K$2604,'[1]CONSOLIDADO POR SEDE JUNIO'!$E$5:$E$2604,'RUBROS JUNIO'!$A23,'[1]CONSOLIDADO POR SEDE JUNIO'!$C$5:$C$2604,'RUBROS JUNIO'!M$5) -> 0 | N23: =SUMIFS('[1]CONSOLIDADO POR SEDE JUNIO'!$K$5:$K$2604,'[1]CONSOLIDADO POR SEDE JUNIO'!$E$5:$E$2604,'RUBROS JUNIO'!$A23,'[1]CONSOLIDADO POR SEDE JUNIO'!$C$5:$C$2604,'RUBROS JUNIO'!N$5) -> 0 | O23: =SUMIFS('[1]CONSOLIDADO POR SEDE JUNIO'!$K$5:$K$2604,'[1]CONSOLIDADO POR SEDE JUNIO'!$E$5:$E$2604,'RUBROS JUNIO'!$A23,'[1]CONSOLIDADO POR SEDE JUNIO'!$C$5:$C$2604,'RUBROS JUNIO'!O$5) -> 0 | P23: =SUMIFS('[1]CONSOLIDADO POR SEDE JUNIO'!$K$5:$K$2604,'[1]CONSOLIDADO POR SEDE JUNIO'!$E$5:$E$2604,'RUBROS JUNIO'!$A23,'[1]CONSOLIDADO POR SEDE JUNIO'!$C$5:$C$2604,'RUBROS JUNIO'!P$5) -> 0 | Q23: 598507.39 | R23: =SUMIFS('[1]CONSOLIDADO POR SEDE JUNIO'!$K$5:$K$2604,'[1]CONSOLIDADO POR SEDE JUNIO'!$E$5:$E$2604,'RUBROS JUNIO'!$A23,'[1]CONSOLIDADO POR SEDE JUNIO'!$C$5:$C$2604,'RUBROS JUNIO'!R$5) -> 0 | S23: 0 | T23: =SUMIFS('[1]CONSOLIDADO POR SEDE JUNIO'!$K$5:$K$2604,'[1]CONSOLIDADO POR SEDE JUNIO'!$E$5:$E$2604,'RUBROS JUNIO'!$A23,'[1]CONSOLIDADO POR SEDE JUNIO'!$C$5:$C$2604,'RUBROS JUNIO'!T$5) -> 0 | U23: =SUMIFS('[1]CONSOLIDADO POR SEDE JUNIO'!$K$5:$K$2604,'[1]CONSOLIDADO POR SEDE JUNIO'!$E$5:$E$2604,'RUBROS JUNIO'!$A23,'[1]CONSOLIDADO POR SEDE JUNIO'!$C$5:$C$2604,'RUBROS JUNIO'!U$5) -> 0 | V23: =SUMIFS('[1]CONSOLIDADO POR SEDE JUNIO'!$K$5:$K$2604,'[1]CONSOLIDADO POR SEDE JUNIO'!$E$5:$E$2604,'RUBROS JUNIO'!$A23,'[1]CONSOLIDADO POR SEDE JUNIO'!$C$5:$C$2604,'RUBROS JUNIO'!V$5) -> 0 | W23: =SUMIFS('[1]CONSOLIDADO POR SEDE JUNIO'!$K$5:$K$2604,'[1]CONSOLIDADO POR SEDE JUNIO'!$E$5:$E$2604,'RUBROS JUNIO'!$A23,'[1]CONSOLIDADO POR SEDE JUNIO'!$C$5:$C$2604,'RUBROS JUNIO'!W$5) -> 0 | X23: =SUMIFS('[1]CONSOLIDADO POR SEDE JUNIO'!$K$5:$K$2604,'[1]CONSOLIDADO POR SEDE JUNIO'!$E$5:$E$2604,'RUBROS JUNIO'!$A23,'[1]CONSOLIDADO POR SEDE JUNIO'!$C$5:$C$2604,'RUBROS JUNIO'!X$5) -> 15742.86 | Y23: =SUMIFS('[1]CONSOLIDADO POR SEDE JUNIO'!$K$5:$K$2604,'[1]CONSOLIDADO POR SEDE JUNIO'!$E$5:$E$2604,'RUBROS JUNIO'!$A23,'[1]CONSOLIDADO POR SEDE JUNIO'!$C$5:$C$2604,'RUBROS JUNIO'!Y$5) -> 0 | Z23: =SUMIFS('[1]CONSOLIDADO POR SEDE JUNIO'!$K$5:$K$2604,'[1]CONSOLIDADO POR SEDE JUNIO'!$E$5:$E$2604,'RUBROS JUNIO'!$A23,'[1]CONSOLIDADO POR SEDE JUNIO'!$C$5:$C$2604,'RUBROS JUNIO'!Z$5) -> 0 | AA23: =SUMIFS('[1]CONSOLIDADO POR SEDE JUNIO'!$K$5:$K$2604,'[1]CONSOLIDADO POR SEDE JUNIO'!$E$5:$E$2604,'RUBROS JUNIO'!$A23,'[1]CONSOLIDADO POR SEDE JUNIO'!$C$5:$C$2604,'RUBROS JUNIO'!AA$5) -> 0 | ... AF23: =SUMIFS('[1]CONSOLIDADO POR SEDE JUNIO'!$K$5:$K$2604,'[1]CONSOLIDADO POR SEDE JUNIO'!$E$5:$E$2604,'RUBROS JUNIO'!$A23,'[1]CONSOLIDADO POR SEDE JUNIO'!$C$5:$C$2604,'RUBROS JUNIO'!AF$5) -> 21525.591 | AG23: 0 | AH23: =SUMIFS('[1]CONSOLIDADO POR SEDE JUNIO'!$K$5:$K$2604,'[1]CONSOLIDADO POR SEDE JUNIO'!$E$5:$E$2604,'RUBROS JUNIO'!$A23,'[1]CONSOLIDADO POR SEDE JUNIO'!$C$5:$C$2604,'RUBROS JUNIO'!AH$5) -> 0 | AI23: =SUMIFS('[1]CONSOLIDADO POR SEDE JUNIO'!$K$5:$K$2604,'[1]CONSOLIDADO POR SEDE JUNIO'!$E$5:$E$2604,'RUBROS JUNIO'!$A23,'[1]CONSOLIDADO POR SEDE JUNIO'!$C$5:$C$2604,'RUBROS JUNIO'!AI$5) -> 0 | AJ23: =SUMIFS('[1]CONSOLIDADO POR SEDE JUNIO'!$K$5:$K$2604,'[1]CONSOLIDADO POR SEDE JUNIO'!$E$5:$E$2604,'RUBROS JUNIO'!$A23,'[1]CONSOLIDADO POR SEDE JUNIO'!$C$5:$C$2604,'RUBROS JUNIO'!AJ$5) -> 0 | AK23: =SUMIFS('[1]CONSOLIDADO POR SEDE JUNIO'!$K$5:$K$2604,'[1]CONSOLIDADO POR SEDE JUNIO'!$E$5:$E$2604,'RUBROS JUNIO'!$A23,'[1]CONSOLIDADO POR SEDE JUNIO'!$C$5:$C$2604,'RUBROS JUNIO'!AK$5) -> 0 | AL23: =SUMIFS('[1]CONSOLIDADO POR SEDE JUNIO'!$K$5:$K$2604,'[1]CONSOLIDADO POR SEDE JUNIO'!$E$5:$E$2604,'RUBROS JUNIO'!$A23,'[1]CONSOLIDADO POR SEDE JUNIO'!$C$5:$C$2604,'RUBROS JUNIO'!AL$5) -> 0 | AM23: 48424.641 | AN23: =SUMIFS('[1]CONSOLIDADO POR SEDE JUNIO'!$K$5:$K$2604,'[1]CONSOLIDADO POR SEDE JUNIO'!$E$5:$E$2604,'RUBROS JUNIO'!$A23,'[1]CONSOLIDADO POR SEDE JUNIO'!$C$5:$C$2604,'RUBROS JUNIO'!AN$5) -> 0 | AO23: =SUMIFS('[1]CONSOLIDADO POR SEDE JUNIO'!$K$5:$K$2604,'[1]CONSOLIDADO POR SEDE JUNIO'!$E$5:$E$2604,'RUBROS JUNIO'!$A23,'[1]CONSOLIDADO POR SEDE JUNIO'!$C$5:$C$2604,'RUBROS JUNIO'!AO$5) -> 0 | AP23: =SUMIFS('[1]CONSOLIDADO POR SEDE JUNIO'!$K$5:$K$2604,'[1]CONSOLIDADO POR SEDE JUNIO'!$E$5:$E$2604,'RUBROS JUNIO'!$A23,'[1]CONSOLIDADO POR SEDE JUNIO'!$C$5:$C$2604,'RUBROS JUNIO'!AP$5) -> 0 | AR23: 552309.05 | AS23: 31192417
A24: SEDE 19 - CENTRO DE ENCUENTRO BOSA | B24: 4123002 | C24: =SUMIFS('[1]CONSOLIDADO POR SEDE JUNIO'!$K$5:$K$2604,'[1]CONSOLIDADO POR SEDE JUNIO'!$E$5:$E$2604,'RUBROS JUNIO'!$A24,'[1]CONSOLIDADO POR SEDE JUNIO'!$C$5:$C$2604,'RUBROS JUNIO'!C$5) -> 0 | D24: =SUMIFS('[1]CONSOLIDADO POR SEDE JUNIO'!$K$5:$K$2604,'[1]CONSOLIDADO POR SEDE JUNIO'!$E$5:$E$2604,'RUBROS JUNIO'!$A24,'[1]CONSOLIDADO POR SEDE JUNIO'!$C$5:$C$2604,'RUBROS JUNIO'!D$5) -> 0 | E24: =SUMIFS('[1]CONSOLIDADO POR SEDE JUNIO'!$K$5:$K$2604,'[1]CONSOLIDADO POR SEDE JUNIO'!$E$5:$E$2604,'RUBROS JUNIO'!$A24,'[1]CONSOLIDADO POR SEDE JUNIO'!$C$5:$C$2604,'RUBROS JUNIO'!E$5) -> 0 | F24: 0 | G24: =SUMIFS('[1]CONSOLIDADO POR SEDE JUNIO'!$K$5:$K$2604,'[1]CONSOLIDADO POR SEDE JUNIO'!$E$5:$E$2604,'RUBROS JUNIO'!$A24,'[1]CONSOLIDADO POR SEDE JUNIO'!$C$5:$C$2604,'RUBROS JUNIO'!G$5) -> 165167.13 | H24: =SUMIFS('[1]CONSOLIDADO POR SEDE JUNIO'!$K$5:$K$2604,'[1]CONSOLIDADO POR SEDE JUNIO'!$E$5:$E$2604,'RUBROS JUNIO'!$A24,'[1]CONSOLIDADO POR SEDE JUNIO'!$C$5:$C$2604,'RUBROS JUNIO'!H$5) -> 0 | I24: =SUMIFS('[1]CONSOLIDADO POR SEDE JUNIO'!$K$5:$K$2604,'[1]CONSOLIDADO POR SEDE JUNIO'!$E$5:$E$2604,'RUBROS JUNIO'!$A24,'[1]CONSOLIDADO POR SEDE JUNIO'!$C$5:$C$2604,'RUBROS JUNIO'!I$5) -> 0 | J24: 0 | K24: =SUMIFS('[1]CONSOLIDADO POR SEDE JUNIO'!$K$5:$K$2604,'[1]CONSOLIDADO POR SEDE JUNIO'!$E$5:$E$2604,'RUBROS JUNIO'!$A24,'[1]CONSOLIDADO POR SEDE JUNIO'!$C$5:$C$2604,'RUBROS JUNIO'!K$5) -> 0 | L24: =SUMIFS('[1]CONSOLIDADO POR SEDE JUNIO'!$K$5:$K$2604,'[1]CONSOLIDADO POR SEDE JUNIO'!$E$5:$E$2604,'RUBROS JUNIO'!$A24,'[1]CONSOLIDADO POR SEDE JUNIO'!$C$5:$C$2604,'RUBROS JUNIO'!L$5) -> 0 | M24: =SUMIFS('[1]CONSOLIDADO POR SEDE JUNIO'!$K$5:$K$2604,'[1]CONSOLIDADO POR SEDE JUNIO'!$E$5:$E$2604,'RUBROS JUNIO'!$A24,'[1]CONSOLIDADO POR SEDE JUNIO'!$C$5:$C$2604,'RUBROS JUNIO'!M$5) -> 0 | N24: =SUMIFS('[1]CONSOLIDADO POR SEDE JUNIO'!$K$5:$K$2604,'[1]CONSOLIDADO POR SEDE JUNIO'!$E$5:$E$2604,'RUBROS JUNIO'!$A24,'[1]CONSOLIDADO POR SEDE JUNIO'!$C$5:$C$2604,'RUBROS JUNIO'!N$5) -> 0 | O24: =SUMIFS('[1]CONSOLIDADO POR SEDE JUNIO'!$K$5:$K$2604,'[1]CONSOLIDADO POR SEDE JUNIO'!$E$5:$E$2604,'RUBROS JUNIO'!$A24,'[1]CONSOLIDADO POR SEDE JUNIO'!$C$5:$C$2604,'RUBROS JUNIO'!O$5) -> 0 | P24: =SUMIFS('[1]CONSOLIDADO POR SEDE JUNIO'!$K$5:$K$2604,'[1]CONSOLIDADO POR SEDE JUNIO'!$E$5:$E$2604,'RUBROS JUNIO'!$A24,'[1]CONSOLIDADO POR SEDE JUNIO'!$C$5:$C$2604,'RUBROS JUNIO'!P$5) -> 0 | Q24: 23940.296 | R24: =SUMIFS('[1]CONSOLIDADO POR SEDE JUNIO'!$K$5:$K$2604,'[1]CONSOLIDADO POR SEDE JUNIO'!$E$5:$E$2604,'RUBROS JUNIO'!$A24,'[1]CONSOLIDADO POR SEDE JUNIO'!$C$5:$C$2604,'RUBROS JUNIO'!R$5) -> 0 | S24: 0 | T24: =SUMIFS('[1]CONSOLIDADO POR SEDE JUNIO'!$K$5:$K$2604,'[1]CONSOLIDADO POR SEDE JUNIO'!$E$5:$E$2604,'RUBROS JUNIO'!$A24,'[1]CONSOLIDADO POR SEDE JUNIO'!$C$5:$C$2604,'RUBROS JUNIO'!T$5) -> 0 | U24: =SUMIFS('[1]CONSOLIDADO POR SEDE JUNIO'!$K$5:$K$2604,'[1]CONSOLIDADO POR SEDE JUNIO'!$E$5:$E$2604,'RUBROS JUNIO'!$A24,'[1]CONSOLIDADO POR SEDE JUNIO'!$C$5:$C$2604,'RUBROS JUNIO'!U$5) -> 0 | V24: =SUMIFS('[1]CONSOLIDADO POR SEDE JUNIO'!$K$5:$K$2604,'[1]CONSOLIDADO POR SEDE JUNIO'!$E$5:$E$2604,'RUBROS JUNIO'!$A24,'[1]CONSOLIDADO POR SEDE JUNIO'!$C$5:$C$2604,'RUBROS JUNIO'!V$5) -> 0 | W24: =SUMIFS('[1]CONSOLIDADO POR SEDE JUNIO'!$K$5:$K$2604,'[1]CONSOLIDADO POR SEDE JUNIO'!$E$5:$E$2604,'RUBROS JUNIO'!$A24,'[1]CONSOLIDADO POR SEDE JUNIO'!$C$5:$C$2604,'RUBROS JUNIO'!W$5) -> 0 | X24: =SUMIFS('[1]CONSOLIDADO POR SEDE JUNIO'!$K$5:$K$2604,'[1]CONSOLIDADO POR SEDE JUNIO'!$E$5:$E$2604,'RUBROS JUNIO'!$A24,'[1]CONSOLIDADO POR SEDE JUNIO'!$C$5:$C$2604,'RUBROS JUNIO'!X$5) -> 0 | Y24: =SUMIFS('[1]CONSOLIDADO POR SEDE JUNIO'!$K$5:$K$2604,'[1]CONSOLIDADO POR SEDE JUNIO'!$E$5:$E$2604,'RUBROS JUNIO'!$A24,'[1]CONSOLIDADO POR SEDE JUNIO'!$C$5:$C$2604,'RUBROS JUNIO'!Y$5) -> 0 | Z24: =SUMIFS('[1]CONSOLIDADO POR SEDE JUNIO'!$K$5:$K$2604,'[1]CONSOLIDADO POR SEDE JUNIO'!$E$5:$E$2604,'RUBROS JUNIO'!$A24,'[1]CONSOLIDADO POR SEDE JUNIO'!$C$5:$C$2604,'RUBROS JUNIO'!Z$5) -> 0 | AA24: =SUMIFS('[1]CONSOLIDADO POR SEDE JUNIO'!$K$5:$K$2604,'[1]CONSOLIDADO POR SEDE JUNIO'!$E$5:$E$2604,'RUBROS JUNIO'!$A24,'[1]CONSOLIDADO POR SEDE JUNIO'!$C$5:$C$2604,'RUBROS JUNIO'!AA$5) -> 0 | ... AF24: =SUMIFS('[1]CONSOLIDADO POR SEDE JUNIO'!$K$5:$K$2604,'[1]CONSOLIDADO POR SEDE JUNIO'!$E$5:$E$2604,'RUBROS JUNIO'!$A24,'[1]CONSOLIDADO POR SEDE JUNIO'!$C$5:$C$2604,'RUBROS JUNIO'!AF$5) -> 0 | AG24: 0 | AH24: =SUMIFS('[1]CONSOLIDADO POR SEDE JUNIO'!$K$5:$K$2604,'[1]CONSOLIDADO POR SEDE JUNIO'!$E$5:$E$2604,'RUBROS JUNIO'!$A24,'[1]CONSOLIDADO POR SEDE JUNIO'!$C$5:$C$2604,'RUBROS JUNIO'!AH$5) -> 0 | AI24: =SUMIFS('[1]CONSOLIDADO POR SEDE JUNIO'!$K$5:$K$2604,'[1]CONSOLIDADO POR SEDE JUNIO'!$E$5:$E$2604,'RUBROS JUNIO'!$A24,'[1]CONSOLIDADO POR SEDE JUNIO'!$C$5:$C$2604,'RUBROS JUNIO'!AI$5) -> 0 | AJ24: =SUMIFS('[1]CONSOLIDADO POR SEDE JUNIO'!$K$5:$K$2604,'[1]CONSOLIDADO POR SEDE JUNIO'!$E$5:$E$2604,'RUBROS JUNIO'!$A24,'[1]CONSOLIDADO POR SEDE JUNIO'!$C$5:$C$2604,'RUBROS JUNIO'!AJ$5) -> 0 | AK24: =SUMIFS('[1]CONSOLIDADO POR SEDE JUNIO'!$K$5:$K$2604,'[1]CONSOLIDADO POR SEDE JUNIO'!$E$5:$E$2604,'RUBROS JUNIO'!$A24,'[1]CONSOLIDADO POR SEDE JUNIO'!$C$5:$C$2604,'RUBROS JUNIO'!AK$5) -> 0 | AL24: =SUMIFS('[1]CONSOLIDADO POR SEDE JUNIO'!$K$5:$K$2604,'[1]CONSOLIDADO POR SEDE JUNIO'!$E$5:$E$2604,'RUBROS JUNIO'!$A24,'[1]CONSOLIDADO POR SEDE JUNIO'!$C$5:$C$2604,'RUBROS JUNIO'!AL$5) -> 0 | AM24: 32283.094 | AN24: =SUMIFS('[1]CONSOLIDADO POR SEDE JUNIO'!$K$5:$K$2604,'[1]CONSOLIDADO POR SEDE JUNIO'!$E$5:$E$2604,'RUBROS JUNIO'!$A24,'[1]CONSOLIDADO POR SEDE JUNIO'!$C$5:$C$2604,'RUBROS JUNIO'!AN$5) -> 35879.513 | AO24: =SUMIFS('[1]CONSOLIDADO POR SEDE JUNIO'!$K$5:$K$2604,'[1]CONSOLIDADO POR SEDE JUNIO'!$E$5:$E$2604,'RUBROS JUNIO'!$A24,'[1]CONSOLIDADO POR SEDE JUNIO'!$C$5:$C$2604,'RUBROS JUNIO'!AO$5) -> 0 | AP24: =SUMIFS('[1]CONSOLIDADO POR SEDE JUNIO'!$K$5:$K$2604,'[1]CONSOLIDADO POR SEDE JUNIO'!$E$5:$E$2604,'RUBROS JUNIO'!$A24,'[1]CONSOLIDADO POR SEDE JUNIO'!$C$5:$C$2604,'RUBROS JUNIO'!AP$5) -> 0 | AR24: 320757.53 | AS24: 23004407
A25: SEDE 20 - CENTRO DE ENCUENTRO CHAPINERO | B25: 4123005 | C25: =SUMIFS('[1]CONSOLIDADO POR SEDE JUNIO'!$K$5:$K$2604,'[1]CONSOLIDADO POR SEDE JUNIO'!$E$5:$E$2604,'RUBROS JUNIO'!$A25,'[1]CONSOLIDADO POR SEDE JUNIO'!$C$5:$C$2604,'RUBROS JUNIO'!C$5) -> 0 | D25: =SUMIFS('[1]CONSOLIDADO POR SEDE JUNIO'!$K$5:$K$2604,'[1]CONSOLIDADO POR SEDE JUNIO'!$E$5:$E$2604,'RUBROS JUNIO'!$A25,'[1]CONSOLIDADO POR SEDE JUNIO'!$C$5:$C$2604,'RUBROS JUNIO'!D$5) -> 0 | E25: =SUMIFS('[1]CONSOLIDADO POR SEDE JUNIO'!$K$5:$K$2604,'[1]CONSOLIDADO POR SEDE JUNIO'!$E$5:$E$2604,'RUBROS JUNIO'!$A25,'[1]CONSOLIDADO POR SEDE JUNIO'!$C$5:$C$2604,'RUBROS JUNIO'!E$5) -> 0 | F25: 0 | G25: =SUMIFS('[1]CONSOLIDADO POR SEDE JUNIO'!$K$5:$K$2604,'[1]CONSOLIDADO POR SEDE JUNIO'!$E$5:$E$2604,'RUBROS JUNIO'!$A25,'[1]CONSOLIDADO POR SEDE JUNIO'!$C$5:$C$2604,'RUBROS JUNIO'!G$5) -> 0 | H25: =SUMIFS('[1]CONSOLIDADO POR SEDE JUNIO'!$K$5:$K$2604,'[1]CONSOLIDADO POR SEDE JUNIO'!$E$5:$E$2604,'RUBROS JUNIO'!$A25,'[1]CONSOLIDADO POR SEDE JUNIO'!$C$5:$C$2604,'RUBROS JUNIO'!H$5) -> 0 | I25: =SUMIFS('[1]CONSOLIDADO POR SEDE JUNIO'!$K$5:$K$2604,'[1]CONSOLIDADO POR SEDE JUNIO'!$E$5:$E$2604,'RUBROS JUNIO'!$A25,'[1]CONSOLIDADO POR SEDE JUNIO'!$C$5:$C$2604,'RUBROS JUNIO'!I$5) -> 0 | J25: 0 | K25: =SUMIFS('[1]CONSOLIDADO POR SEDE JUNIO'!$K$5:$K$2604,'[1]CONSOLIDADO POR SEDE JUNIO'!$E$5:$E$2604,'RUBROS JUNIO'!$A25,'[1]CONSOLIDADO POR SEDE JUNIO'!$C$5:$C$2604,'RUBROS JUNIO'!K$5) -> 0 | L25: =SUMIFS('[1]CONSOLIDADO POR SEDE JUNIO'!$K$5:$K$2604,'[1]CONSOLIDADO POR SEDE JUNIO'!$E$5:$E$2604,'RUBROS JUNIO'!$A25,'[1]CONSOLIDADO POR SEDE JUNIO'!$C$5:$C$2604,'RUBROS JUNIO'!L$5) -> 0 | M25: =SUMIFS('[1]CONSOLIDADO POR SEDE JUNIO'!$K$5:$K$2604,'[1]CONSOLIDADO POR SEDE JUNIO'!$E$5:$E$2604,'RUBROS JUNIO'!$A25,'[1]CONSOLIDADO POR SEDE JUNIO'!$C$5:$C$2604,'RUBROS JUNIO'!M$5) -> 0 | N25: =SUMIFS('[1]CONSOLIDADO POR SEDE JUNIO'!$K$5:$K$2604,'[1]CONSOLIDADO POR SEDE JUNIO'!$E$5:$E$2604,'RUBROS JUNIO'!$A25,'[1]CONSOLIDADO POR SEDE JUNIO'!$C$5:$C$2604,'RUBROS JUNIO'!N$5) -> 0 | O25: =SUMIFS('[1]CONSOLIDADO POR SEDE JUNIO'!$K$5:$K$2604,'[1]CONSOLIDADO POR SEDE JUNIO'!$E$5:$E$2604,'RUBROS JUNIO'!$A25,'[1]CONSOLIDADO POR SEDE JUNIO'!$C$5:$C$2604,'RUBROS JUNIO'!O$5) -> 0 | P25: =SUMIFS('[1]CONSOLIDADO POR SEDE JUNIO'!$K$5:$K$2604,'[1]CONSOLIDADO POR SEDE JUNIO'!$E$5:$E$2604,'RUBROS JUNIO'!$A25,'[1]CONSOLIDADO POR SEDE JUNIO'!$C$5:$C$2604,'RUBROS JUNIO'!P$5) -> 0 | Q25: 0 | R25: =SUMIFS('[1]CONSOLIDADO POR SEDE JUNIO'!$K$5:$K$2604,'[1]CONSOLIDADO POR SEDE JUNIO'!$E$5:$E$2604,'RUBROS JUNIO'!$A25,'[1]CONSOLIDADO POR SEDE JUNIO'!$C$5:$C$2604,'RUBROS JUNIO'!R$5) -> 0 | S25: 0 | T25: =SUMIFS('[1]CONSOLIDADO POR SEDE JUNIO'!$K$5:$K$2604,'[1]CONSOLIDADO POR SEDE JUNIO'!$E$5:$E$2604,'RUBROS JUNIO'!$A25,'[1]CONSOLIDADO POR SEDE JUNIO'!$C$5:$C$2604,'RUBROS JUNIO'!T$5) -> 0 | U25: =SUMIFS('[1]CONSOLIDADO POR SEDE JUNIO'!$K$5:$K$2604,'[1]CONSOLIDADO POR SEDE JUNIO'!$E$5:$E$2604,'RUBROS JUNIO'!$A25,'[1]CONSOLIDADO POR SEDE JUNIO'!$C$5:$C$2604,'RUBROS JUNIO'!U$5) -> 0 | V25: =SUMIFS('[1]CONSOLIDADO POR SEDE JUNIO'!$K$5:$K$2604,'[1]CONSOLIDADO POR SEDE JUNIO'!$E$5:$E$2604,'RUBROS JUNIO'!$A25,'[1]CONSOLIDADO POR SEDE JUNIO'!$C$5:$C$2604,'RUBROS JUNIO'!V$5) -> 0 | W25: =SUMIFS('[1]CONSOLIDADO POR SEDE JUNIO'!$K$5:$K$2604,'[1]CONSOLIDADO POR SEDE JUNIO'!$E$5:$E$2604,'RUBROS JUNIO'!$A25,'[1]CONSOLIDADO POR SEDE JUNIO'!$C$5:$C$2604,'RUBROS JUNIO'!W$5) -> 0 | X25: =SUMIFS('[1]CONSOLIDADO POR SEDE JUNIO'!$K$5:$K$2604,'[1]CONSOLIDADO POR SEDE JUNIO'!$E$5:$E$2604,'RUBROS JUNIO'!$A25,'[1]CONSOLIDADO POR SEDE JUNIO'!$C$5:$C$2604,'RUBROS JUNIO'!X$5) -> 0 | Y25: =SUMIFS('[1]CONSOLIDADO POR SEDE JUNIO'!$K$5:$K$2604,'[1]CONSOLIDADO POR SEDE JUNIO'!$E$5:$E$2604,'RUBROS JUNIO'!$A25,'[1]CONSOLIDADO POR SEDE JUNIO'!$C$5:$C$2604,'RUBROS JUNIO'!Y$5) -> 0 | Z25: =SUMIFS('[1]CONSOLIDADO POR SEDE JUNIO'!$K$5:$K$2604,'[1]CONSOLIDADO POR SEDE JUNIO'!$E$5:$E$2604,'RUBROS JUNIO'!$A25,'[1]CONSOLIDADO POR SEDE JUNIO'!$C$5:$C$2604,'RUBROS JUNIO'!Z$5) -> 0 | AA25: =SUMIFS('[1]CONSOLIDADO POR SEDE JUNIO'!$K$5:$K$2604,'[1]CONSOLIDADO POR SEDE JUNIO'!$E$5:$E$2604,'RUBROS JUNIO'!$A25,'[1]CONSOLIDADO POR SEDE JUNIO'!$C$5:$C$2604,'RUBROS JUNIO'!AA$5) -> 0 | ... AF25: =SUMIFS('[1]CONSOLIDADO POR SEDE JUNIO'!$K$5:$K$2604,'[1]CONSOLIDADO POR SEDE JUNIO'!$E$5:$E$2604,'RUBROS JUNIO'!$A25,'[1]CONSOLIDADO POR SEDE JUNIO'!$C$5:$C$2604,'RUBROS JUNIO'!AF$5) -> 0 | AG25: 0 | AH25: =SUMIFS('[1]CONSOLIDADO POR SEDE JUNIO'!$K$5:$K$2604,'[1]CONSOLIDADO POR SEDE JUNIO'!$E$5:$E$2604,'RUBROS JUNIO'!$A25,'[1]CONSOLIDADO POR SEDE JUNIO'!$C$5:$C$2604,'RUBROS JUNIO'!AH$5) -> 0 | AI25: =SUMIFS('[1]CONSOLIDADO POR SEDE JUNIO'!$K$5:$K$2604,'[1]CONSOLIDADO POR SEDE JUNIO'!$E$5:$E$2604,'RUBROS JUNIO'!$A25,'[1]CONSOLIDADO POR SEDE JUNIO'!$C$5:$C$2604,'RUBROS JUNIO'!AI$5) -> 0 | AJ25: =SUMIFS('[1]CONSOLIDADO POR SEDE JUNIO'!$K$5:$K$2604,'[1]CONSOLIDADO POR SEDE JUNIO'!$E$5:$E$2604,'RUBROS JUNIO'!$A25,'[1]CONSOLIDADO POR SEDE JUNIO'!$C$5:$C$2604,'RUBROS JUNIO'!AJ$5) -> 0 | AK25: =SUMIFS('[1]CONSOLIDADO POR SEDE JUNIO'!$K$5:$K$2604,'[1]CONSOLIDADO POR SEDE JUNIO'!$E$5:$E$2604,'RUBROS JUNIO'!$A25,'[1]CONSOLIDADO POR SEDE JUNIO'!$C$5:$C$2604,'RUBROS JUNIO'!AK$5) -> 0 | AL25: =SUMIFS('[1]CONSOLIDADO POR SEDE JUNIO'!$K$5:$K$2604,'[1]CONSOLIDADO POR SEDE JUNIO'!$E$5:$E$2604,'RUBROS JUNIO'!$A25,'[1]CONSOLIDADO POR SEDE JUNIO'!$C$5:$C$2604,'RUBROS JUNIO'!AL$5) -> 0 | AM25: 0 | AN25: =SUMIFS('[1]CONSOLIDADO POR SEDE JUNIO'!$K$5:$K$2604,'[1]CONSOLIDADO POR SEDE JUNIO'!$E$5:$E$2604,'RUBROS JUNIO'!$A25,'[1]CONSOLIDADO POR SEDE JUNIO'!$C$5:$C$2604,'RUBROS JUNIO'!AN$5) -> 0 | AO25: =SUMIFS('[1]CONSOLIDADO POR SEDE JUNIO'!$K$5:$K$2604,'[1]CONSOLIDADO POR SEDE JUNIO'!$E$5:$E$2604,'RUBROS JUNIO'!$A25,'[1]CONSOLIDADO POR SEDE JUNIO'!$C$5:$C$2604,'RUBROS JUNIO'!AO$5) -> 0 | AP25: =SUMIFS('[1]CONSOLIDADO POR SEDE JUNIO'!$K$5:$K$2604,'[1]CONSOLIDADO POR SEDE JUNIO'!$E$5:$E$2604,'RUBROS JUNIO'!$A25,'[1]CONSOLIDADO POR SEDE JUNIO'!$C$5:$C$2604,'RUBROS JUNIO'!AP$5) -> 0 | AR25: 320757.53 | AS25: 11697156
A26: SEDE 21 - CENTRO DE ENCUENTRO CIUDAD BOLIVAR | B26: 4123001 | C26: =SUMIFS('[1]CONSOLIDADO POR SEDE JUNIO'!$K$5:$K$2604,'[1]CONSOLIDADO POR SEDE JUNIO'!$E$5:$E$2604,'RUBROS JUNIO'!$A26,'[1]CONSOLIDADO POR SEDE JUNIO'!$C$5:$C$2604,'RUBROS JUNIO'!C$5) -> 0 | D26: =SUMIFS('[1]CONSOLIDADO POR SEDE JUNIO'!$K$5:$K$2604,'[1]CONSOLIDADO POR SEDE JUNIO'!$E$5:$E$2604,'RUBROS JUNIO'!$A26,'[1]CONSOLIDADO POR SEDE JUNIO'!$C$5:$C$2604,'RUBROS JUNIO'!D$5) -> 0 | E26: =SUMIFS('[1]CONSOLIDADO POR SEDE JUNIO'!$K$5:$K$2604,'[1]CONSOLIDADO POR SEDE JUNIO'!$E$5:$E$2604,'RUBROS JUNIO'!$A26,'[1]CONSOLIDADO POR SEDE JUNIO'!$C$5:$C$2604,'RUBROS JUNIO'!E$5) -> 0 | F26: 0 | G26: =SUMIFS('[1]CONSOLIDADO POR SEDE JUNIO'!$K$5:$K$2604,'[1]CONSOLIDADO POR SEDE JUNIO'!$E$5:$E$2604,'RUBROS JUNIO'!$A26,'[1]CONSOLIDADO POR SEDE JUNIO'!$C$5:$C$2604,'RUBROS JUNIO'!G$5) -> 201101.45 | H26: =SUMIFS('[1]CONSOLIDADO POR SEDE JUNIO'!$K$5:$K$2604,'[1]CONSOLIDADO POR SEDE JUNIO'!$E$5:$E$2604,'RUBROS JUNIO'!$A26,'[1]CONSOLIDADO POR SEDE JUNIO'!$C$5:$C$2604,'RUBROS JUNIO'!H$5) -> 0 | I26: =SUMIFS('[1]CONSOLIDADO POR SEDE JUNIO'!$K$5:$K$2604,'[1]CONSOLIDADO POR SEDE JUNIO'!$E$5:$E$2604,'RUBROS JUNIO'!$A26,'[1]CONSOLIDADO POR SEDE JUNIO'!$C$5:$C$2604,'RUBROS JUNIO'!I$5) -> 0 | J26: 0 | K26: =SUMIFS('[1]CONSOLIDADO POR SEDE JUNIO'!$K$5:$K$2604,'[1]CONSOLIDADO POR SEDE JUNIO'!$E$5:$E$2604,'RUBROS JUNIO'!$A26,'[1]CONSOLIDADO POR SEDE JUNIO'!$C$5:$C$2604,'RUBROS JUNIO'!K$5) -> 0 | L26: =SUMIFS('[1]CONSOLIDADO POR SEDE JUNIO'!$K$5:$K$2604,'[1]CONSOLIDADO POR SEDE JUNIO'!$E$5:$E$2604,'RUBROS JUNIO'!$A26,'[1]CONSOLIDADO POR SEDE JUNIO'!$C$5:$C$2604,'RUBROS JUNIO'!L$5) -> 0 | M26: =SUMIFS('[1]CONSOLIDADO POR SEDE JUNIO'!$K$5:$K$2604,'[1]CONSOLIDADO POR SEDE JUNIO'!$E$5:$E$2604,'RUBROS JUNIO'!$A26,'[1]CONSOLIDADO POR SEDE JUNIO'!$C$5:$C$2604,'RUBROS JUNIO'!M$5) -> 0 | N26: =SUMIFS('[1]CONSOLIDADO POR SEDE JUNIO'!$K$5:$K$2604,'[1]CONSOLIDADO POR SEDE JUNIO'!$E$5:$E$2604,'RUBROS JUNIO'!$A26,'[1]CONSOLIDADO POR SEDE JUNIO'!$C$5:$C$2604,'RUBROS JUNIO'!N$5) -> 0 | O26: =SUMIFS('[1]CONSOLIDADO POR SEDE JUNIO'!$K$5:$K$2604,'[1]CONSOLIDADO POR SEDE JUNIO'!$E$5:$E$2604,'RUBROS JUNIO'!$A26,'[1]CONSOLIDADO POR SEDE JUNIO'!$C$5:$C$2604,'RUBROS JUNIO'!O$5) -> 0 | P26: =SUMIFS('[1]CONSOLIDADO POR SEDE JUNIO'!$K$5:$K$2604,'[1]CONSOLIDADO POR SEDE JUNIO'!$E$5:$E$2604,'RUBROS JUNIO'!$A26,'[1]CONSOLIDADO POR SEDE JUNIO'!$C$5:$C$2604,'RUBROS JUNIO'!P$5) -> 0 | Q26: 446392.28 | R26: =SUMIFS('[1]CONSOLIDADO POR SEDE JUNIO'!$K$5:$K$2604,'[1]CONSOLIDADO POR SEDE JUNIO'!$E$5:$E$2604,'RUBROS JUNIO'!$A26,'[1]CONSOLIDADO POR SEDE JUNIO'!$C$5:$C$2604,'RUBROS JUNIO'!R$5) -> 0 | S26: 0 | T26: =SUMIFS('[1]CONSOLIDADO POR SEDE JUNIO'!$K$5:$K$2604,'[1]CONSOLIDADO POR SEDE JUNIO'!$E$5:$E$2604,'RUBROS JUNIO'!$A26,'[1]CONSOLIDADO POR SEDE JUNIO'!$C$5:$C$2604,'RUBROS JUNIO'!T$5) -> 0 | U26: =SUMIFS('[1]CONSOLIDADO POR SEDE JUNIO'!$K$5:$K$2604,'[1]CONSOLIDADO POR SEDE JUNIO'!$E$5:$E$2604,'RUBROS JUNIO'!$A26,'[1]CONSOLIDADO POR SEDE JUNIO'!$C$5:$C$2604,'RUBROS JUNIO'!U$5) -> 0 | V26: =SUMIFS('[1]CONSOLIDADO POR SEDE JUNIO'!$K$5:$K$2604,'[1]CONSOLIDADO POR SEDE JUNIO'!$E$5:$E$2604,'RUBROS JUNIO'!$A26,'[1]CONSOLIDADO POR SEDE JUNIO'!$C$5:$C$2604,'RUBROS JUNIO'!V$5) -> 0 | W26: =SUMIFS('[1]CONSOLIDADO POR SEDE JUNIO'!$K$5:$K$2604,'[1]CONSOLIDADO POR SEDE JUNIO'!$E$5:$E$2604,'RUBROS JUNIO'!$A26,'[1]CONSOLIDADO POR SEDE JUNIO'!$C$5:$C$2604,'RUBROS JUNIO'!W$5) -> 0 | X26: =SUMIFS('[1]CONSOLIDADO POR SEDE JUNIO'!$K$5:$K$2604,'[1]CONSOLIDADO POR SEDE JUNIO'!$E$5:$E$2604,'RUBROS JUNIO'!$A26,'[1]CONSOLIDADO POR SEDE JUNIO'!$C$5:$C$2604,'RUBROS JUNIO'!X$5) -> 0 | Y26: =SUMIFS('[1]CONSOLIDADO POR SEDE JUNIO'!$K$5:$K$2604,'[1]CONSOLIDADO POR SEDE JUNIO'!$E$5:$E$2604,'RUBROS JUNIO'!$A26,'[1]CONSOLIDADO POR SEDE JUNIO'!$C$5:$C$2604,'RUBROS JUNIO'!Y$5) -> 0 | Z26: =SUMIFS('[1]CONSOLIDADO POR SEDE JUNIO'!$K$5:$K$2604,'[1]CONSOLIDADO POR SEDE JUNIO'!$E$5:$E$2604,'RUBROS JUNIO'!$A26,'[1]CONSOLIDADO POR SEDE JUNIO'!$C$5:$C$2604,'RUBROS JUNIO'!Z$5) -> 0 | AA26: =SUMIFS('[1]CONSOLIDADO POR SEDE JUNIO'!$K$5:$K$2604,'[1]CONSOLIDADO POR SEDE JUNIO'!$E$5:$E$2604,'RUBROS JUNIO'!$A26,'[1]CONSOLIDADO POR SEDE JUNIO'!$C$5:$C$2604,'RUBROS JUNIO'!AA$5) -> 0 | ... AF26: =SUMIFS('[1]CONSOLIDADO POR SEDE JUNIO'!$K$5:$K$2604,'[1]CONSOLIDADO POR SEDE JUNIO'!$E$5:$E$2604,'RUBROS JUNIO'!$A26,'[1]CONSOLIDADO POR SEDE JUNIO'!$C$5:$C$2604,'RUBROS JUNIO'!AF$5) -> 0 | AG26: 0 | AH26: =SUMIFS('[1]CONSOLIDADO POR SEDE JUNIO'!$K$5:$K$2604,'[1]CONSOLIDADO POR SEDE JUNIO'!$E$5:$E$2604,'RUBROS JUNIO'!$A26,'[1]CONSOLIDADO POR SEDE JUNIO'!$C$5:$C$2604,'RUBROS JUNIO'!AH$5) -> 0 | AI26: =SUMIFS('[1]CONSOLIDADO POR SEDE JUNIO'!$K$5:$K$2604,'[1]CONSOLIDADO POR SEDE JUNIO'!$E$5:$E$2604,'RUBROS JUNIO'!$A26,'[1]CONSOLIDADO POR SEDE JUNIO'!$C$5:$C$2604,'RUBROS JUNIO'!AI$5) -> 0 | AJ26: =SUMIFS('[1]CONSOLIDADO POR SEDE JUNIO'!$K$5:$K$2604,'[1]CONSOLIDADO POR SEDE JUNIO'!$E$5:$E$2604,'RUBROS JUNIO'!$A26,'[1]CONSOLIDADO POR SEDE JUNIO'!$C$5:$C$2604,'RUBROS JUNIO'!AJ$5) -> 0 | AK26: =SUMIFS('[1]CONSOLIDADO POR SEDE JUNIO'!$K$5:$K$2604,'[1]CONSOLIDADO POR SEDE JUNIO'!$E$5:$E$2604,'RUBROS JUNIO'!$A26,'[1]CONSOLIDADO POR SEDE JUNIO'!$C$5:$C$2604,'RUBROS JUNIO'!AK$5) -> 0 | AL26: =SUMIFS('[1]CONSOLIDADO POR SEDE JUNIO'!$K$5:$K$2604,'[1]CONSOLIDADO POR SEDE JUNIO'!$E$5:$E$2604,'RUBROS JUNIO'!$A26,'[1]CONSOLIDADO POR SEDE JUNIO'!$C$5:$C$2604,'RUBROS JUNIO'!AL$5) -> 0 | AM26: 0 | AN26: =SUMIFS('[1]CONSOLIDADO POR SEDE JUNIO'!$K$5:$K$2604,'[1]CONSOLIDADO POR SEDE JUNIO'!$E$5:$E$2604,'RUBROS JUNIO'!$A26,'[1]CONSOLIDADO POR SEDE JUNIO'!$C$5:$C$2604,'RUBROS JUNIO'!AN$5) -> 0 | AO26: =SUMIFS('[1]CONSOLIDADO POR SEDE JUNIO'!$K$5:$K$2604,'[1]CONSOLIDADO POR SEDE JUNIO'!$E$5:$E$2604,'RUBROS JUNIO'!$A26,'[1]CONSOLIDADO POR SEDE JUNIO'!$C$5:$C$2604,'RUBROS JUNIO'!AO$5) -> 0 | AP26: =SUMIFS('[1]CONSOLIDADO POR SEDE JUNIO'!$K$5:$K$2604,'[1]CONSOLIDADO POR SEDE JUNIO'!$E$5:$E$2604,'RUBROS JUNIO'!$A26,'[1]CONSOLIDADO POR SEDE JUNIO'!$C$5:$C$2604,'RUBROS JUNIO'!AP$5) -> 0 | AR26: 320757.53
A27: SEDE 22 - CENTRO DE ENCUENTRO KENNEDY PATIO BONITO | B27: 4123004 | C27: =SUMIFS('[1]CONSOLIDADO POR SEDE JUNIO'!$K$5:$K$2604,'[1]CONSOLIDADO POR SEDE JUNIO'!$E$5:$E$2604,'RUBROS JUNIO'!$A27,'[1]CONSOLIDADO POR SEDE JUNIO'!$C$5:$C$2604,'RUBROS JUNIO'!C$5) -> 0 | D27: =SUMIFS('[1]CONSOLIDADO POR SEDE JUNIO'!$K$5:$K$2604,'[1]CONSOLIDADO POR SEDE JUNIO'!$E$5:$E$2604,'RUBROS JUNIO'!$A27,'[1]CONSOLIDADO POR SEDE JUNIO'!$C$5:$C$2604,'RUBROS JUNIO'!D$5) -> 0 | E27: =SUMIFS('[1]CONSOLIDADO POR SEDE JUNIO'!$K$5:$K$2604,'[1]CONSOLIDADO POR SEDE JUNIO'!$E$5:$E$2604,'RUBROS JUNIO'!$A27,'[1]CONSOLIDADO POR SEDE JUNIO'!$C$5:$C$2604,'RUBROS JUNIO'!E$5) -> 0 | F27: 0 | G27: =SUMIFS('[1]CONSOLIDADO POR SEDE JUNIO'!$K$5:$K$2604,'[1]CONSOLIDADO POR SEDE JUNIO'!$E$5:$E$2604,'RUBROS JUNIO'!$A27,'[1]CONSOLIDADO POR SEDE JUNIO'!$C$5:$C$2604,'RUBROS JUNIO'!G$5) -> 165167.13 | H27: =SUMIFS('[1]CONSOLIDADO POR SEDE JUNIO'!$K$5:$K$2604,'[1]CONSOLIDADO POR SEDE JUNIO'!$E$5:$E$2604,'RUBROS JUNIO'!$A27,'[1]CONSOLIDADO POR SEDE JUNIO'!$C$5:$C$2604,'RUBROS JUNIO'!H$5) -> 0 | I27: =SUMIFS('[1]CONSOLIDADO POR SEDE JUNIO'!$K$5:$K$2604,'[1]CONSOLIDADO POR SEDE JUNIO'!$E$5:$E$2604,'RUBROS JUNIO'!$A27,'[1]CONSOLIDADO POR SEDE JUNIO'!$C$5:$C$2604,'RUBROS JUNIO'!I$5) -> 0 | J27: 0 | K27: =SUMIFS('[1]CONSOLIDADO POR SEDE JUNIO'!$K$5:$K$2604,'[1]CONSOLIDADO POR SEDE JUNIO'!$E$5:$E$2604,'RUBROS JUNIO'!$A27,'[1]CONSOLIDADO POR SEDE JUNIO'!$C$5:$C$2604,'RUBROS JUNIO'!K$5) -> 0 | L27: =SUMIFS('[1]CONSOLIDADO POR SEDE JUNIO'!$K$5:$K$2604,'[1]CONSOLIDADO POR SEDE JUNIO'!$E$5:$E$2604,'RUBROS JUNIO'!$A27,'[1]CONSOLIDADO POR SEDE JUNIO'!$C$5:$C$2604,'RUBROS JUNIO'!L$5) -> 0 | M27: =SUMIFS('[1]CONSOLIDADO POR SEDE JUNIO'!$K$5:$K$2604,'[1]CONSOLIDADO POR SEDE JUNIO'!$E$5:$E$2604,'RUBROS JUNIO'!$A27,'[1]CONSOLIDADO POR SEDE JUNIO'!$C$5:$C$2604,'RUBROS JUNIO'!M$5) -> 0 | N27: =SUMIFS('[1]CONSOLIDADO POR SEDE JUNIO'!$K$5:$K$2604,'[1]CONSOLIDADO POR SEDE JUNIO'!$E$5:$E$2604,'RUBROS JUNIO'!$A27,'[1]CONSOLIDADO POR SEDE JUNIO'!$C$5:$C$2604,'RUBROS JUNIO'!N$5) -> 0 | O27: =SUMIFS('[1]CONSOLIDADO POR SEDE JUNIO'!$K$5:$K$2604,'[1]CONSOLIDADO POR SEDE JUNIO'!$E$5:$E$2604,'RUBROS JUNIO'!$A27,'[1]CONSOLIDADO POR SEDE JUNIO'!$C$5:$C$2604,'RUBROS JUNIO'!O$5) -> 0 | P27: =SUMIFS('[1]CONSOLIDADO POR SEDE JUNIO'!$K$5:$K$2604,'[1]CONSOLIDADO POR SEDE JUNIO'!$E$5:$E$2604,'RUBROS JUNIO'!$A27,'[1]CONSOLIDADO POR SEDE JUNIO'!$C$5:$C$2604,'RUBROS JUNIO'!P$5) -> 0 | Q27: 0 | R27: =SUMIFS('[1]CONSOLIDADO POR SEDE JUNIO'!$K$5:$K$2604,'[1]CONSOLIDADO POR SEDE JUNIO'!$E$5:$E$2604,'RUBROS JUNIO'!$A27,'[1]CONSOLIDADO POR SEDE JUNIO'!$C$5:$C$2604,'RUBROS JUNIO'!R$5) -> 0 | S27: 0 | T27: =SUMIFS('[1]CONSOLIDADO POR SEDE JUNIO'!$K$5:$K$2604,'[1]CONSOLIDADO POR SEDE JUNIO'!$E$5:$E$2604,'RUBROS JUNIO'!$A27,'[1]CONSOLIDADO POR SEDE JUNIO'!$C$5:$C$2604,'RUBROS JUNIO'!T$5) -> 0 | U27: =SUMIFS('[1]CONSOLIDADO POR SEDE JUNIO'!$K$5:$K$2604,'[1]CONSOLIDADO POR SEDE JUNIO'!$E$5:$E$2604,'RUBROS JUNIO'!$A27,'[1]CONSOLIDADO POR SEDE JUNIO'!$C$5:$C$2604,'RUBROS JUNIO'!U$5) -> 0 | V27: =SUMIFS('[1]CONSOLIDADO POR SEDE JUNIO'!$K$5:$K$2604,'[1]CONSOLIDADO POR SEDE JUNIO'!$E$5:$E$2604,'RUBROS JUNIO'!$A27,'[1]CONSOLIDADO POR SEDE JUNIO'!$C$5:$C$2604,'RUBROS JUNIO'!V$5) -> 0 | W27: =SUMIFS('[1]CONSOLIDADO POR SEDE JUNIO'!$K$5:$K$2604,'[1]CONSOLIDADO POR SEDE JUNIO'!$E$5:$E$2604,'RUBROS JUNIO'!$A27,'[1]CONSOLIDADO POR SEDE JUNIO'!$C$5:$C$2604,'RUBROS JUNIO'!W$5) -> 0 | X27: =SUMIFS('[1]CONSOLIDADO POR SEDE JUNIO'!$K$5:$K$2604,'[1]CONSOLIDADO POR SEDE JUNIO'!$E$5:$E$2604,'RUBROS JUNIO'!$A27,'[1]CONSOLIDADO POR SEDE JUNIO'!$C$5:$C$2604,'RUBROS JUNIO'!X$5) -> 0 | Y27: =SUMIFS('[1]CONSOLIDADO POR SEDE JUNIO'!$K$5:$K$2604,'[1]CONSOLIDADO POR SEDE JUNIO'!$E$5:$E$2604,'RUBROS JUNIO'!$A27,'[1]CONSOLIDADO POR SEDE JUNIO'!$C$5:$C$2604,'RUBROS JUNIO'!Y$5) -> 0 | Z27: =SUMIFS('[1]CONSOLIDADO POR SEDE JUNIO'!$K$5:$K$2604,'[1]CONSOLIDADO POR SEDE JUNIO'!$E$5:$E$2604,'RUBROS JUNIO'!$A27,'[1]CONSOLIDADO POR SEDE JUNIO'!$C$5:$C$2604,'RUBROS JUNIO'!Z$5) -> 0 | AA27: =SUMIFS('[1]CONSOLIDADO POR SEDE JUNIO'!$K$5:$K$2604,'[1]CONSOLIDADO POR SEDE JUNIO'!$E$5:$E$2604,'RUBROS JUNIO'!$A27,'[1]CONSOLIDADO POR SEDE JUNIO'!$C$5:$C$2604,'RUBROS JUNIO'!AA$5) -> 0 | ... AF27: =SUMIFS('[1]CONSOLIDADO POR SEDE JUNIO'!$K$5:$K$2604,'[1]CONSOLIDADO POR SEDE JUNIO'!$E$5:$E$2604,'RUBROS JUNIO'!$A27,'[1]CONSOLIDADO POR SEDE JUNIO'!$C$5:$C$2604,'RUBROS JUNIO'!AF$5) -> 0 | AG27: 0 | AH27: =SUMIFS('[1]CONSOLIDADO POR SEDE JUNIO'!$K$5:$K$2604,'[1]CONSOLIDADO POR SEDE JUNIO'!$E$5:$E$2604,'RUBROS JUNIO'!$A27,'[1]CONSOLIDADO POR SEDE JUNIO'!$C$5:$C$2604,'RUBROS JUNIO'!AH$5) -> 0 | AI27: =SUMIFS('[1]CONSOLIDADO POR SEDE JUNIO'!$K$5:$K$2604,'[1]CONSOLIDADO POR SEDE JUNIO'!$E$5:$E$2604,'RUBROS JUNIO'!$A27,'[1]CONSOLIDADO POR SEDE JUNIO'!$C$5:$C$2604,'RUBROS JUNIO'!AI$5) -> 0 | AJ27: =SUMIFS('[1]CONSOLIDADO POR SEDE JUNIO'!$K$5:$K$2604,'[1]CONSOLIDADO POR SEDE JUNIO'!$E$5:$E$2604,'RUBROS JUNIO'!$A27,'[1]CONSOLIDADO POR SEDE JUNIO'!$C$5:$C$2604,'RUBROS JUNIO'!AJ$5) -> 0 | AK27: =SUMIFS('[1]CONSOLIDADO POR SEDE JUNIO'!$K$5:$K$2604,'[1]CONSOLIDADO POR SEDE JUNIO'!$E$5:$E$2604,'RUBROS JUNIO'!$A27,'[1]CONSOLIDADO POR SEDE JUNIO'!$C$5:$C$2604,'RUBROS JUNIO'!AK$5) -> 0 | AL27: =SUMIFS('[1]CONSOLIDADO POR SEDE JUNIO'!$K$5:$K$2604,'[1]CONSOLIDADO POR SEDE JUNIO'!$E$5:$E$2604,'RUBROS JUNIO'!$A27,'[1]CONSOLIDADO POR SEDE JUNIO'!$C$5:$C$2604,'RUBROS JUNIO'!AL$5) -> 0 | AM27: 48424.641 | AN27: =SUMIFS('[1]CONSOLIDADO POR SEDE JUNIO'!$K$5:$K$2604,'[1]CONSOLIDADO POR SEDE JUNIO'!$E$5:$E$2604,'RUBROS JUNIO'!$A27,'[1]CONSOLIDADO POR SEDE JUNIO'!$C$5:$C$2604,'RUBROS JUNIO'!AN$5) -> 0 | AO27: =SUMIFS('[1]CONSOLIDADO POR SEDE JUNIO'!$K$5:$K$2604,'[1]CONSOLIDADO POR SEDE JUNIO'!$E$5:$E$2604,'RUBROS JUNIO'!$A27,'[1]CONSOLIDADO POR SEDE JUNIO'!$C$5:$C$2604,'RUBROS JUNIO'!AO$5) -> 0 | AP27: =SUMIFS('[1]CONSOLIDADO POR SEDE JUNIO'!$K$5:$K$2604,'[1]CONSOLIDADO POR SEDE JUNIO'!$E$5:$E$2604,'RUBROS JUNIO'!$A27,'[1]CONSOLIDADO POR SEDE JUNIO'!$C$5:$C$2604,'RUBROS JUNIO'!AP$5) -> 0 | AR27: 320757.53 | AS27: 11697156
A28: SEDE 23 - CENTRO DE ENCUENTRO RAFAEL URIBE | B28: 4123010 | C28: =SUMIFS('[1]CONSOLIDADO POR SEDE JUNIO'!$K$5:$K$2604,'[1]CONSOLIDADO POR SEDE JUNIO'!$E$5:$E$2604,'RUBROS JUNIO'!$A28,'[1]CONSOLIDADO POR SEDE JUNIO'!$C$5:$C$2604,'RUBROS JUNIO'!C$5) -> 0 | D28: =SUMIFS('[1]CONSOLIDADO POR SEDE JUNIO'!$K$5:$K$2604,'[1]CONSOLIDADO POR SEDE JUNIO'!$E$5:$E$2604,'RUBROS JUNIO'!$A28,'[1]CONSOLIDADO POR SEDE JUNIO'!$C$5:$C$2604,'RUBROS JUNIO'!D$5) -> 0 | E28: =SUMIFS('[1]CONSOLIDADO POR SEDE JUNIO'!$K$5:$K$2604,'[1]CONSOLIDADO POR SEDE JUNIO'!$E$5:$E$2604,'RUBROS JUNIO'!$A28,'[1]CONSOLIDADO POR SEDE JUNIO'!$C$5:$C$2604,'RUBROS JUNIO'!E$5) -> 0 | F28: 0 | G28: =SUMIFS('[1]CONSOLIDADO POR SEDE JUNIO'!$K$5:$K$2604,'[1]CONSOLIDADO POR SEDE JUNIO'!$E$5:$E$2604,'RUBROS JUNIO'!$A28,'[1]CONSOLIDADO POR SEDE JUNIO'!$C$5:$C$2604,'RUBROS JUNIO'!G$5) -> 0 | H28: =SUMIFS('[1]CONSOLIDADO POR SEDE JUNIO'!$K$5:$K$2604,'[1]CONSOLIDADO POR SEDE JUNIO'!$E$5:$E$2604,'RUBROS JUNIO'!$A28,'[1]CONSOLIDADO POR SEDE JUNIO'!$C$5:$C$2604,'RUBROS JUNIO'!H$5) -> 0 | I28: =SUMIFS('[1]CONSOLIDADO POR SEDE JUNIO'!$K$5:$K$2604,'[1]CONSOLIDADO POR SEDE JUNIO'!$E$5:$E$2604,'RUBROS JUNIO'!$A28,'[1]CONSOLIDADO POR SEDE JUNIO'!$C$5:$C$2604,'RUBROS JUNIO'!I$5) -> 0 | J28: 0 | K28: =SUMIFS('[1]CONSOLIDADO POR SEDE JUNIO'!$K$5:$K$2604,'[1]CONSOLIDADO POR SEDE JUNIO'!$E$5:$E$2604,'RUBROS JUNIO'!$A28,'[1]CONSOLIDADO POR SEDE JUNIO'!$C$5:$C$2604,'RUBROS JUNIO'!K$5) -> 0 | L28: =SUMIFS('[1]CONSOLIDADO POR SEDE JUNIO'!$K$5:$K$2604,'[1]CONSOLIDADO POR SEDE JUNIO'!$E$5:$E$2604,'RUBROS JUNIO'!$A28,'[1]CONSOLIDADO POR SEDE JUNIO'!$C$5:$C$2604,'RUBROS JUNIO'!L$5) -> 0 | M28: =SUMIFS('[1]CONSOLIDADO POR SEDE JUNIO'!$K$5:$K$2604,'[1]CONSOLIDADO POR SEDE JUNIO'!$E$5:$E$2604,'RUBROS JUNIO'!$A28,'[1]CONSOLIDADO POR SEDE JUNIO'!$C$5:$C$2604,'RUBROS JUNIO'!M$5) -> 0 | N28: =SUMIFS('[1]CONSOLIDADO POR SEDE JUNIO'!$K$5:$K$2604,'[1]CONSOLIDADO POR SEDE JUNIO'!$E$5:$E$2604,'RUBROS JUNIO'!$A28,'[1]CONSOLIDADO POR SEDE JUNIO'!$C$5:$C$2604,'RUBROS JUNIO'!N$5) -> 0 | O28: =SUMIFS('[1]CONSOLIDADO POR SEDE JUNIO'!$K$5:$K$2604,'[1]CONSOLIDADO POR SEDE JUNIO'!$E$5:$E$2604,'RUBROS JUNIO'!$A28,'[1]CONSOLIDADO POR SEDE JUNIO'!$C$5:$C$2604,'RUBROS JUNIO'!O$5) -> 0 | P28: =SUMIFS('[1]CONSOLIDADO POR SEDE JUNIO'!$K$5:$K$2604,'[1]CONSOLIDADO POR SEDE JUNIO'!$E$5:$E$2604,'RUBROS JUNIO'!$A28,'[1]CONSOLIDADO POR SEDE JUNIO'!$C$5:$C$2604,'RUBROS JUNIO'!P$5) -> 0 | Q28: 393070.49 | R28: =SUMIFS('[1]CONSOLIDADO POR SEDE JUNIO'!$K$5:$K$2604,'[1]CONSOLIDADO POR SEDE JUNIO'!$E$5:$E$2604,'RUBROS JUNIO'!$A28,'[1]CONSOLIDADO POR SEDE JUNIO'!$C$5:$C$2604,'RUBROS JUNIO'!R$5) -> 0 | S28: 0 | T28: =SUMIFS('[1]CONSOLIDADO POR SEDE JUNIO'!$K$5:$K$2604,'[1]CONSOLIDADO POR SEDE JUNIO'!$E$5:$E$2604,'RUBROS JUNIO'!$A28,'[1]CONSOLIDADO POR SEDE JUNIO'!$C$5:$C$2604,'RUBROS JUNIO'!T$5) -> 0 | U28: =SUMIFS('[1]CONSOLIDADO POR SEDE JUNIO'!$K$5:$K$2604,'[1]CONSOLIDADO POR SEDE JUNIO'!$E$5:$E$2604,'RUBROS JUNIO'!$A28,'[1]CONSOLIDADO POR SEDE JUNIO'!$C$5:$C$2604,'RUBROS JUNIO'!U$5) -> 0 | V28: =SUMIFS('[1]CONSOLIDADO POR SEDE JUNIO'!$K$5:$K$2604,'[1]CONSOLIDADO POR SEDE JUNIO'!$E$5:$E$2604,'RUBROS JUNIO'!$A28,'[1]CONSOLIDADO POR SEDE JUNIO'!$C$5:$C$2604,'RUBROS JUNIO'!V$5) -> 0 | W28: =SUMIFS('[1]CONSOLIDADO POR SEDE JUNIO'!$K$5:$K$2604,'[1]CONSOLIDADO POR SEDE JUNIO'!$E$5:$E$2604,'RUBROS JUNIO'!$A28,'[1]CONSOLIDADO POR SEDE JUNIO'!$C$5:$C$2604,'RUBROS JUNIO'!W$5) -> 0 | X28: =SUMIFS('[1]CONSOLIDADO POR SEDE JUNIO'!$K$5:$K$2604,'[1]CONSOLIDADO POR SEDE JUNIO'!$E$5:$E$2604,'RUBROS JUNIO'!$A28,'[1]CONSOLIDADO POR SEDE JUNIO'!$C$5:$C$2604,'RUBROS JUNIO'!X$5) -> 0 | Y28: =SUMIFS('[1]CONSOLIDADO POR SEDE JUNIO'!$K$5:$K$2604,'[1]CONSOLIDADO POR SEDE JUNIO'!$E$5:$E$2604,'RUBROS JUNIO'!$A28,'[1]CONSOLIDADO POR SEDE JUNIO'!$C$5:$C$2604,'RUBROS JUNIO'!Y$5) -> 0 | Z28: =SUMIFS('[1]CONSOLIDADO POR SEDE JUNIO'!$K$5:$K$2604,'[1]CONSOLIDADO POR SEDE JUNIO'!$E$5:$E$2604,'RUBROS JUNIO'!$A28,'[1]CONSOLIDADO POR SEDE JUNIO'!$C$5:$C$2604,'RUBROS JUNIO'!Z$5) -> 0 | AA28: =SUMIFS('[1]CONSOLIDADO POR SEDE JUNIO'!$K$5:$K$2604,'[1]CONSOLIDADO POR SEDE JUNIO'!$E$5:$E$2604,'RUBROS JUNIO'!$A28,'[1]CONSOLIDADO POR SEDE JUNIO'!$C$5:$C$2604,'RUBROS JUNIO'!AA$5) -> 0 | ... AF28: =SUMIFS('[1]CONSOLIDADO POR SEDE JUNIO'!$K$5:$K$2604,'[1]CONSOLIDADO POR SEDE JUNIO'!$E$5:$E$2604,'RUBROS JUNIO'!$A28,'[1]CONSOLIDADO POR SEDE JUNIO'!$C$5:$C$2604,'RUBROS JUNIO'!AF$5) -> 0 | AG28: 0 | AH28: =SUMIFS('[1]CONSOLIDADO POR SEDE JUNIO'!$K$5:$K$2604,'[1]CONSOLIDADO POR SEDE JUNIO'!$E$5:$E$2604,'RUBROS JUNIO'!$A28,'[1]CONSOLIDADO POR SEDE JUNIO'!$C$5:$C$2604,'RUBROS JUNIO'!AH$5) -> 0 | AI28: =SUMIFS('[1]CONSOLIDADO POR SEDE JUNIO'!$K$5:$K$2604,'[1]CONSOLIDADO POR SEDE JUNIO'!$E$5:$E$2604,'RUBROS JUNIO'!$A28,'[1]CONSOLIDADO POR SEDE JUNIO'!$C$5:$C$2604,'RUBROS JUNIO'!AI$5) -> 0 | AJ28: =SUMIFS('[1]CONSOLIDADO POR SEDE JUNIO'!$K$5:$K$2604,'[1]CONSOLIDADO POR SEDE JUNIO'!$E$5:$E$2604,'RUBROS JUNIO'!$A28,'[1]CONSOLIDADO POR SEDE JUNIO'!$C$5:$C$2604,'RUBROS JUNIO'!AJ$5) -> 0 | AK28: =SUMIFS('[1]CONSOLIDADO POR SEDE JUNIO'!$K$5:$K$2604,'[1]CONSOLIDADO POR SEDE JUNIO'!$E$5:$E$2604,'RUBROS JUNIO'!$A28,'[1]CONSOLIDADO POR SEDE JUNIO'!$C$5:$C$2604,'RUBROS JUNIO'!AK$5) -> 0 | AL28: =SUMIFS('[1]CONSOLIDADO POR SEDE JUNIO'!$K$5:$K$2604,'[1]CONSOLIDADO POR SEDE JUNIO'!$E$5:$E$2604,'RUBROS JUNIO'!$A28,'[1]CONSOLIDADO POR SEDE JUNIO'!$C$5:$C$2604,'RUBROS JUNIO'!AL$5) -> 0 | AM28: 0 | AN28: =SUMIFS('[1]CONSOLIDADO POR SEDE JUNIO'!$K$5:$K$2604,'[1]CONSOLIDADO POR SEDE JUNIO'!$E$5:$E$2604,'RUBROS JUNIO'!$A28,'[1]CONSOLIDADO POR SEDE JUNIO'!$C$5:$C$2604,'RUBROS JUNIO'!AN$5) -> 0 | AO28: =SUMIFS('[1]CONSOLIDADO POR SEDE JUNIO'!$K$5:$K$2604,'[1]CONSOLIDADO POR SEDE JUNIO'!$E$5:$E$2604,'RUBROS JUNIO'!$A28,'[1]CONSOLIDADO POR SEDE JUNIO'!$C$5:$C$2604,'RUBROS JUNIO'!AO$5) -> 0 | AP28: =SUMIFS('[1]CONSOLIDADO POR SEDE JUNIO'!$K$5:$K$2604,'[1]CONSOLIDADO POR SEDE JUNIO'!$E$5:$E$2604,'RUBROS JUNIO'!$A28,'[1]CONSOLIDADO POR SEDE JUNIO'!$C$5:$C$2604,'RUBROS JUNIO'!AP$5) -> 0 | AR28: 320757.53 | AS28: 15076335
A29: SEDE 24 - CENTRO DE ENCUENTRO SUBA | B29: 4123007 | C29: =SUMIFS('[1]CONSOLIDADO POR SEDE JUNIO'!$K$5:$K$2604,'[1]CONSOLIDADO POR SEDE JUNIO'!$E$5:$E$2604,'RUBROS JUNIO'!$A29,'[1]CONSOLIDADO POR SEDE JUNIO'!$C$5:$C$2604,'RUBROS JUNIO'!C$5) -> 0 | D29: =SUMIFS('[1]CONSOLIDADO POR SEDE JUNIO'!$K$5:$K$2604,'[1]CONSOLIDADO POR SEDE JUNIO'!$E$5:$E$2604,'RUBROS JUNIO'!$A29,'[1]CONSOLIDADO POR SEDE JUNIO'!$C$5:$C$2604,'RUBROS JUNIO'!D$5) -> 0 | E29: =SUMIFS('[1]CONSOLIDADO POR SEDE JUNIO'!$K$5:$K$2604,'[1]CONSOLIDADO POR SEDE JUNIO'!$E$5:$E$2604,'RUBROS JUNIO'!$A29,'[1]CONSOLIDADO POR SEDE JUNIO'!$C$5:$C$2604,'RUBROS JUNIO'!E$5) -> 0 | F29: 0 | G29: =SUMIFS('[1]CONSOLIDADO POR SEDE JUNIO'!$K$5:$K$2604,'[1]CONSOLIDADO POR SEDE JUNIO'!$E$5:$E$2604,'RUBROS JUNIO'!$A29,'[1]CONSOLIDADO POR SEDE JUNIO'!$C$5:$C$2604,'RUBROS JUNIO'!G$5) -> 0 | H29: =SUMIFS('[1]CONSOLIDADO POR SEDE JUNIO'!$K$5:$K$2604,'[1]CONSOLIDADO POR SEDE JUNIO'!$E$5:$E$2604,'RUBROS JUNIO'!$A29,'[1]CONSOLIDADO POR SEDE JUNIO'!$C$5:$C$2604,'RUBROS JUNIO'!H$5) -> 0 | I29: =SUMIFS('[1]CONSOLIDADO POR SEDE JUNIO'!$K$5:$K$2604,'[1]CONSOLIDADO POR SEDE JUNIO'!$E$5:$E$2604,'RUBROS JUNIO'!$A29,'[1]CONSOLIDADO POR SEDE JUNIO'!$C$5:$C$2604,'RUBROS JUNIO'!I$5) -> 0 | J29: 0 | K29: =SUMIFS('[1]CONSOLIDADO POR SEDE JUNIO'!$K$5:$K$2604,'[1]CONSOLIDADO POR SEDE JUNIO'!$E$5:$E$2604,'RUBROS JUNIO'!$A29,'[1]CONSOLIDADO POR SEDE JUNIO'!$C$5:$C$2604,'RUBROS JUNIO'!K$5) -> 0 | L29: =SUMIFS('[1]CONSOLIDADO POR SEDE JUNIO'!$K$5:$K$2604,'[1]CONSOLIDADO POR SEDE JUNIO'!$E$5:$E$2604,'RUBROS JUNIO'!$A29,'[1]CONSOLIDADO POR SEDE JUNIO'!$C$5:$C$2604,'RUBROS JUNIO'!L$5) -> 0 | M29: =SUMIFS('[1]CONSOLIDADO POR SEDE JUNIO'!$K$5:$K$2604,'[1]CONSOLIDADO POR SEDE JUNIO'!$E$5:$E$2604,'RUBROS JUNIO'!$A29,'[1]CONSOLIDADO POR SEDE JUNIO'!$C$5:$C$2604,'RUBROS JUNIO'!M$5) -> 0 | N29: =SUMIFS('[1]CONSOLIDADO POR SEDE JUNIO'!$K$5:$K$2604,'[1]CONSOLIDADO POR SEDE JUNIO'!$E$5:$E$2604,'RUBROS JUNIO'!$A29,'[1]CONSOLIDADO POR SEDE JUNIO'!$C$5:$C$2604,'RUBROS JUNIO'!N$5) -> 0 | O29: =SUMIFS('[1]CONSOLIDADO POR SEDE JUNIO'!$K$5:$K$2604,'[1]CONSOLIDADO POR SEDE JUNIO'!$E$5:$E$2604,'RUBROS JUNIO'!$A29,'[1]CONSOLIDADO POR SEDE JUNIO'!$C$5:$C$2604,'RUBROS JUNIO'!O$5) -> 0 | P29: =SUMIFS('[1]CONSOLIDADO POR SEDE JUNIO'!$K$5:$K$2604,'[1]CONSOLIDADO POR SEDE JUNIO'!$E$5:$E$2604,'RUBROS JUNIO'!$A29,'[1]CONSOLIDADO POR SEDE JUNIO'!$C$5:$C$2604,'RUBROS JUNIO'!P$5) -> 0 | Q29: 297594.85 | R29: =SUMIFS('[1]CONSOLIDADO POR SEDE JUNIO'!$K$5:$K$2604,'[1]CONSOLIDADO POR SEDE JUNIO'!$E$5:$E$2604,'RUBROS JUNIO'!$A29,'[1]CONSOLIDADO POR SEDE JUNIO'!$C$5:$C$2604,'RUBROS JUNIO'!R$5) -> 0 | S29: 0 | T29: =SUMIFS('[1]CONSOLIDADO POR SEDE JUNIO'!$K$5:$K$2604,'[1]CONSOLIDADO POR SEDE JUNIO'!$E$5:$E$2604,'RUBROS JUNIO'!$A29,'[1]CONSOLIDADO POR SEDE JUNIO'!$C$5:$C$2604,'RUBROS JUNIO'!T$5) -> 0 | U29: =SUMIFS('[1]CONSOLIDADO POR SEDE JUNIO'!$K$5:$K$2604,'[1]CONSOLIDADO POR SEDE JUNIO'!$E$5:$E$2604,'RUBROS JUNIO'!$A29,'[1]CONSOLIDADO POR SEDE JUNIO'!$C$5:$C$2604,'RUBROS JUNIO'!U$5) -> 0 | V29: =SUMIFS('[1]CONSOLIDADO POR SEDE JUNIO'!$K$5:$K$2604,'[1]CONSOLIDADO POR SEDE JUNIO'!$E$5:$E$2604,'RUBROS JUNIO'!$A29,'[1]CONSOLIDADO POR SEDE JUNIO'!$C$5:$C$2604,'RUBROS JUNIO'!V$5) -> 0 | W29: =SUMIFS('[1]CONSOLIDADO POR SEDE JUNIO'!$K$5:$K$2604,'[1]CONSOLIDADO POR SEDE JUNIO'!$E$5:$E$2604,'RUBROS JUNIO'!$A29,'[1]CONSOLIDADO POR SEDE JUNIO'!$C$5:$C$2604,'RUBROS JUNIO'!W$5) -> 0 | X29: =SUMIFS('[1]CONSOLIDADO POR SEDE JUNIO'!$K$5:$K$2604,'[1]CONSOLIDADO POR SEDE JUNIO'!$E$5:$E$2604,'RUBROS JUNIO'!$A29,'[1]CONSOLIDADO POR SEDE JUNIO'!$C$5:$C$2604,'RUBROS JUNIO'!X$5) -> 0 | Y29: =SUMIFS('[1]CONSOLIDADO POR SEDE JUNIO'!$K$5:$K$2604,'[1]CONSOLIDADO POR SEDE JUNIO'!$E$5:$E$2604,'RUBROS JUNIO'!$A29,'[1]CONSOLIDADO POR SEDE JUNIO'!$C$5:$C$2604,'RUBROS JUNIO'!Y$5) -> 0 | Z29: =SUMIFS('[1]CONSOLIDADO POR SEDE JUNIO'!$K$5:$K$2604,'[1]CONSOLIDADO POR SEDE JUNIO'!$E$5:$E$2604,'RUBROS JUNIO'!$A29,'[1]CONSOLIDADO POR SEDE JUNIO'!$C$5:$C$2604,'RUBROS JUNIO'!Z$5) -> 0 | AA29: =SUMIFS('[1]CONSOLIDADO POR SEDE JUNIO'!$K$5:$K$2604,'[1]CONSOLIDADO POR SEDE JUNIO'!$E$5:$E$2604,'RUBROS JUNIO'!$A29,'[1]CONSOLIDADO POR SEDE JUNIO'!$C$5:$C$2604,'RUBROS JUNIO'!AA$5) -> 0 | ... AF29: =SUMIFS('[1]CONSOLIDADO POR SEDE JUNIO'!$K$5:$K$2604,'[1]CONSOLIDADO POR SEDE JUNIO'!$E$5:$E$2604,'RUBROS JUNIO'!$A29,'[1]CONSOLIDADO POR SEDE JUNIO'!$C$5:$C$2604,'RUBROS JUNIO'!AF$5) -> 0 | AG29: 0 | AH29: =SUMIFS('[1]CONSOLIDADO POR SEDE JUNIO'!$K$5:$K$2604,'[1]CONSOLIDADO POR SEDE JUNIO'!$E$5:$E$2604,'RUBROS JUNIO'!$A29,'[1]CONSOLIDADO POR SEDE JUNIO'!$C$5:$C$2604,'RUBROS JUNIO'!AH$5) -> 0 | AI29: =SUMIFS('[1]CONSOLIDADO POR SEDE JUNIO'!$K$5:$K$2604,'[1]CONSOLIDADO POR SEDE JUNIO'!$E$5:$E$2604,'RUBROS JUNIO'!$A29,'[1]CONSOLIDADO POR SEDE JUNIO'!$C$5:$C$2604,'RUBROS JUNIO'!AI$5) -> 0 | AJ29: =SUMIFS('[1]CONSOLIDADO POR SEDE JUNIO'!$K$5:$K$2604,'[1]CONSOLIDADO POR SEDE JUNIO'!$E$5:$E$2604,'RUBROS JUNIO'!$A29,'[1]CONSOLIDADO POR SEDE JUNIO'!$C$5:$C$2604,'RUBROS JUNIO'!AJ$5) -> 0 | AK29: =SUMIFS('[1]CONSOLIDADO POR SEDE JUNIO'!$K$5:$K$2604,'[1]CONSOLIDADO POR SEDE JUNIO'!$E$5:$E$2604,'RUBROS JUNIO'!$A29,'[1]CONSOLIDADO POR SEDE JUNIO'!$C$5:$C$2604,'RUBROS JUNIO'!AK$5) -> 0 | AL29: =SUMIFS('[1]CONSOLIDADO POR SEDE JUNIO'!$K$5:$K$2604,'[1]CONSOLIDADO POR SEDE JUNIO'!$E$5:$E$2604,'RUBROS JUNIO'!$A29,'[1]CONSOLIDADO POR SEDE JUNIO'!$C$5:$C$2604,'RUBROS JUNIO'!AL$5) -> 0 | AM29: 10537.578 | AN29: =SUMIFS('[1]CONSOLIDADO POR SEDE JUNIO'!$K$5:$K$2604,'[1]CONSOLIDADO POR SEDE JUNIO'!$E$5:$E$2604,'RUBROS JUNIO'!$A29,'[1]CONSOLIDADO POR SEDE JUNIO'!$C$5:$C$2604,'RUBROS JUNIO'!AN$5) -> 0 | AO29: =SUMIFS('[1]CONSOLIDADO POR SEDE JUNIO'!$K$5:$K$2604,'[1]CONSOLIDADO POR SEDE JUNIO'!$E$5:$E$2604,'RUBROS JUNIO'!$A29,'[1]CONSOLIDADO POR SEDE JUNIO'!$C$5:$C$2604,'RUBROS JUNIO'!AO$5) -> 2363.8987 | AP29: =SUMIFS('[1]CONSOLIDADO POR SEDE JUNIO'!$K$5:$K$2604,'[1]CONSOLIDADO POR SEDE JUNIO'!$E$5:$E$2604,'RUBROS JUNIO'!$A29,'[1]CONSOLIDADO POR SEDE JUNIO'!$C$5:$C$2604,'RUBROS JUNIO'!AP$5) -> 0 | AR29: 320757.53 | AS29: 7798104.2
A30: SEDE 25 - CENTRO DE ENCUENTRO - CADE YOMASA | B30: 4222118 | C30: =SUMIFS('[1]CONSOLIDADO POR SEDE JUNIO'!$K$5:$K$2604,'[1]CONSOLIDADO POR SEDE JUNIO'!$E$5:$E$2604,'RUBROS JUNIO'!$A30,'[1]CONSOLIDADO POR SEDE JUNIO'!$C$5:$C$2604,'RUBROS JUNIO'!C$5) -> 0 | D30: =SUMIFS('[1]CONSOLIDADO POR SEDE JUNIO'!$K$5:$K$2604,'[1]CONSOLIDADO POR SEDE JUNIO'!$E$5:$E$2604,'RUBROS JUNIO'!$A30,'[1]CONSOLIDADO POR SEDE JUNIO'!$C$5:$C$2604,'RUBROS JUNIO'!D$5) -> 0 | E30: =SUMIFS('[1]CONSOLIDADO POR SEDE JUNIO'!$K$5:$K$2604,'[1]CONSOLIDADO POR SEDE JUNIO'!$E$5:$E$2604,'RUBROS JUNIO'!$A30,'[1]CONSOLIDADO POR SEDE JUNIO'!$C$5:$C$2604,'RUBROS JUNIO'!E$5) -> 0 | F30: 0 | G30: =SUMIFS('[1]CONSOLIDADO POR SEDE JUNIO'!$K$5:$K$2604,'[1]CONSOLIDADO POR SEDE JUNIO'!$E$5:$E$2604,'RUBROS JUNIO'!$A30,'[1]CONSOLIDADO POR SEDE JUNIO'!$C$5:$C$2604,'RUBROS JUNIO'!G$5) -> 165167.13 | H30: =SUMIFS('[1]CONSOLIDADO POR SEDE JUNIO'!$K$5:$K$2604,'[1]CONSOLIDADO POR SEDE JUNIO'!$E$5:$E$2604,'RUBROS JUNIO'!$A30,'[1]CONSOLIDADO POR SEDE JUNIO'!$C$5:$C$2604,'RUBROS JUNIO'!H$5) -> 0 | I30: =SUMIFS('[1]CONSOLIDADO POR SEDE JUNIO'!$K$5:$K$2604,'[1]CONSOLIDADO POR SEDE JUNIO'!$E$5:$E$2604,'RUBROS JUNIO'!$A30,'[1]CONSOLIDADO POR SEDE JUNIO'!$C$5:$C$2604,'RUBROS JUNIO'!I$5) -> 0 | J30: 34886.911 | K30: =SUMIFS('[1]CONSOLIDADO POR SEDE JUNIO'!$K$5:$K$2604,'[1]CONSOLIDADO POR SEDE JUNIO'!$E$5:$E$2604,'RUBROS JUNIO'!$A30,'[1]CONSOLIDADO POR SEDE JUNIO'!$C$5:$C$2604,'RUBROS JUNIO'!K$5) -> 0 | L30: =SUMIFS('[1]CONSOLIDADO POR SEDE JUNIO'!$K$5:$K$2604,'[1]CONSOLIDADO POR SEDE JUNIO'!$E$5:$E$2604,'RUBROS JUNIO'!$A30,'[1]CONSOLIDADO POR SEDE JUNIO'!$C$5:$C$2604,'RUBROS JUNIO'!L$5) -> 0 | M30: =SUMIFS('[1]CONSOLIDADO POR SEDE JUNIO'!$K$5:$K$2604,'[1]CONSOLIDADO POR SEDE JUNIO'!$E$5:$E$2604,'RUBROS JUNIO'!$A30,'[1]CONSOLIDADO POR SEDE JUNIO'!$C$5:$C$2604,'RUBROS JUNIO'!M$5) -> 0 | N30: =SUMIFS('[1]CONSOLIDADO POR SEDE JUNIO'!$K$5:$K$2604,'[1]CONSOLIDADO POR SEDE JUNIO'!$E$5:$E$2604,'RUBROS JUNIO'!$A30,'[1]CONSOLIDADO POR SEDE JUNIO'!$C$5:$C$2604,'RUBROS JUNIO'!N$5) -> 0 | O30: =SUMIFS('[1]CONSOLIDADO POR SEDE JUNIO'!$K$5:$K$2604,'[1]CONSOLIDADO POR SEDE JUNIO'!$E$5:$E$2604,'RUBROS JUNIO'!$A30,'[1]CONSOLIDADO POR SEDE JUNIO'!$C$5:$C$2604,'RUBROS JUNIO'!O$5) -> 0 | P30: =SUMIFS('[1]CONSOLIDADO POR SEDE JUNIO'!$K$5:$K$2604,'[1]CONSOLIDADO POR SEDE JUNIO'!$E$5:$E$2604,'RUBROS JUNIO'!$A30,'[1]CONSOLIDADO POR SEDE JUNIO'!$C$5:$C$2604,'RUBROS JUNIO'!P$5) -> 0 | Q30: 568917.5 | R30: =SUMIFS('[1]CONSOLIDADO POR SEDE JUNIO'!$K$5:$K$2604,'[1]CONSOLIDADO POR SEDE JUNIO'!$E$5:$E$2604,'RUBROS JUNIO'!$A30,'[1]CONSOLIDADO POR SEDE JUNIO'!$C$5:$C$2604,'RUBROS JUNIO'!R$5) -> 0 | S30: 0 | T30: =SUMIFS('[1]CONSOLIDADO POR SEDE JUNIO'!$K$5:$K$2604,'[1]CONSOLIDADO POR SEDE JUNIO'!$E$5:$E$2604,'RUBROS JUNIO'!$A30,'[1]CONSOLIDADO POR SEDE JUNIO'!$C$5:$C$2604,'RUBROS JUNIO'!T$5) -> 0 | U30: =SUMIFS('[1]CONSOLIDADO POR SEDE JUNIO'!$K$5:$K$2604,'[1]CONSOLIDADO POR SEDE JUNIO'!$E$5:$E$2604,'RUBROS JUNIO'!$A30,'[1]CONSOLIDADO POR SEDE JUNIO'!$C$5:$C$2604,'RUBROS JUNIO'!U$5) -> 0 | V30: =SUMIFS('[1]CONSOLIDADO POR SEDE JUNIO'!$K$5:$K$2604,'[1]CONSOLIDADO POR SEDE JUNIO'!$E$5:$E$2604,'RUBROS JUNIO'!$A30,'[1]CONSOLIDADO POR SEDE JUNIO'!$C$5:$C$2604,'RUBROS JUNIO'!V$5) -> 0 | W30: =SUMIFS('[1]CONSOLIDADO POR SEDE JUNIO'!$K$5:$K$2604,'[1]CONSOLIDADO POR SEDE JUNIO'!$E$5:$E$2604,'RUBROS JUNIO'!$A30,'[1]CONSOLIDADO POR SEDE JUNIO'!$C$5:$C$2604,'RUBROS JUNIO'!W$5) -> 0 | X30: =SUMIFS('[1]CONSOLIDADO POR SEDE JUNIO'!$K$5:$K$2604,'[1]CONSOLIDADO POR SEDE JUNIO'!$E$5:$E$2604,'RUBROS JUNIO'!$A30,'[1]CONSOLIDADO POR SEDE JUNIO'!$C$5:$C$2604,'RUBROS JUNIO'!X$5) -> 0 | Y30: =SUMIFS('[1]CONSOLIDADO POR SEDE JUNIO'!$K$5:$K$2604,'[1]CONSOLIDADO POR SEDE JUNIO'!$E$5:$E$2604,'RUBROS JUNIO'!$A30,'[1]CONSOLIDADO POR SEDE JUNIO'!$C$5:$C$2604,'RUBROS JUNIO'!Y$5) -> 0 | Z30: =SUMIFS('[1]CONSOLIDADO POR SEDE JUNIO'!$K$5:$K$2604,'[1]CONSOLIDADO POR SEDE JUNIO'!$E$5:$E$2604,'RUBROS JUNIO'!$A30,'[1]CONSOLIDADO POR SEDE JUNIO'!$C$5:$C$2604,'RUBROS JUNIO'!Z$5) -> 0 | AA30: =SUMIFS('[1]CONSOLIDADO POR SEDE JUNIO'!$K$5:$K$2604,'[1]CONSOLIDADO POR SEDE JUNIO'!$E$5:$E$2604,'RUBROS JUNIO'!$A30,'[1]CONSOLIDADO POR SEDE JUNIO'!$C$5:$C$2604,'RUBROS JUNIO'!AA$5) -> 0 | ... AF30: =SUMIFS('[1]CONSOLIDADO POR SEDE JUNIO'!$K$5:$K$2604,'[1]CONSOLIDADO POR SEDE JUNIO'!$E$5:$E$2604,'RUBROS JUNIO'!$A30,'[1]CONSOLIDADO POR SEDE JUNIO'!$C$5:$C$2604,'RUBROS JUNIO'!AF$5) -> 0 | AG30: 0 | AH30: =SUMIFS('[1]CONSOLIDADO POR SEDE JUNIO'!$K$5:$K$2604,'[1]CONSOLIDADO POR SEDE JUNIO'!$E$5:$E$2604,'RUBROS JUNIO'!$A30,'[1]CONSOLIDADO POR SEDE JUNIO'!$C$5:$C$2604,'RUBROS JUNIO'!AH$5) -> 0 | AI30: =SUMIFS('[1]CONSOLIDADO POR SEDE JUNIO'!$K$5:$K$2604,'[1]CONSOLIDADO POR SEDE JUNIO'!$E$5:$E$2604,'RUBROS JUNIO'!$A30,'[1]CONSOLIDADO POR SEDE JUNIO'!$C$5:$C$2604,'RUBROS JUNIO'!AI$5) -> 0 | AJ30: =SUMIFS('[1]CONSOLIDADO POR SEDE JUNIO'!$K$5:$K$2604,'[1]CONSOLIDADO POR SEDE JUNIO'!$E$5:$E$2604,'RUBROS JUNIO'!$A30,'[1]CONSOLIDADO POR SEDE JUNIO'!$C$5:$C$2604,'RUBROS JUNIO'!AJ$5) -> 0 | AK30: =SUMIFS('[1]CONSOLIDADO POR SEDE JUNIO'!$K$5:$K$2604,'[1]CONSOLIDADO POR SEDE JUNIO'!$E$5:$E$2604,'RUBROS JUNIO'!$A30,'[1]CONSOLIDADO POR SEDE JUNIO'!$C$5:$C$2604,'RUBROS JUNIO'!AK$5) -> 0 | AL30: =SUMIFS('[1]CONSOLIDADO POR SEDE JUNIO'!$K$5:$K$2604,'[1]CONSOLIDADO POR SEDE JUNIO'!$E$5:$E$2604,'RUBROS JUNIO'!$A30,'[1]CONSOLIDADO POR SEDE JUNIO'!$C$5:$C$2604,'RUBROS JUNIO'!AL$5) -> 0 | AM30: 5268.7891 | AN30: =SUMIFS('[1]CONSOLIDADO POR SEDE JUNIO'!$K$5:$K$2604,'[1]CONSOLIDADO POR SEDE JUNIO'!$E$5:$E$2604,'RUBROS JUNIO'!$A30,'[1]CONSOLIDADO POR SEDE JUNIO'!$C$5:$C$2604,'RUBROS JUNIO'!AN$5) -> 0 | AO30: =SUMIFS('[1]CONSOLIDADO POR SEDE JUNIO'!$K$5:$K$2604,'[1]CONSOLIDADO POR SEDE JUNIO'!$E$5:$E$2604,'RUBROS JUNIO'!$A30,'[1]CONSOLIDADO POR SEDE JUNIO'!$C$5:$C$2604,'RUBROS JUNIO'!AO$5) -> 0 | AP30: =SUMIFS('[1]CONSOLIDADO POR SEDE JUNIO'!$K$5:$K$2604,'[1]CONSOLIDADO POR SEDE JUNIO'!$E$5:$E$2604,'RUBROS JUNIO'!$A30,'[1]CONSOLIDADO POR SEDE JUNIO'!$C$5:$C$2604,'RUBROS JUNIO'!AP$5) -> 0 | AR30: 382618.76 | AS30: 19495260
C31: =SUM(C6:C30) -> 0 | D31: =SUM(D6:D30) -> 0 | E31: =SUM(E6:E30) -> 0 | F31: =SUM(F6:F30) -> 0 | G31: =SUM(G6:G30) -> 1328636 | H31: =SUM(H6:H30) -> 0 | I31: =SUM(I6:I30) -> 0 | J31: =SUM(J6:J30) -> 15097886 | ... AS31: =SUM(AS6:AS30) -> 7.4942837e+08
AS32: =SUM(C31:AS31) -> 7.9025717e+08
AQ34: TOTAL | AR34: =SUM(C31:AP31) -> 25937157
AQ35: INSUMOS DISCRIMINADOS | AR35: =+'[1]CONSOLIDADO POR SEDE JUNIO'!K2606 -> 25937157
AR36: =+AR34-AR35 -> 0
