Workbook
Name ABRILINSU: '[1]INSUMOS JUNIO'!$CO$110
Name ABRILINSU: '[2]INSUMOS MAYO'!$CO$110
Name ABRILMAQUI: [1]MAQUINARIA!$AD$28
Name ABRILMAQUI: [2]MAQUINARIA!$AD$28
Name CONSOLFAC: '[1]PREFACTUR JUNIO'!$O$82
Name CONSOLFAC: '[2]PREFACTUR MAYO'!$O$100
Name INSUMOABRIL: '[1]CONSOLIDADO POR SEDE'!$L$1632
Name INSUMOABRIL: '[2]CONSOLIDADO POR SEDE'!$L$1632
Name INSUMOFEBRERO: '[3]INSUMO POR SEDES MARZO'!$CO$110

Sheet RUBROS JUNIO
A1: CODIGO SEDE | C1: O2120201002032352001 | D1: O2120201002032381302 | E1: O2120201002032391101 | F1: O2120201002032399921 | G1: O2120201002042441001 | H1: O2120201002072719007 | I1: O2120201002072719009 | J1: O2120201002072792104 | K1: O2120201002082823803 | L1: O2120201003013191409 | M1: O2120201003023213101 | N1: O2120201003023213102 | O1: O2120201003023219303 | P1: O2120201003023219304 | Q1: O2120201003023219907 | R1: O2120201003033335001 | S1: O2120201003033335004 | T1: O2120201003043113 | U1: O2120201003043424014 | V1: O2120201003043466401 | W1: O2120201003053532101 | X1: O2120201003053532103 | Y1: O2120201003053532104 | Z1: O2120201003053532105 | AA1: O2120201003053532201 | AB1: O2120201003053532 | AC1: O2120201003053532204 | AD1: O2120201003053533102 | AE1: O2120201003053533202 | AF1: O2120201003053549945 | AG1: O2120201003063641001 | AH1: O2120201003063694012 | AI1: O2120201003063694016 | AJ1: O2120201003073719199 | AK1: O2120201003073719305 | AL1: O2120201003073722101 | AM1: O2120201003083899302 | AN1: O2120201003083899303 | AO1: O2120201004024291231 | AP1: O2120201004024299 | AQ1: O21202020070373122 | AR1: O21202020070373230 | AS1: O21202020080585330
A2: VALOR DISPONIBLE | C2: 38031768 | D2: 25469903 | E2: 5915797 | F2: 701 | G2: 5008365.4 | H2: 0 | I2: 1.06409 | J2: 37199791 | K2: 4375622 | L2: 1 | M2: 1 | N2: 275331 | O2: 1199896 | P2: 45237742 | Q2: 43132839 | R2: 0.61786 | S2: 6407970 | T2: 0 | U2: 9171131.8 | V2: 0.3140112 | W2: 3267835.3 | X2: 1970247.4 | Y2: 6717244 | Z2: 4966591.8 | AA2: 3365335.1 | AB2: 0 | AC2: 1604839.3 | AD2: 26088842 | AE2: 12553013 | AF2: 62586495 | AG2: 3478.1517 | AH2: 334783 | AI2: 1 | AJ2: 76976.688 | AK2: 377736 | AL2: 5239202 | AM2: 5562749.9 | AN2: 3337101.6 | AO2: 712977.98 | AP2: 0 | AQ2: 177870719 | AR2: 1.5481438e+08 | AS2: 2.6829194e+09
A3: TOTAL DESPUES DE PAGO | C3: =C2-C31 -> 38031768 | D3: =D2-D31 -> 25469903 | E3: =E2-E31 -> 5915797 | F3: =F2-F31 -> 701 | G3: =G2-G31 -> 3679729.5 | H3: =H2-H31 -> 0 | I3: =I2-I31 -> 1.06409 | J3: =J2-J31 -> 22101904 | ... AS3: =AS2-AS31 -> 1.9334911e+09
A4: RUBRO | C4: Azucar refinada (174- 176) | D4: Café molido (170,173) | E4: Té elaborado | F4: Productos aromáticos diversos (192, 195) | G4: Agua purificada (envasada) (204,205) | H4: Filtros de material textil, para usos técnicos e industriales (103, 104, 105, 106, 108, 109, 162) | I4: Paños absorbentes desechables para uso doméstico (74,213) | J4: Filtros de algodón (66, 71, 72, 73, 98,161, 208, 209, 210, 211) | K4: Guantes de fibras artificiales y sintéticas | L4: Aplicadores, bajalenguas y otros para usos higiénicos, de madera (135, 159) | M4: Papel del tipo utilizado para papel higiénico (137, 139) | N4: Papel para servilletas, toallas y similares (160) | O4: Pañuelos de papel (154) | P4: Toallas de papel (151, 152) | Q4: Vasos de papel o cartón (155, 156, 157) | R4: Solventes para insecticida (64, 65) | S4: Varsol-disolvente núm. 4 (57; 251) | T4: Alcoholes n.c.p. | U4: Hipoclorito de sodio (32) | V4: Desinfectantes (28, 38) | W4: Jabones en pasta para lavar (5, 8) | X4: Jabones líquidos para lavar (3, 41) | Y4: Jabones industriales (11) | Z4: Jabones de tocador (13) | AA4: Detergentes en polvo (9) | AB4: Preparaciones para limpieza y desengrase (21, 44, 59) | AC4: Preparaciones para limpiar vidrios (29) | AD4: Purificadores líquidos de ambiente (62, 63) | AE4: Ceras para pisos (46) | AF4: Productos químicos especiales para tratamiento de pisos (17, 20, 50, 51, 52, 54) | AG4: Bolsas de material plástico sin impresión (110, 118, 119, 120, 122, 123,124, 126, 127, 129, 131, 132, 134) | AH4: Recipientes de material plástico-canecas para la basura (260, 291) | AI4: Recogedores plásticos de basura (215, 216, 218) | AJ4: Envases n.c.p. de vidrio (169) | AK4: Vasos y jarros de vidrio | AL4: Vajillas de loza-pedernal | AM4: Escobas (86, 87, 88, 89) | AN4: Cepillos para lavar o fregar (94, 95, 102, 164,207,212, 255, 257) | AO4: Esponjas y esponjillas metálicas (79, 80, 81, 82, 83) | AP4: Mangos metálicos (91, 92, 100) | AQ4: Servicios de arrendamiento o de alquiler de maquinaria y equipo de construcción sin operario | AR4: Servicios de arrendamiento sin opción de compra de muebles y otros aparatos domésticos | AS4: Servicios de limpieza general
C5: Azucar refinada | D5: Café molido | F5: Productos aromáticos diversos | G5: Agua purificada (envasada) | H5: Filtros de material textil, para usos técnicos e industriales | I5: Paños absorbentes desechables para uso doméstico | J5: Filtros de algodón | L5: Aplicadores, bajalenguas y otros para usos higiénicos, de madera | M5: Papel del tipo utilizado para papel higiénico | N5: Papel para servilletas, toallas y similares | O5: Pañuelos de papel | P5: Toallas de papel | Q5: Vasos de papel o cartón | R5: Solventes para insecticida | S5: Varsol-disolvente núm. 4 | U5: Hipoclorito de sodio | V5: Desinfectantes | W5: Jabones en pasta para lavar | X5: Jabones líquidos para lavar | Y5: Jabones industriales | Z5: Jabones de tocador | AA5: Detergentes en polvo | AB5: Preparaciones para limpieza y desengrase | AC5: Preparaciones para limpiar vidrios | AD5: Purificadores líquidos de ambiente | AE5: Ceras para pisos | AF5: Productos químicos especiales para tratamiento de pisos | AG5: Bolsas de material plástico sin impresión | AH5: Recipientes de material plástico-canecas para la basura | AI5: Recogedores plásticos de basura | AJ5: Envases n.c.p. de vidrio | AM5: Escobas | AN5: Cepillos para lavar o fregar | AO5: Esponjas y esponjillas metálicas | AP5: Mangos metálicos
A6: SEDE 1 - MANZANA LIEVANO - ALCALDÍA MAYOR | B6: 4233100 | C6: =SUMIFS('[1]CONSOLIDADO POR SEDE JUNIO'!$K$5:$K$2604,'[1]CONSOLIDADO POR SEDE JUNIO'!$E$5:$E$2604,'RUBROS JUNIO'!$A6,'[1]CONSOLIDADO POR SEDE JUNIO'!$C$5:$C$2604,'RUBROS JUNIO'!C$5) -> 0 | D6: =SUMIFS('[1]CONSOLIDADO POR SEDE JUNIO'!$K$5:$K$2604,'[1]CONSOLIDADO POR SEDE JUNIO'!$E$5:$E$2604,'RUBROS JUNIO'!$A6,'[1]CONSOLIDADO POR SEDE JUNIO'!$C$5:$C$2604,'RUBROS JUNIO'!D$5) -> 0 | E6: =SUMIFS('[1]CONSOLIDADO POR SEDE JUNIO'!$K$5:$K$2604,'[1]CONSOLIDADO POR SEDE JUNIO'!$E$5:$E$2604,'RUBROS JUNIO'!$A6,'[1]CONSOLIDADO POR SEDE JUNIO'!$C$5:$C$2604,'RUBROS JUNIO'!E$5) -> 0 | F6: =SUMIFS('[1]CONSOLIDADO POR SEDE JUNIO'!$K$5:$K$2604,'[1]CONSOLIDADO POR SEDE JUNIO'!$E$5:$E$2604,'RUBROS JUNIO'!$A6,'[1]CONSOLIDADO POR SEDE JUNIO'!$C$5:$C$2604,'RUBROS JUNIO'!F$5) -> 0 | G6: =SUMIFS('[1]CONSOLIDADO POR SEDE JUNIO'!$K$5:$K$2604,'[1]CONSOLIDADO POR SEDE JUNIO'!$E$5:$E$2604,'RUBROS JUNIO'!$A6,'[1]CONSOLIDADO POR SEDE JUNIO'!$C$5:$C$2604,'RUBROS JUNIO'!G$5) -> 0 | H6: =SUMIFS('[1]CONSOLIDADO POR SEDE JUNIO'!$K$5:$K$2604,'[1]CONSOLIDADO POR SEDE JUNIO'!$E$5:$E$2604,'RUBROS JUNIO'!$A6,'[1]CONSOLIDADO POR SEDE JUNIO'!$C$5:$C$2604,'RUBROS JUNIO'!H$5) -> 0 | I6: 0 | J6: 8618527.6 | K6: =SUMIFS('[1]CONSOLIDADO POR SEDE JUNIO'!$K$5:$K$2604,'[1]CONSOLIDADO POR SEDE JUNIO'!$E$5:$E$2604,'RUBROS JUNIO'!$A6,'[1]CONSOLIDADO POR SEDE JUNIO'!$C$5:$C$2604,'RUBROS JUNIO'!K$5) -> 0 | L6: =SUMIFS('[1]CONSOLIDADO POR SEDE JUNIO'!$K$5:$K$2604,'[1]CONSOLIDADO POR SEDE JUNIO'!$E$5:$E$2604,'RUBROS JUNIO'!$A6,'[1]CONSOLIDADO POR SEDE JUNIO'!$C$5:$C$2604,'RUBROS JUNIO'!L$5) -> 0 | M6: =SUMIFS('[1]CONSOLIDADO POR SEDE JUNIO'!$K$5:$K$2604,'[1]CONSOLIDADO POR SEDE JUNIO'!$E$5:$E$2604,'RUBROS JUNIO'!$A6,'[1]CONSOLIDADO POR SEDE JUNIO'!$C$5:$C$2604,'RUBROS JUNIO'!M$5) -> 0 | N6: =SUMIFS('[1]CONSOLIDADO POR SEDE JUNIO'!$K$5:$K$2604,'[1]CONSOLIDADO POR SEDE JUNIO'!$E$5:$E$2604,'RUBROS JUNIO'!$A6,'[1]CONSOLIDADO POR SEDE JUNIO'!$C$5:$C$2604,'RUBROS JUNIO'!N$5) -> 0 | O6: =SUMIFS('[1]CONSOLIDADO POR SEDE JUNIO'!$K$5:$K$2604,'[1]CONSOLIDADO POR SEDE JUNIO'!$E$5:$E$2604,'RUBROS JUNIO'!$A6,'[1]CONSOLIDADO POR SEDE JUNIO'!$C$5:$C$2604,'RUBROS JUNIO'!O$5) -> 0 | P6: =SUMIFS('[1]CONSOLIDADO POR SEDE JUNIO'!$K$5:$K$2604,'[1]CONSOLIDADO POR SEDE JUNIO'!$E$5:$E$2604,'RUBROS JUNIO'!$A6,'[1]CONSOLIDADO POR SEDE JUNIO'!$C$5:$C$2604,'RUBROS JUNIO'!P$5) -> 0 | Q6: 0 | R6: 0 | S6: 1085746.9 | T6: =SUMIFS('[1]CONSOLIDADO POR SEDE JUNIO'!$K$5:$K$2604,'[1]CONSOLIDADO POR SEDE JUNIO'!$E$5:$E$2604,'RUBROS JUNIO'!$A6,'[1]CONSOLIDADO POR SEDE JUNIO'!$C$5:$C$2604,'RUBROS JUNIO'!T$5) -> 0 | U6: =SUMIFS('[1]CONSOLIDADO POR SEDE JUNIO'!$K$5:$K$2604,'[1]CONSOLIDADO POR SEDE JUNIO'!$E$5:$E$2604,'RUBROS JUNIO'!$A6,'[1]CONSOLIDADO POR SEDE JUNIO'!$C$5:$C$2604,'RUBROS JUNIO'!U$5) -> 0 | V6: =SUMIFS('[1]CONSOLIDADO POR SEDE JUNIO'!$K$5:$K$2604,'[1]CONSOLIDADO POR SEDE JUNIO'!$E$5:$E$2604,'RUBROS JUNIO'!$A6,'[1]CONSOLIDADO POR SEDE JUNIO'!$C$5:$C$2604,'RUBROS JUNIO'!V$5) -> 0 | W6: =SUMIFS('[1]CONSOLIDADO POR SEDE JUNIO'!$K$5:$K$2604,'[1]CONSOLIDADO POR SEDE JUNIO'!$E$5:$E$2604,'RUBROS JUNIO'!$A6,'[1]CONSOLIDADO POR SEDE JUNIO'!$C$5:$C$2604,'RUBROS JUNIO'!W$5) -> 0 | X6: =SUMIFS('[1]CONSOLIDADO POR SEDE JUNIO'!$K$5:$K$2604,'[1]CONSOLIDADO POR SEDE JUNIO'!$E$5:$E$2604,'RUBROS JUNIO'!$A6,'[1]CONSOLIDADO POR SEDE JUNIO'!$C$5:$C$2604,'RUBROS JUNIO'!X$5) -> 0 | Y6: =SUMIFS('[1]CONSOLIDADO POR SEDE JUNIO'!$K$5:$K$2604,'[1]CONSOLIDADO POR SEDE JUNIO'!$E$5:$E$2604,'RUBROS JUNIO'!$A6,'[1]CONSOLIDADO POR SEDE JUNIO'!$C$5:$C$2604,'RUBROS JUNIO'!Y$5) -> 0 | Z6: =SUMIFS('[1]CONSOLIDADO POR SEDE JUNIO'!$K$5:$K$2604,'[1]CONSOLIDADO POR SEDE JUNIO'!$E$5:$E$2604,'RUBROS JUNIO'!$A6,'[1]CONSOLIDADO POR SEDE JUNIO'!$C$5:$C$2604,'RUBROS JUNIO'!Z$5) -> 0 | AA6: =SUMIFS('[1]CONSOLIDADO POR SEDE JUNIO'!$K$5:$K$2604,'[1]CONSOLIDADO POR SEDE JUNIO'!$E$5:$E$2604,'RUBROS JUNIO'!$A6,'[1]CONSOLIDADO POR SEDE JUNIO'!$C$5:$C$2604,'RUBROS JUNIO'!AA$5) -> 0 | ... AL6: =SUMIFS('[1]CONSOLIDADO POR SEDE JUNIO'!$K$5:$K$2604,'[1]CONSOLIDADO POR SEDE JUNIO'!$E$5:$E$2604,'RUBROS JUNIO'!$A6,'[1]CONSOLIDADO POR SEDE JUNIO'!$C$5:$C$2604,'RUBROS JUNIO'!AL$5) -> 0 | AM6: 0 | AN6: =SUMIFS('[1]CONSOLIDADO POR SEDE JUNIO'!$K$5:$K$2604,'[1]CONSOLIDADO POR SEDE JUNIO'!$E$5:$E$2604,'RUBROS JUNIO'!$A6,'[1]CONSOLIDADO POR SEDE JUNIO'!$C$5:$C$2604,'RUBROS JUNIO'!AN$5) -> 0 | AO6: =SUMIFS('[1]CONSOLIDADO POR SEDE JUNIO'!$K$5:$K$2604,'[1]CONSOLIDADO POR SEDE JUNIO'!$E$5:$E$2604,'RUBROS JUNIO'!$A6,'[1]CONSOLIDADO POR SEDE JUNIO'!$C$5:$C$2604,'RUBROS JUNIO'!AO$5) -> 0 | AP6: =SUMIFS('[1]CONSOLIDADO POR SEDE JUNIO'!$K$5:$K$2604,'[1]CONSOLIDADO POR SEDE JUNIO'!$E$5:$E$2604,'RUBROS JUNIO'!$A6,'[1]CONSOLIDADO POR SEDE JUNIO'!$C$5:$C$2604,'RUBROS JUNIO'!AP$5) -> 0 | AR6: 3829908.7 | AS6: =206649761.235538+5879138.72 -> 2.125289e+08
A7: SEDE 2 - DIRECCIÓN DISTRITAL DE ARCHIVO DE BOGOTA | B7: 4213000 | C7: =SUMIFS('[1]CONSOLIDADO POR SEDE JUNIO'!$K$5:$K$2604,'[1]CONSOLIDADO POR SEDE JUNIO'!$E$5:$E$2604,'RUBROS JUNIO'!$A7,'[1]CONSOLIDADO POR SEDE JUNIO'!$C$5:$C$2604,'RUBROS JUNIO'!C$5) -> 0 | D7: =SUMIFS('[1]CONSOLIDADO POR SEDE JUNIO'!$K$5:$K$2604,'[1]CONSOLIDADO POR SEDE JUNIO'!$E$5:$E$2604,'RUBROS JUNIO'!$A7,'[1]CONSOLIDADO POR SEDE JUNIO'!$C$5:$C$2604,'RUBROS JUNIO'!D$5) -> 0 | E7: =SUMIFS('[1]CONSOLIDADO POR SEDE JUNIO'!$K$5:$K$2604,'[1]CONSOLIDADO POR SEDE JUNIO'!$E$5:$E$2604,'RUBROS JUNIO'!$A7,'[1]CONSOLIDADO POR SEDE JUNIO'!$C$5:$C$2604,'RUBROS JUNIO'!E$5) -> 0 | F7: =SUMIFS('[1]CONSOLIDADO POR SEDE JUNIO'!$K$5:$K$2604,'[1]CONSOLIDADO POR SEDE JUNIO'!$E$5:$E$2604,'RUBROS JUNIO'!$A7,'[1]CONSOLIDADO POR SEDE JUNIO'!$C$5:$C$2604,'RUBROS JUNIO'!F$5) -> 0 | G7: =SUMIFS('[1]CONSOLIDADO POR SEDE JUNIO'!$K$5:$K$2604,'[1]CONSOLIDADO POR SEDE JUNIO'!$E$5:$E$2604,'RUBROS JUNIO'!$A7,'[1]CONSOLIDADO POR SEDE JUNIO'!$C$5:$C$2604,'RUBROS JUNIO'!G$5) -> 0 | H7: =SUMIFS('[1]CONSOLIDADO POR SEDE JUNIO'!$K$5:$K$2604,'[1]CONSOLIDADO POR SEDE JUNIO'!$E$5:$E$2604,'RUBROS JUNIO'!$A7,'[1]CONSOLIDADO POR SEDE JUNIO'!$C$5:$C$2604,'RUBROS JUNIO'!H$5) -> 0 | I7: 0 | J7: 430931.67 | K7: =SUMIFS('[1]CONSOLIDADO POR SEDE JUNIO'!$K$5:$K$2604,'[1]CONSOLIDADO POR SEDE JUNIO'!$E$5:$E$2604,'RUBROS JUNIO'!$A7,'[1]CONSOLIDADO POR SEDE JUNIO'!$C$5:$C$2604,'RUBROS JUNIO'!K$5) -> 0 | L7: =SUMIFS('[1]CONSOLIDADO POR SEDE JUNIO'!$K$5:$K$2604,'[1]CONSOLIDADO POR SEDE JUNIO'!$E$5:$E$2604,'RUBROS JUNIO'!$A7,'[1]CONSOLIDADO POR SEDE JUNIO'!$C$5:$C$2604,'RUBROS JUNIO'!L$5) -> 0 | M7: =SUMIFS('[1]CONSOLIDADO POR SEDE JUNIO'!$K$5:$K$2604,'[1]CONSOLIDADO POR SEDE JUNIO'!$E$5:$E$2604,'RUBROS JUNIO'!$A7,'[1]CONSOLIDADO POR SEDE JUNIO'!$C$5:$C$2604,'RUBROS JUNIO'!M$5) -> 0 | N7: =SUMIFS('[1]CONSOLIDADO POR SEDE JUNIO'!$K$5:$K$2604,'[1]CONSOLIDADO POR SEDE JUNIO'!$E$5:$E$2604,'RUBROS JUNIO'!$A7,'[1]CONSOLIDADO POR SEDE JUNIO'!$C$5:$C$2604,'RUBROS JUNIO'!N$5) -> 0 | O7: =SUMIFS('[1]CONSOLIDADO POR SEDE JUNIO'!$K$5:$K$2604,'[1]CONSOLIDADO POR SEDE JUNIO'!$E$5:$E$2604,'RUBROS JUNIO'!$A7,'[1]CONSOLIDADO POR SEDE JUNIO'!$C$5:$C$2604,'RUBROS JUNIO'!O$5) -> 0 | P7: =SUMIFS('[1]CONSOLIDADO POR SEDE JUNIO'!$K$5:$K$2604,'[1]CONSOLIDADO POR SEDE JUNIO'!$E$5:$E$2604,'RUBROS JUNIO'!$A7,'[1]CONSOLIDADO POR SEDE JUNIO'!$C$5:$C$2604,'RUBROS JUNIO'!P$5) -> 0 | Q7: 0 | R7: =SUMIFS('[1]CONSOLIDADO POR SEDE JUNIO'!$K$5:$K$2604,'[1]CONSOLIDADO POR SEDE JUNIO'!$E$5:$E$2604,'RUBROS JUNIO'!$A7,'[1]CONSOLIDADO POR SEDE JUNIO'!$C$5:$C$2604,'RUBROS JUNIO'!R$5) -> 0 | S7: 0 | T7: =SUMIFS('[1]CONSOLIDADO POR SEDE JUNIO'!$K$5:$K$2604,'[1]CONSOLIDADO POR SEDE JUNIO'!$E$5:$E$2604,'RUBROS JUNIO'!$A7,'[1]CONSOLIDADO POR SEDE JUNIO'!$C$5:$C$2604,'RUBROS JUNIO'!T$5) -> 0 | U7: =SUMIFS('[1]CONSOLIDADO POR SEDE JUNIO'!$K$5:$K$2604,'[1]CONSOLIDADO POR SEDE JUNIO'!$E$5:$E$2604,'RUBROS JUNIO'!$A7,'[1]CONSOLIDADO POR SEDE JUNIO'!$C$5:$C$2604,'RUBROS JUNIO'!U$5) -> 0 | V7: =SUMIFS('[1]CONSOLIDADO POR SEDE JUNIO'!$K$5:$K$2604,'[1]CONSOLIDADO POR SEDE JUNIO'!$E$5:$E$2604,'RUBROS JUNIO'!$A7,'[1]CONSOLIDADO POR SEDE JUNIO'!$C$5:$C$2604,'RUBROS JUNIO'!V$5) -> 0 | W7: =SUMIFS('[1]CONSOLIDADO POR SEDE JUNIO'!$K$5:$K$2604,'[1]CONSOLIDADO POR SEDE JUNIO'!$E$5:$E$2604,'RUBROS JUNIO'!$A7,'[1]CONSOLIDADO POR SEDE JUNIO'!$C$5:$C$2604,'RUBROS JUNIO'!W$5) -> 0 | X7: =SUMIFS('[1]CONSOLIDADO POR SEDE JUNIO'!$K$5:$K$2604,'[1]CONSOLIDADO POR SEDE JUNIO'!$E$5:$E$2604,'RUBROS JUNIO'!$A7,'[1]CONSOLIDADO POR SEDE JUNIO'!$C$5:$C$2604,'RUBROS JUNIO'!X$5) -> 0 | Y7: =SUMIFS('[1]CONSOLIDADO POR SEDE JUNIO'!$K$5:$K$2604,'[1]CONSOLIDADO POR SEDE JUNIO'!$E$5:$E$2604,'RUBROS JUNIO'!$A7,'[1]CONSOLIDADO POR SEDE JUNIO'!$C$5:$C$2604,'RUBROS JUNIO'!Y$5) -> 0 | Z7: =SUMIFS('[1]CONSOLIDADO POR SEDE JUNIO'!$K$5:$K$2604,'[1]CONSOLIDADO POR SEDE JUNIO'!$E$5:$E$2604,'RUBROS JUNIO'!$A7,'[1]CONSOLIDADO POR SEDE JUNIO'!$C$5:$C$2604,'RUBROS JUNIO'!Z$5) -> 0 | AA7: =SUMIFS('[1]CONSOLIDADO POR SEDE JUNIO'!$K$5:$K$2604,'[1]CONSOLIDADO POR SEDE JUNIO'!$E$5:$E$2604,'RUBROS JUNIO'!$A7,'[1]CONSOLIDADO POR SEDE JUNIO'!$C$5:$C$2604,'RUBROS JUNIO'!AA$5) -> 0 | ... AL7: =SUMIFS('[1]CONSOLIDADO POR SEDE JUNIO'!$K$5:$K$2604,'[1]CONSOLIDADO POR SEDE JUNIO'!$E$5:$E$2604,'RUBROS JUNIO'!$A7,'[1]CONSOLIDADO POR SEDE JUNIO'!$C$5:$C$2604,'RUBROS JUNIO'!AL$5) -> 0 | AM7: 0 | AN7: =SUMIFS('[1]CONSOLIDADO POR SEDE JUNIO'!$K$5:$K$2604,'[1]CONSOLIDADO POR SEDE JUNIO'!$E$5:$E$2604,'RUBROS JUNIO'!$A7,'[1]CONSOLIDADO POR SEDE JUNIO'!$C$5:$C$2604,'RUBROS JUNIO'!AN$5) -> 0 | AO7: =SUMIFS('[1]CONSOLIDADO POR SEDE JUNIO'!$K$5:$K$2604,'[1]CONSOLIDADO POR SEDE JUNIO'!$E$5:$E$2604,'RUBROS JUNIO'!$A7,'[1]CONSOLIDADO POR SEDE JUNIO'!$C$5:$C$2604,'RUBROS JUNIO'!AO$5) -> 0 | AP7: =SUMIFS('[1]CONSOLIDADO POR SEDE JUNIO'!$K$5:$K$2604,'[1]CONSOLIDADO POR SEDE JUNIO'!$E$5:$E$2604,'RUBROS JUNIO'!$A7,'[1]CONSOLIDADO POR SEDE JUNIO'!$C$5:$C$2604,'RUBROS JUNIO'!AP$5) -> 0 | AR7: 1108789.6 | AS7: 61864960
A8: SEDE 3 - IMPRENTA DISTRITAL | B8: 4211200 | C8: =SUMIFS('[1]CONSOLIDADO POR SEDE JUNIO'!$K$5:$K$2604,'[1]CONSOLIDADO POR SEDE JUNIO'!$E$5:$E$2604,'RUBROS JUNIO'!$A8,'[1]CONSOLIDADO POR SEDE JUNIO'!$C$5:$C$2604,'RUBROS JUNIO'!C$5) -> 0 | D8: =SUMIFS('[1]CONSOLIDADO POR SEDE JUNIO'!$K$5:$K$2604,'[1]CONSOLIDADO POR SEDE JUNIO'!$E$5:$E$2604,'RUBROS JUNIO'!$A8,'[1]CONSOLIDADO POR SEDE JUNIO'!$C$5:$C$2604,'RUBROS JUNIO'!D$5) -> 0 | E8: =SUMIFS('[1]CONSOLIDADO POR SEDE JUNIO'!$K$5:$K$2604,'[1]CONSOLIDADO POR SEDE JUNIO'!$E$5:$E$2604,'RUBROS JUNIO'!$A8,'[1]CONSOLIDADO POR SEDE JUNIO'!$C$5:$C$2604,'RUBROS JUNIO'!E$5) -> 0 | F8: =SUMIFS('[1]CONSOLIDADO POR SEDE JUNIO'!$K$5:$K$2604,'[1]CONSOLIDADO POR SEDE JUNIO'!$E$5:$E$2604,'RUBROS JUNIO'!$A8,'[1]CONSOLIDADO POR SEDE JUNIO'!$C$5:$C$2604,'RUBROS JUNIO'!F$5) -> 0 | G8: =SUMIFS('[1]CONSOLIDADO POR SEDE JUNIO'!$K$5:$K$2604,'[1]CONSOLIDADO POR SEDE JUNIO'!$E$5:$E$2604,'RUBROS JUNIO'!$A8,'[1]CONSOLIDADO POR SEDE JUNIO'!$C$5:$C$2604,'RUBROS JUNIO'!G$5) -> 0 | H8: =SUMIFS('[1]CONSOLIDADO POR SEDE JUNIO'!$K$5:$K$2604,'[1]CONSOLIDADO POR SEDE JUNIO'!$E$5:$E$2604,'RUBROS JUNIO'!$A8,'[1]CONSOLIDADO POR SEDE JUNIO'!$C$5:$C$2604,'RUBROS JUNIO'!H$5) -> 0 | I8: 0 | J8: 344745.34 | K8: =SUMIFS('[1]CONSOLIDADO POR SEDE JUNIO'!$K$5:$K$2604,'[1]CONSOLIDADO POR SEDE JUNIO'!$E$5:$E$2604,'RUBROS JUNIO'!$A8,'[1]CONSOLIDADO POR SEDE JUNIO'!$C$5:$C$2604,'RUBROS JUNIO'!K$5) -> 0 | L8: =SUMIFS('[1]CONSOLIDADO POR SEDE JUNIO'!$K$5:$K$2604,'[1]CONSOLIDADO POR SEDE JUNIO'!$E$5:$E$2604,'RUBROS JUNIO'!$A8,'[1]CONSOLIDADO POR SEDE JUNIO'!$C$5:$C$2604,'RUBROS JUNIO'!L$5) -> 0 | M8: =SUMIFS('[1]CONSOLIDADO POR SEDE JUNIO'!$K$5:$K$2604,'[1]CONSOLIDADO POR SEDE JUNIO'!$E$5:$E$2604,'RUBROS JUNIO'!$A8,'[1]CONSOLIDADO POR SEDE JUNIO'!$C$5:$C$2604,'RUBROS JUNIO'!M$5) -> 0 | N8: =SUMIFS('[1]CONSOLIDADO POR SEDE JUNIO'!$K$5:$K$2604,'[1]CONSOLIDADO POR SEDE JUNIO'!$E$5:$E$2604,'RUBROS JUNIO'!$A8,'[1]CONSOLIDADO POR SEDE JUNIO'!$C$5:$C$2604,'RUBROS JUNIO'!N$5) -> 0 | O8: =SUMIFS('[1]CONSOLIDADO POR SEDE JUNIO'!$K$5:$K$2604,'[1]CONSOLIDADO POR SEDE JUNIO'!$E$5:$E$2604,'RUBROS JUNIO'!$A8,'[1]CONSOLIDADO POR SEDE JUNIO'!$C$5:$C$2604,'RUBROS JUNIO'!O$5) -> 0 | P8: =SUMIFS('[1]CONSOLIDADO POR SEDE JUNIO'!$K$5:$K$2604,'[1]CONSOLIDADO POR SEDE JUNIO'!$E$5:$E$2604,'RUBROS JUNIO'!$A8,'[1]CONSOLIDADO POR SEDE JUNIO'!$C$5:$C$2604,'RUBROS JUNIO'!P$5) -> 0 | Q8: 0 | R8: =SUMIFS('[1]CONSOLIDADO POR SEDE JUNIO'!$K$5:$K$2604,'[1]CONSOLIDADO POR SEDE JUNIO'!$E$5:$E$2604,'RUBROS JUNIO'!$A8,'[1]CONSOLIDADO POR SEDE JUNIO'!$C$5:$C$2604,'RUBROS JUNIO'!R$5) -> 0 | S8: 0 | T8: =SUMIFS('[1]CONSOLIDADO POR SEDE JUNIO'!$K$5:$K$2604,'[1]CONSOLIDADO POR SEDE JUNIO'!$E$5:$E$2604,'RUBROS JUNIO'!$A8,'[1]CONSOLIDADO POR SEDE JUNIO'!$C$5:$C$2604,'RUBROS JUNIO'!T$5) -> 0 | U8: =SUMIFS('[1]CONSOLIDADO POR SEDE JUNIO'!$K$5:$K$2604,'[1]CONSOLIDADO POR SEDE JUNIO'!$E$5:$E$2604,'RUBROS JUNIO'!$A8,'[1]CONSOLIDADO POR SEDE JUNIO'!$C$5:$C$2604,'RUBROS JUNIO'!U$5) -> 0 | V8: =SUMIFS('[1]CONSOLIDADO POR SEDE JUNIO'!$K$5:$K$2604,'[1]CONSOLIDADO POR SEDE JUNIO'!$E$5:$E$2604,'RUBROS JUNIO'!$A8,'[1]CONSOLIDADO POR SEDE JUNIO'!$C$5:$C$2604,'RUBROS JUNIO'!V$5) -> 0 | W8: =SUMIFS('[1]CONSOLIDADO POR SEDE JUNIO'!$K$5:$K$2604,'[1]CONSOLIDADO POR SEDE JUNIO'!$E$5:$E$2604,'RUBROS JUNIO'!$A8,'[1]CONSOLIDADO POR SEDE JUNIO'!$C$5:$C$2604,'RUBROS JUNIO'!W$5) -> 0 | X8: =SUMIFS('[1]CONSOLIDADO POR SEDE JUNIO'!$K$5:$K$2604,'[1]CONSOLIDADO POR SEDE JUNIO'!$E$5:$E$2604,'RUBROS JUNIO'!$A8,'[1]CONSOLIDADO POR SEDE JUNIO'!$C$5:$C$2604,'RUBROS JUNIO'!X$5) -> 0 | Y8: =SUMIFS('[1]CONSOLIDADO POR SEDE JUNIO'!$K$5:$K$2604,'[1]CONSOLIDADO POR SEDE JUNIO'!$E$5:$E$2604,'RUBROS JUNIO'!$A8,'[1]CONSOLIDADO POR SEDE JUNIO'!$C$5:$C$2604,'RUBROS JUNIO'!Y$5) -> 0 | Z8: =SUMIFS('[1]CONSOLIDADO POR SEDE JUNIO'!$K$5:$K$2604,'[1]CONSOLIDADO POR SEDE JUNIO'!$E$5:$E$2604,'RUBROS JUNIO'!$A8,'[1]CONSOLIDADO POR SEDE JUNIO'!$C$5:$C$2604,'RUBROS JUNIO'!Z$5) -> 0 | AA8: =SUMIFS('[1]CONSOLIDADO POR SEDE JUNIO'!$K$5:$K$2604,'[1]CONSOLIDADO POR SEDE JUNIO'!$E$5:$E$2604,'RUBROS JUNIO'!$A8,'[1]CONSOLIDADO POR SEDE JUNIO'!$C$5:$C$2604,'RUBROS JUNIO'!AA$5) -> 0 | ... AL8: =SUMIFS('[1]CONSOLIDADO POR SEDE JUNIO'!$K$5:$K$2604,'[1]CONSOLIDADO POR SEDE JUNIO'!$E$5:$E$2604,'RUBROS JUNIO'!$A8,'[1]CONSOLIDADO POR SEDE JUNIO'!$C$5:$C$2604,'RUBROS JUNIO'!AL$5) -> 0 | AM8: 0 | AN8: =SUMIFS('[1]CONSOLIDADO POR SEDE JUNIO'!$K$5:$K$2604,'[1]CONSOLIDADO POR SEDE JUNIO'!$E$5:$E$2604,'RUBROS JUNIO'!$A8,'[1]CONSOLIDADO POR SEDE JUNIO'!$C$5:$C$2604,'RUBROS JUNIO'!AN$5) -> 89698.783 | AO8: =SUMIFS('[1]CONSOLIDADO POR SEDE JUNIO'!$K$5:$K$2604,'[1]CONSOLIDADO POR SEDE JUNIO'!$E$5:$E$2604,'RUBROS JUNIO'!$A8,'[1]CONSOLIDADO POR SEDE JUNIO'!$C$5:$C$2604,'RUBROS JUNIO'!AO$5) -> 0 | AP8: =SUMIFS('[1]CONSOLIDADO POR SEDE JUNIO'!$K$5:$K$2604,'[1]CONSOLIDADO POR SEDE JUNIO'!$E$5:$E$2604,'RUBROS JUNIO'!$A8,'[1]CONSOLIDADO POR SEDE JUNIO'!$C$5:$C$2604,'RUBROS JUNIO'!AP$5) -> 0 | AR8: 672616.21 | AS8: 14556461
A9: SEDE 4 - SEDE ALTERNA RESTREPO | C9: =SUMIFS('[1]CONSOLIDADO POR SEDE JUNIO'!$K$5:$K$2604,'[1]CONSOLIDADO POR SEDE JUNIO'!$E$5:$E$2604,'RUBROS JUNIO'!$A9,'[1]CONSOLIDADO POR SEDE JUNIO'!$C$5:$C$2604,'RUBROS JUNIO'!C$5) -> 0 | D9: =SUMIFS('[1]CONSOLIDADO POR SEDE JUNIO'!$K$5:$K$2604,'[1]CONSOLIDADO POR SEDE JUNIO'!$E$5:$E$2604,'RUBROS JUNIO'!$A9,'[1]CONSOLIDADO POR SEDE JUNIO'!$C$5:$C$2604,'RUBROS JUNIO'!D$5) -> 0 | E9: =SUMIFS('[1]CONSOLIDADO POR SEDE JUNIO'!$K$5:$K$2604,'[1]CONSOLIDADO POR SEDE JUNIO'!$E$5:$E$2604,'RUBROS JUNIO'!$A9,'[1]CONSOLIDADO POR SEDE JUNIO'!$C$5:$C$2604,'RUBROS JUNIO'!E$5) -> 0 | F9: =SUMIFS('[1]CONSOLIDADO POR SEDE JUNIO'!$K$5:$K$2604,'[1]CONSOLIDADO POR SEDE JUNIO'!$E$5:$E$2604,'RUBROS JUNIO'!$A9,'[1]CONSOLIDADO POR SEDE JUNIO'!$C$5:$C$2604,'RUBROS JUNIO'!F$5) -> 0 | G9: =SUMIFS('[1]CONSOLIDADO POR SEDE JUNIO'!$K$5:$K$2604,'[1]CONSOLIDADO POR SEDE JUNIO'!$E$5:$E$2604,'RUBROS JUNIO'!$A9,'[1]CONSOLIDADO POR SEDE JUNIO'!$C$5:$C$2604,'RUBROS JUNIO'!G$5) -> 0 | H9: =SUMIFS('[1]CONSOLIDADO POR SEDE JUNIO'!$K$5:$K$2604,'[1]CONSOLIDADO POR SEDE JUNIO'!$E$5:$E$2604,'RUBROS JUNIO'!$A9,'[1]CONSOLIDADO POR SEDE JUNIO'!$C$5:$C$2604,'RUBROS JUNIO'!H$5) -> 0 | I9: =SUMIFS('[1]CONSOLIDADO POR SEDE JUNIO'!$K$5:$K$2604,'[1]CONSOLIDADO POR SEDE JUNIO'!$E$5:$E$2604,'RUBROS JUNIO'!$A9,'[1]CONSOLIDADO POR SEDE JUNIO'!$C$5:$C$2604,'RUBROS JUNIO'!I$5) -> 0 | J9: 0 | K9: =SUMIFS('[1]CONSOLIDADO POR SEDE JUNIO'!$K$5:$K$2604,'[1]CONSOLIDADO POR SEDE JUNIO'!$E$5:$E$2604,'RUBROS JUNIO'!$A9,'[1]CONSOLIDADO POR SEDE JUNIO'!$C$5:$C$2604,'RUBROS JUNIO'!K$5) -> 0 | L9: =SUMIFS('[1]CONSOLIDADO POR SEDE JUNIO'!$K$5:$K$2604,'[1]CONSOLIDADO POR SEDE JUNIO'!$E$5:$E$2604,'RUBROS JUNIO'!$A9,'[1]CONSOLIDADO POR SEDE JUNIO'!$C$5:$C$2604,'RUBROS JUNIO'!L$5) -> 0 | M9: =SUMIFS('[1]CONSOLIDADO POR SEDE JUNIO'!$K$5:$K$2604,'[1]CONSOLIDADO POR SEDE JUNIO'!$E$5:$E$2604,'RUBROS JUNIO'!$A9,'[1]CONSOLIDADO POR SEDE JUNIO'!$C$5:$C$2604,'RUBROS JUNIO'!M$5) -> 0 | N9: =SUMIFS('[1]CONSOLIDADO POR SEDE JUNIO'!$K$5:$K$2604,'[1]CONSOLIDADO POR SEDE JUNIO'!$E$5:$E$2604,'RUBROS JUNIO'!$A9,'[1]CONSOLIDADO POR SEDE JUNIO'!$C$5:$C$2604,'RUBROS JUNIO'!N$5) -> 0 | O9: =SUMIFS('[1]CONSOLIDADO POR SEDE JUNIO'!$K$5:$K$2604,'[1]CONSOLIDADO POR SEDE JUNIO'!$E$5:$E$2604,'RUBROS JUNIO'!$A9,'[1]CONSOLIDADO POR SEDE JUNIO'!$C$5:$C$2604,'RUBROS JUNIO'!O$5) -> 0 | P9: =SUMIFS('[1]CONSOLIDADO POR SEDE JUNIO'!$K$5:$K$2604,'[1]CONSOLIDADO POR SEDE JUNIO'!$E$5:$E$2604,'RUBROS JUNIO'!$A9,'[1]CONSOLIDADO POR SEDE JUNIO'!$C$5:$C$2604,'RUBROS JUNIO'!P$5) -> 0 | Q9: 0 | R9: =SUMIFS('[1]CONSOLIDADO POR SEDE JUNIO'!$K$5:$K$2604,'[1]CONSOLIDADO POR SEDE JUNIO'!$E$5:$E$2604,'RUBROS JUNIO'!$A9,'[1]CONSOLIDADO POR SEDE JUNIO'!$C$5:$C$2604,'RUBROS JUNIO'!R$5) -> 0 | S9: 0 | T9: =SUMIFS('[1]CONSOLIDADO POR SEDE JUNIO'!$K$5:$K$2604,'[1]CONSOLIDADO POR SEDE JUNIO'!$E$5:$E$2604,'RUBROS JUNIO'!$A9,'[1]CONSOLIDADO POR SEDE JUNIO'!$C$5:$C$2604,'RUBROS JUNIO'!T$5) -> 0 | U9: =SUMIFS('[1]CONSOLIDADO POR SEDE JUNIO'!$K$5:$K$2604,'[1]CONSOLIDADO POR SEDE JUNIO'!$E$5:$E$2604,'RUBROS JUNIO'!$A9,'[1]CONSOLIDADO POR SEDE JUNIO'!$C$5:$C$2604,'RUBROS JUNIO'!U$5) -> 0 | V9: =SUMIFS('[1]CONSOLIDADO POR SEDE JUNIO'!$K$5:$K$2604,'[1]CONSOLIDADO POR SEDE JUNIO'!$E$5:$E$2604,'RUBROS JUNIO'!$A9,'[1]CONSOLIDADO POR SEDE JUNIO'!$C$5:$C$2604,'RUBROS JUNIO'!V$5) -> 0 | W9: =SUMIFS('[1]CONSOLIDADO POR SEDE JUNIO'!$K$5:$K$2604,'[1]CONSOLIDADO POR SEDE JUNIO'!$E$5:$E$2604,'RUBROS JUNIO'!$A9,'[1]CONSOLIDADO POR SEDE JUNIO'!$C$5:$C$2604,'RUBROS JUNIO'!W$5) -> 0 | X9: =SUMIFS('[1]CONSOLIDADO POR SEDE JUNIO'!$K$5:$K$2604,'[1]CONSOLIDADO POR SEDE JUNIO'!$E$5:$E$2604,'RUBROS JUNIO'!$A9,'[1]CONSOLIDADO POR SEDE JUNIO'!$C$5:$C$2604,'RUBROS JUNIO'!X$5) -> 0 | Y9: =SUMIFS('[1]CONSOLIDADO POR SEDE JUNIO'!$K$5:$K$2604,'[1]CONSOLIDADO POR SEDE JUNIO'!$E$5:$E$2604,'RUBROS JUNIO'!$A9,'[1]CONSOLIDADO POR SEDE JUNIO'!$C$5:$C$2604,'RUBROS JUNIO'!Y$5) -> 0 | Z9: =SUMIFS('[1]CONSOLIDADO POR SEDE JUNIO'!$K$5:$K$2604,'[1]CONSOLIDADO POR SEDE JUNIO'!$E$5:$E$2604,'RUBROS JUNIO'!$A9,'[1]CONSOLIDADO POR SEDE JUNIO'!$C$5:$C$2604,'RUBROS JUNIO'!Z$5) -> 0 | AA9: =SUMIFS('[1]CONSOLIDADO POR SEDE JUNIO'!$K$5:$K$2604,'[1]CONSOLIDADO POR SEDE JUNIO'!$E$5:$E$2604,'RUBROS JUNIO'!$A9,'[1]CONSOLIDADO POR SEDE JUNIO'!$C$5:$C$2604,'RUBROS JUNIO'!AA$5) -> 0 | ... AL9: =SUMIFS('[1]CONSOLIDADO POR SEDE JUNIO'!$K$5:$K$2604,'[1]CONSOLIDADO POR SEDE JUNIO'!$E$5:$E$2604,'RUBROS JUNIO'!$A9,'[1]CONSOLIDADO POR SEDE JUNIO'!$C$5:$C$2604,'RUBROS JUNIO'!AL$5) -> 0 | AM9: 0 | AN9: =SUMIFS('[1]CONSOLIDADO POR SEDE JUNIO'!$K$5:$K$2604,'[1]CONSOLIDADO POR SEDE JUNIO'!$E$5:$E$2604,'RUBROS JUNIO'!$A9,'[1]CONSOLIDADO POR SEDE JUNIO'!$C$5:$C$2604,'RUBROS JUNIO'!AN$5) -> 0 | AO9: =SUMIFS('[1]CONSOLIDADO POR SEDE JUNIO'!$K$5:$K$2604,'[1]CONSOLIDADO POR SEDE JUNIO'!$E$5:$E$2604,'RUBROS JUNIO'!$A9,'[1]CONSOLIDADO POR SEDE JUNIO'!$C$5:$C$2604,'RUBROS JUNIO'!AO$5) -> 0 | AP9: =SUMIFS('[1]CONSOLIDADO POR SEDE JUNIO'!$K$5:$K$2604,'[1]CONSOLIDADO POR SEDE JUNIO'!$E$5:$E$2604,'RUBROS JUNIO'!$A9,'[1]CONSOLIDADO POR SEDE JUNIO'!$C$5:$C$2604,'RUBROS JUNIO'!AP$5) -> 0 | AR9: 0 | AS9: 7408199
A10: SEDE 5 - SUPERCADE CAD CARRERA | B10: 4222119 | C10: =SUMIFS('[1]CONSOLIDADO POR SEDE JUNIO'!$K$5:$K$2604,'[1]CONSOLIDADO POR SEDE JUNIO'!$E$5:$E$2604,'RUBROS JUNIO'!$A10,'[1]CONSOLIDADO POR SEDE JUNIO'!$C$5:$C$2604,'RUBROS JUNIO'!C$5) -> 0 | D10: =SUMIFS('[1]CONSOLIDADO POR SEDE JUNIO'!$K$5:$K$2604,'[1]CONSOLIDADO POR SEDE JUNIO'!$E$5:$E$2604,'RUBROS JUNIO'!$A10,'[1]CONSOLIDADO POR SEDE JUNIO'!$C$5:$C$2604,'RUBROS JUNIO'!D$5) -> 0 | E10: =SUMIFS('[1]CONSOLIDADO POR SEDE JUNIO'!$K$5:$K$2604,'[1]CONSOLIDADO POR SEDE JUNIO'!$E$5:$E$2604,'RUBROS JUNIO'!$A10,'[1]CONSOLIDADO POR SEDE JUNIO'!$C$5:$C$2604,'RUBROS JUNIO'!E$5) -> 0 | F10: 0 | G10: =SUMIFS('[1]CONSOLIDADO POR SEDE JUNIO'!$K$5:$K$2604,'[1]CONSOLIDADO POR SEDE JUNIO'!$E$5:$E$2604,'RUBROS JUNIO'!$A10,'[1]CONSOLIDADO POR SEDE JUNIO'!$C$5:$C$2604,'RUBROS JUNIO'!G$5) -> 0 | H10: =SUMIFS('[1]CONSOLIDADO POR SEDE JUNIO'!$K$5:$K$2604,'[1]CONSOLIDADO POR SEDE JUNIO'!$E$5:$E$2604,'RUBROS JUNIO'!$A10,'[1]CONSOLIDADO POR SEDE JUNIO'!$C$5:$C$2604,'RUBROS JUNIO'!H$5) -> 0 | I10: 0 | J10: 658735.06 | K10: =SUMIFS('[1]CONSOLIDADO POR SEDE JUNIO'!$K$5:$K$2604,'[1]CONSOLIDADO POR SEDE JUNIO'!$E$5:$E$2604,'RUBROS JUNIO'!$A10,'[1]CONSOLIDADO POR SEDE JUNIO'!$C$5:$C$2604,'RUBROS JUNIO'!K$5) -> 0 | L10: =SUMIFS('[1]CONSOLIDADO POR SEDE JUNIO'!$K$5:$K$2604,'[1]CONSOLIDADO POR SEDE JUNIO'!$E$5:$E$2604,'RUBROS JUNIO'!$A10,'[1]CONSOLIDADO POR SEDE JUNIO'!$C$5:$C$2604,'RUBROS JUNIO'!L$5) -> 0 | M10: =SUMIFS('[1]CONSOLIDADO POR SEDE JUNIO'!$K$5:$K$2604,'[1]CONSOLIDADO POR SEDE JUNIO'!$E$5:$E$2604,'RUBROS JUNIO'!$A10,'[1]CONSOLIDADO POR SEDE JUNIO'!$C$5:$C$2604,'RUBROS JUNIO'!M$5) -> 0 | N10: =SUMIFS('[1]CONSOLIDADO POR SEDE JUNIO'!$K$5:$K$2604,'[1]CONSOLIDADO POR SEDE JUNIO'!$E$5:$E$2604,'RUBROS JUNIO'!$A10,'[1]CONSOLIDADO POR SEDE JUNIO'!$C$5:$C$2604,'RUBROS JUNIO'!N$5) -> 0 | O10: =SUMIFS('[1]CONSOLIDADO POR SEDE JUNIO'!$K$5:$K$2604,'[1]CONSOLIDADO POR SEDE JUNIO'!$E$5:$E$2604,'RUBROS JUNIO'!$A10,'[1]CONSOLIDADO POR SEDE JUNIO'!$C$5:$C$2604,'RUBROS JUNIO'!O$5) -> 0 | P10: =SUMIFS('[1]CONSOLIDADO POR SEDE JUNIO'!$K$5:$K$2604,'[1]CONSOLIDADO POR SEDE JUNIO'!$E$5:$E$2604,'RUBROS JUNIO'!$A10,'[1]CONSOLIDADO POR SEDE JUNIO'!$C$5:$C$2604,'RUBROS JUNIO'!P$5) -> 0 | Q10: 192084.41 | R10: =SUMIFS('[1]CONSOLIDADO POR SEDE JUNIO'!$K$5:$K$2604,'[1]CONSOLIDADO POR SEDE JUNIO'!$E$5:$E$2604,'RUBROS JUNIO'!$A10,'[1]CONSOLIDADO POR SEDE JUNIO'!$C$5:$C$2604,'RUBROS JUNIO'!R$5) -> 0 | S10: 0 | T10: =SUMIFS('[1]CONSOLIDADO POR SEDE JUNIO'!$K$5:$K$2604,'[1]CONSOLIDADO POR SEDE JUNIO'!$E$5:$E$2604,'RUBROS JUNIO'!$A10,'[1]CONSOLIDADO POR SEDE JUNIO'!$C$5:$C$2604,'RUBROS JUNIO'!T$5) -> 0 | U10: =SUMIFS('[1]CONSOLIDADO POR SEDE JUNIO'!$K$5:$K$2604,'[1]CONSOLIDADO POR SEDE JUNIO'!$E$5:$E$2604,'RUBROS JUNIO'!$A10,'[1]CONSOLIDADO POR SEDE JUNIO'!$C$5:$C$2604,'RUBROS JUNIO'!U$5) -> 23027.431 | V10: =SUMIFS('[1]CONSOLIDADO POR SEDE JUNIO'!$K$5:$K$2604,'[1]CONSOLIDADO POR SEDE JUNIO'!$E$5:$E$2604,'RUBROS JUNIO'!$A10,'[1]CONSOLIDADO POR SEDE JUNIO'!$C$5:$C$2604,'RUBROS JUNIO'!V$5) -> 0 | W10: =SUMIFS('[1]CONSOLIDADO POR SEDE JUNIO'!$K$5:$K$2604,'[1]CONSOLIDADO POR SEDE JUNIO'!$E$5:$E$2604,'RUBROS JUNIO'!$A10,'[1]CONSOLIDADO POR SEDE JUNIO'!$C$5:$C$2604,'RUBROS JUNIO'!W$5) -> 0 | X10: =SUMIFS('[1]CONSOLIDADO POR SEDE JUNIO'!$K$5:$K$2604,'[1]CONSOLIDADO POR SEDE JUNIO'!$E$5:$E$2604,'RUBROS JUNIO'!$A10,'[1]CONSOLIDADO POR SEDE JUNIO'!$C$5:$C$2604,'RUBROS JUNIO'!X$5) -> 0 | Y10: =SUMIFS('[1]CONSOLIDADO POR SEDE JUNIO'!$K$5:$K$2604,'[1]CONSOLIDADO POR SEDE JUNIO'!$E$5:$E$2604,'RUBROS JUNIO'!$A10,'[1]CONSOLIDADO POR SEDE JUNIO'!$C$5:$C$2604,'RUBROS JUNIO'!Y$5) -> 0 | Z10: =SUMIFS('[1]CONSOLIDADO POR SEDE JUNIO'!$K$5:$K$2604,'[1]CONSOLIDADO POR SEDE JUNIO'!$E$5:$E$2604,'RUBROS JUNIO'!$A10,'[1]CONSOLIDADO POR SEDE JUNIO'!$C$5:$C$2604,'RUBROS JUNIO'!Z$5) -> 0 | AA10: =SUMIFS('[1]CONSOLIDADO POR SEDE JUNIO'!$K$5:$K$2604,'[1]CONSOLIDADO POR SEDE JUNIO'!$E$5:$E$2604,'RUBROS JUNIO'!$A10,'[1]CONSOLIDADO POR SEDE JUNIO'!$C$5:$C$2604,'RUBROS JUNIO'!AA$5) -> 0 | ... AF10: =SUMIFS('[1]CONSOLIDADO POR SEDE JUNIO'!$K$5:$K$2604,'[1]CONSOLIDADO POR SEDE JUNIO'!$E$5:$E$2604,'RUBROS JUNIO'!$A10,'[1]CONSOLIDADO POR SEDE JUNIO'!$C$5:$C$2604,'RUBROS JUNIO'!AF$5) -> 22047.766 | AG10: 0 | AH10: =SUMIFS('[1]CONSOLIDADO POR SEDE JUNIO'!$K$5:$K$2604,'[1]CONSOLIDADO POR SEDE JUNIO'!$E$5:$E$2604,'RUBROS JUNIO'!$A10,'[1]CONSOLIDADO POR SEDE JUNIO'!$C$5:$C$2604,'RUBROS JUNIO'!AH$5) -> 0 | AI10: =SUMIFS('[1]CONSOLIDADO POR SEDE JUNIO'!$K$5:$K$2604,'[1]CONSOLIDADO POR SEDE JUNIO'!$E$5:$E$2604,'RUBROS JUNIO'!$A10,'[1]CONSOLIDADO POR SEDE JUNIO'!$C$5:$C$2604,'RUBROS JUNIO'!AI$5) -> 0 | AJ10: =SUMIFS('[1]CONSOLIDADO POR SEDE JUNIO'!$K$5:$K$2604,'[1]CONSOLIDADO POR SEDE JUNIO'!$E$5:$E$2604,'RUBROS JUNIO'!$A10,'[1]CONSOLIDADO POR SEDE JUNIO'!$C$5:$C$2604,'RUBROS JUNIO'!AJ$5) -> 0 | AK10: =SUMIFS('[1]CONSOLIDADO POR SEDE JUNIO'!$K$5:$K$2604,'[1]CONSOLIDADO POR SEDE JUNIO'!$E$5:$E$2604,'RUBROS JUNIO'!$A10,'[1]CONSOLIDADO POR SEDE JUNIO'!$C$5:$C$2604,'RUBROS JUNIO'!AK$5) -> 0 | AL10: =SUMIFS('[1]CONSOLIDADO POR SEDE JUNIO'!$K$5:$K$2604,'[1]CONSOLIDADO POR SEDE JUNIO'!$E$5:$E$2604,'RUBROS JUNIO'!$A10,'[1]CONSOLIDADO POR SEDE JUNIO'!$C$5:$C$2604,'RUBROS JUNIO'!AL$5) -> 0 | AM10: 656675.77 | AN10: =SUMIFS('[1]CONSOLIDADO POR SEDE JUNIO'!$K$5:$K$2604,'[1]CONSOLIDADO POR SEDE JUNIO'!$E$5:$E$2604,'RUBROS JUNIO'!$A10,'[1]CONSOLIDADO POR SEDE JUNIO'!$C$5:$C$2604,'RUBROS JUNIO'!AN$5) -> 22888.655 | AO10: =SUMIFS('[1]CONSOLIDADO POR SEDE JUNIO'!$K$5:$K$2604,'[1]CONSOLIDADO POR SEDE JUNIO'!$E$5:$E$2604,'RUBROS JUNIO'!$A10,'[1]CONSOLIDADO POR SEDE JUNIO'!$C$5:$C$2604,'RUBROS JUNIO'!AO$5) -> 0 | AP10: 0 | AR10: 914630.04 | AS10: 46788625
A11: SEDE 6 - SUPERCADE AMERICAS | B11: 4222120 | C11: =SUMIFS('[1]CONSOLIDADO POR SEDE JUNIO'!$K$5:$K$2604,'[1]CONSOLIDADO POR SEDE JUNIO'!$E$5:$E$2604,'RUBROS JUNIO'!$A11,'[1]CONSOLIDADO POR SEDE JUNIO'!$C$5:$C$2604,'RUBROS JUNIO'!C$5) -> 0 | D11: =SUMIFS('[1]CONSOLIDADO POR SEDE JUNIO'!$K$5:$K$2604,'[1]CONSOLIDADO POR SEDE JUNIO'!$E$5:$E$2604,'RUBROS JUNIO'!$A11,'[1]CONSOLIDADO POR SEDE JUNIO'!$C$5:$C$2604,'RUBROS JUNIO'!D$5) -> 0 | E11: =SUMIFS('[1]CONSOLIDADO POR SEDE JUNIO'!$K$5:$K$2604,'[1]CONSOLIDADO POR SEDE JUNIO'!$E$5:$E$2604,'RUBROS JUNIO'!$A11,'[1]CONSOLIDADO POR SEDE JUNIO'!$C$5:$C$2604,'RUBROS JUNIO'!E$5) -> 0 | F11: 0 | G11: =SUMIFS('[1]CONSOLIDADO POR SEDE JUNIO'!$K$5:$K$2604,'[1]CONSOLIDADO POR SEDE JUNIO'!$E$5:$E$2604,'RUBROS JUNIO'!$A11,'[1]CONSOLIDADO POR SEDE JUNIO'!$C$5:$C$2604,'RUBROS JUNIO'!G$5) -> 0 | H11: =SUMIFS('[1]CONSOLIDADO POR SEDE JUNIO'!$K$5:$K$2604,'[1]CONSOLIDADO POR SEDE JUNIO'!$E$5:$E$2604,'RUBROS JUNIO'!$A11,'[1]CONSOLIDADO POR SEDE JUNIO'!$C$5:$C$2604,'RUBROS JUNIO'!H$5) -> 0 | I11: 0 | J11: 790036.11 | K11: =SUMIFS('[1]CONSOLIDADO POR SEDE JUNIO'!$K$5:$K$2604,'[1]CONSOLIDADO POR SEDE JUNIO'!$E$5:$E$2604,'RUBROS JUNIO'!$A11,'[1]CONSOLIDADO POR SEDE JUNIO'!$C$5:$C$2604,'RUBROS JUNIO'!K$5) -> 0 | L11: =SUMIFS('[1]CONSOLIDADO POR SEDE JUNIO'!$K$5:$K$2604,'[1]CONSOLIDADO POR SEDE JUNIO'!$E$5:$E$2604,'RUBROS JUNIO'!$A11,'[1]CONSOLIDADO POR SEDE JUNIO'!$C$5:$C$2604,'RUBROS JUNIO'!L$5) -> 0 | M11: =SUMIFS('[1]CONSOLIDADO POR SEDE JUNIO'!$K$5:$K$2604,'[1]CONSOLIDADO POR SEDE JUNIO'!$E$5:$E$2604,'RUBROS JUNIO'!$A11,'[1]CONSOLIDADO POR SEDE JUNIO'!$C$5:$C$2604,'RUBROS JUNIO'!M$5) -> 0 | N11: =SUMIFS('[1]CONSOLIDADO POR SEDE JUNIO'!$K$5:$K$2604,'[1]CONSOLIDADO POR SEDE JUNIO'!$E$5:$E$2604,'RUBROS JUNIO'!$A11,'[1]CONSOLIDADO POR SEDE JUNIO'!$C$5:$C$2604,'RUBROS JUNIO'!N$5) -> 0 | O11: =SUMIFS('[1]CONSOLIDADO POR SEDE JUNIO'!$K$5:$K$2604,'[1]CONSOLIDADO POR SEDE JUNIO'!$E$5:$E$2604,'RUBROS JUNIO'!$A11,'[1]CONSOLIDADO POR SEDE JUNIO'!$C$5:$C$2604,'RUBROS JUNIO'!O$5) -> 0 | P11: =SUMIFS('[1]CONSOLIDADO POR SEDE JUNIO'!$K$5:$K$2604,'[1]CONSOLIDADO POR SEDE JUNIO'!$E$5:$E$2604,'RUBROS JUNIO'!$A11,'[1]CONSOLIDADO POR SEDE JUNIO'!$C$5:$C$2604,'RUBROS JUNIO'!P$5) -> 0 | Q11: 87969.961 | R11: 0 | S11: 154653.07 | T11: =SUMIFS('[1]CONSOLIDADO POR SEDE JUNIO'!$K$5:$K$2604,'[1]CONSOLIDADO POR SEDE JUNIO'!$E$5:$E$2604,'RUBROS JUNIO'!$A11,'[1]CONSOLIDADO POR SEDE JUNIO'!$C$5:$C$2604,'RUBROS JUNIO'!T$5) -> 0 | U11: =SUMIFS('[1]CONSOLIDADO POR SEDE JUNIO'!$K$5:$K$2604,'[1]CONSOLIDADO POR SEDE JUNIO'!$E$5:$E$2604,'RUBROS JUNIO'!$A11,'[1]CONSOLIDADO POR SEDE JUNIO'!$C$5:$C$2604,'RUBROS JUNIO'!U$5) -> 0 | V11: =SUMIFS('[1]CONSOLIDADO POR SEDE JUNIO'!$K$5:$K$2604,'[1]CONSOLIDADO POR SEDE JUNIO'!$E$5:$E$2604,'RUBROS JUNIO'!$A11,'[1]CONSOLIDADO POR SEDE JUNIO'!$C$5:$C$2604,'RUBROS JUNIO'!V$5) -> 0 | W11: =SUMIFS('[1]CONSOLIDADO POR SEDE JUNIO'!$K$5:$K$2604,'[1]CONSOLIDADO POR SEDE JUNIO'!$E$5:$E$2604,'RUBROS JUNIO'!$A11,'[1]CONSOLIDADO POR SEDE JUNIO'!$C$5:$C$2604,'RUBROS JUNIO'!W$5) -> 0 | X11: =SUMIFS('[1]CONSOLIDADO POR SEDE JUNIO'!$K$5:$K$2604,'[1]CONSOLIDADO POR SEDE JUNIO'!$E$5:$E$2604,'RUBROS JUNIO'!$A11,'[1]CONSOLIDADO POR SEDE JUNIO'!$C$5:$C$2604,'RUBROS JUNIO'!X$5) -> 0 | Y11: =SUMIFS('[1]CONSOLIDADO POR SEDE JUNIO'!$K$5:$K$2604,'[1]CONSOLIDADO POR SEDE JUNIO'!$E$5:$E$2604,'RUBROS JUNIO'!$A11,'[1]CONSOLIDADO POR SEDE JUNIO'!$C$5:$C$2604,'RUBROS JUNIO'!Y$5) -> 0 | Z11: =SUMIFS('[1]CONSOLIDADO POR SEDE JUNIO'!$K$5:$K$2604,'[1]CONSOLIDADO POR SEDE JUNIO'!$E$5:$E$2604,'RUBROS JUNIO'!$A11,'[1]CONSOLIDADO POR SEDE JUNIO'!$C$5:$C$2604,'RUBROS JUNIO'!Z$5) -> 0 | AA11: =SUMIFS('[1]CONSOLIDADO POR SEDE JUNIO'!$K$5:$K$2604,'[1]CONSOLIDADO POR SEDE JUNIO'!$E$5:$E$2604,'RUBROS JUNIO'!$A11,'[1]CONSOLIDADO POR SEDE JUNIO'!$C$5:$C$2604,'RUBROS JUNIO'!AA$5) -> 0 | ... AF11: =SUMIFS('[1]CONSOLIDADO POR SEDE JUNIO'!$K$5:$K$2604,'[1]CONSOLIDADO POR SEDE JUNIO'!$E$5:$E$2604,'RUBROS JUNIO'!$A11,'[1]CONSOLIDADO POR SEDE JUNIO'!$C$5:$C$2604,'RUBROS JUNIO'!AF$5) -> 0 | AG11: 0 | AH11: =SUMIFS('[1]CONSOLIDADO POR SEDE JUNIO'!$K$5:$K$2604,'[1]CONSOLIDADO POR SEDE JUNIO'!$E$5:$E$2604,'RUBROS JUNIO'!$A11,'[1]CONSOLIDADO POR SEDE JUNIO'!$C$5:$C$2604,'RUBROS JUNIO'!AH$5) -> 0 | AI11: =SUMIFS('[1]CONSOLIDADO POR SEDE JUNIO'!$K$5:$K$2604,'[1]CONSOLIDADO POR SEDE JUNIO'!$E$5:$E$2604,'RUBROS JUNIO'!$A11,'[1]CONSOLIDADO POR SEDE JUNIO'!$C$5:$C$2604,'RUBROS JUNIO'!AI$5) -> 0 | AJ11: =SUMIFS('[1]CONSOLIDADO POR SEDE JUNIO'!$K$5:$K$2604,'[1]CONSOLIDADO POR SEDE JUNIO'!$E$5:$E$2604,'RUBROS JUNIO'!$A11,'[1]CONSOLIDADO POR SEDE JUNIO'!$C$5:$C$2604,'RUBROS JUNIO'!AJ$5) -> 0 | AK11: =SUMIFS('[1]CONSOLIDADO POR SEDE JUNIO'!$K$5:$K$2604,'[1]CONSOLIDADO POR SEDE JUNIO'!$E$5:$E$2604,'RUBROS JUNIO'!$A11,'[1]CONSOLIDADO POR SEDE JUNIO'!$C$5:$C$2604,'RUBROS JUNIO'!AK$5) -> 0 | AL11: =SUMIFS('[1]CONSOLIDADO POR SEDE JUNIO'!$K$5:$K$2604,'[1]CONSOLIDADO POR SEDE JUNIO'!$E$5:$E$2604,'RUBROS JUNIO'!$A11,'[1]CONSOLIDADO POR SEDE JUNIO'!$C$5:$C$2604,'RUBROS JUNIO'!AL$5) -> 0 | AM11: 47489.666 | AN11: =SUMIFS('[1]CONSOLIDADO POR SEDE JUNIO'!$K$5:$K$2604,'[1]CONSOLIDADO POR SEDE JUNIO'!$E$5:$E$2604,'RUBROS JUNIO'!$A11,'[1]CONSOLIDADO POR SEDE JUNIO'!$C$5:$C$2604,'RUBROS JUNIO'!AN$5) -> 0 | AO11: =SUMIFS('[1]CONSOLIDADO POR SEDE JUNIO'!$K$5:$K$2604,'[1]CONSOLIDADO POR SEDE JUNIO'!$E$5:$E$2604,'RUBROS JUNIO'!$A11,'[1]CONSOLIDADO POR SEDE JUNIO'!$C$5:$C$2604,'RUBROS JUNIO'!AO$5) -> 6056.7554 | AP11: =SUMIFS('[1]CONSOLIDADO POR SEDE JUNIO'!$K$5:$K$2604,'[1]CONSOLIDADO POR SEDE JUNIO'!$E$5:$E$2604,'RUBROS JUNIO'!$A11,'[1]CONSOLIDADO POR SEDE JUNIO'!$C$5:$C$2604,'RUBROS JUNIO'!AP$5) -> 0 | AR11: 569178.59 | AS11: 38990521
A12: SEDE 7 - SUPERCADE BOSA | B12: 4222122 | C12: =SUMIFS('[1]CONSOLIDADO POR SEDE JUNIO'!$K$5:$K$2604,'[1]CONSOLIDADO POR SEDE JUNIO'!$E$5:$E$2604,'RUBROS JUNIO'!$A12,'[1]CONSOLIDADO POR SEDE JUNIO'!$C$5:$C$2604,'RUBROS JUNIO'!C$5) -> 0 | D12: =SUMIFS('[1]CONSOLIDADO POR SEDE JUNIO'!$K$5:$K$2604,'[1]CONSOLIDADO POR SEDE JUNIO'!$E$5:$E$2604,'RUBROS JUNIO'!$A12,'[1]CONSOLIDADO POR SEDE JUNIO'!$C$5:$C$2604,'RUBROS JUNIO'!D$5) -> 0 | E12: =SUMIFS('[1]CONSOLIDADO POR SEDE JUNIO'!$K$5:$K$2604,'[1]CONSOLIDADO POR SEDE JUNIO'!$E$5:$E$2604,'RUBROS JUNIO'!$A12,'[1]CONSOLIDADO POR SEDE JUNIO'!$C$5:$C$2604,'RUBROS JUNIO'!E$5) -> 0 | F12: 0 | G12: =SUMIFS('[1]CONSOLIDADO POR SEDE JUNIO'!$K$5:$K$2604,'[1]CONSOLIDADO POR SEDE JUNIO'!$E$5:$E$2604,'RUBROS JUNIO'!$A12,'[1]CONSOLIDADO POR SEDE JUNIO'!$C$5:$C$2604,'RUBROS JUNIO'!G$5) -> 0 | H12: =SUMIFS('[1]CONSOLIDADO POR SEDE JUNIO'!$K$5:$K$2604,'[1]CONSOLIDADO POR SEDE JUNIO'!$E$5:$E$2604,'RUBROS JUNIO'!$A12,'[1]CONSOLIDADO POR SEDE JUNIO'!$C$5:$C$2604,'RUBROS JUNIO'!H$5) -> 0 | I12: 0 | J12: 791033.42 | K12: =SUMIFS('[1]CONSOLIDADO POR SEDE JUNIO'!$K$5:$K$2604,'[1]CONSOLIDADO POR SEDE JUNIO'!$E$5:$E$2604,'RUBROS JUNIO'!$A12,'[1]CONSOLIDADO POR SEDE JUNIO'!$C$5:$C$2604,'RUBROS JUNIO'!K$5) -> 0 | L12: =SUMIFS('[1]CONSOLIDADO POR SEDE JUNIO'!$K$5:$K$2604,'[1]CONSOLIDADO POR SEDE JUNIO'!$E$5:$E$2604,'RUBROS JUNIO'!$A12,'[1]CONSOLIDADO POR SEDE JUNIO'!$C$5:$C$2604,'RUBROS JUNIO'!L$5) -> 0 | M12: =SUMIFS('[1]CONSOLIDADO POR SEDE JUNIO'!$K$5:$K$2604,'[1]CONSOLIDADO POR SEDE JUNIO'!$E$5:$E$2604,'RUBROS JUNIO'!$A12,'[1]CONSOLIDADO POR SEDE JUNIO'!$C$5:$C$2604,'RUBROS JUNIO'!M$5) -> 0 | N12: =SUMIFS('[1]CONSOLIDADO POR SEDE JUNIO'!$K$5:$K$2604,'[1]CONSOLIDADO POR SEDE JUNIO'!$E$5:$E$2604,'RUBROS JUNIO'!$A12,'[1]CONSOLIDADO POR SEDE JUNIO'!$C$5:$C$2604,'RUBROS JUNIO'!N$5) -> 0 | O12: =SUMIFS('[1]CONSOLIDADO POR SEDE JUNIO'!$K$5:$K$2604,'[1]CONSOLIDADO POR SEDE JUNIO'!$E$5:$E$2604,'RUBROS JUNIO'!$A12,'[1]CONSOLIDADO POR SEDE JUNIO'!$C$5:$C$2604,'RUBROS JUNIO'!O$5) -> 0 | P12: =SUMIFS('[1]CONSOLIDADO POR SEDE JUNIO'!$K$5:$K$2604,'[1]CONSOLIDADO POR SEDE JUNIO'!$E$5:$E$2604,'RUBROS JUNIO'!$A12,'[1]CONSOLIDADO POR SEDE JUNIO'!$C$5:$C$2604,'RUBROS JUNIO'!P$5) -> 0 | Q12: 307894.86 | R12: 0 | S12: 61861.229 | T12: =SUMIFS('[1]CONSOLIDADO POR SEDE JUNIO'!$K$5:$K$2604,'[1]CONSOLIDADO POR SEDE JUNIO'!$E$5:$E$2604,'RUBROS JUNIO'!$A12,'[1]CONSOLIDADO POR SEDE JUNIO'!$C$5:$C$2604,'RUBROS JUNIO'!T$5) -> 0 | U12: =SUMIFS('[1]CONSOLIDADO POR SEDE JUNIO'!$K$5:$K$2604,'[1]CONSOLIDADO POR SEDE JUNIO'!$E$5:$E$2604,'RUBROS JUNIO'!$A12,'[1]CONSOLIDADO POR SEDE JUNIO'!$C$5:$C$2604,'RUBROS JUNIO'!U$5) -> 0 | V12: =SUMIFS('[1]CONSOLIDADO POR SEDE JUNIO'!$K$5:$K$2604,'[1]CONSOLIDADO POR SEDE JUNIO'!$E$5:$E$2604,'RUBROS JUNIO'!$A12,'[1]CONSOLIDADO POR SEDE JUNIO'!$C$5:$C$2604,'RUBROS JUNIO'!V$5) -> 0 | W12: =SUMIFS('[1]CONSOLIDADO POR SEDE JUNIO'!$K$5:$K$2604,'[1]CONSOLIDADO POR SEDE JUNIO'!$E$5:$E$2604,'RUBROS JUNIO'!$A12,'[1]CONSOLIDADO POR SEDE JUNIO'!$C$5:$C$2604,'RUBROS JUNIO'!W$5) -> 0 | X12: =SUMIFS('[1]CONSOLIDADO POR SEDE JUNIO'!$K$5:$K$2604,'[1]CONSOLIDADO POR SEDE JUNIO'!$E$5:$E$2604,'RUBROS JUNIO'!$A12,'[1]CONSOLIDADO POR SEDE JUNIO'!$C$5:$C$2604,'RUBROS JUNIO'!X$5) -> 0 | Y12: =SUMIFS('[1]CONSOLIDADO POR SEDE JUNIO'!$K$5:$K$2604,'[1]CONSOLIDADO POR SEDE JUNIO'!$E$5:$E$2604,'RUBROS JUNIO'!$A12,'[1]CONSOLIDADO POR SEDE JUNIO'!$C$5:$C$2604,'RUBROS JUNIO'!Y$5) -> 0 | Z12: =SUMIFS('[1]CONSOLIDADO POR SEDE JUNIO'!$K$5:$K$2604,'[1]CONSOLIDADO POR SEDE JUNIO'!$E$5:$E$2604,'RUBROS JUNIO'!$A12,'[1]CONSOLIDADO POR SEDE JUNIO'!$C$5:$C$2604,'RUBROS JUNIO'!Z$5) -> 0 | AA12: =SUMIFS('[1]CONSOLIDADO POR SEDE JUNIO'!$K$5:$K$2604,'[1]CONSOLIDADO POR SEDE JUNIO'!$E$5:$E$2604,'RUBROS JUNIO'!$A12,'[1]CONSOLIDADO POR SEDE JUNIO'!$C$5:$C$2604,'RUBROS JUNIO'!AA$5) -> 0 | ... AF12: =SUMIFS('[1]CONSOLIDADO POR SEDE JUNIO'!$K$5:$K$2604,'[1]CONSOLIDADO POR SEDE JUNIO'!$E$5:$E$2604,'RUBROS JUNIO'!$A12,'[1]CONSOLIDADO POR SEDE JUNIO'!$C$5:$C$2604,'RUBROS JUNIO'!AF$5) -> 0 | AG12: 0 | AH12: =SUMIFS('[1]CONSOLIDADO POR SEDE JUNIO'!$K$5:$K$2604,'[1]CONSOLIDADO POR SEDE JUNIO'!$E$5:$E$2604,'RUBROS JUNIO'!$A12,'[1]CONSOLIDADO POR SEDE JUNIO'!$C$5:$C$2604,'RUBROS JUNIO'!AH$5) -> 0 | AI12: =SUMIFS('[1]CONSOLIDADO POR SEDE JUNIO'!$K$5:$K$2604,'[1]CONSOLIDADO POR SEDE JUNIO'!$E$5:$E$2604,'RUBROS JUNIO'!$A12,'[1]CONSOLIDADO POR SEDE JUNIO'!$C$5:$C$2604,'RUBROS JUNIO'!AI$5) -> 0 | AJ12: =SUMIFS('[1]CONSOLIDADO POR SEDE JUNIO'!$K$5:$K$2604,'[1]CONSOLIDADO POR SEDE JUNIO'!$E$5:$E$2604,'RUBROS JUNIO'!$A12,'[1]CONSOLIDADO POR SEDE JUNIO'!$C$5:$C$2604,'RUBROS JUNIO'!AJ$5) -> 0 | AK12: =SUMIFS('[1]CONSOLIDADO POR SEDE JUNIO'!$K$5:$K$2604,'[1]CONSOLIDADO POR SEDE JUNIO'!$E$5:$E$2604,'RUBROS JUNIO'!$A12,'[1]CONSOLIDADO POR SEDE JUNIO'!$C$5:$C$2604,'RUBROS JUNIO'!AK$5) -> 0 | AL12: =SUMIFS('[1]CONSOLIDADO POR SEDE JUNIO'!$K$5:$K$2604,'[1]CONSOLIDADO POR SEDE JUNIO'!$E$5:$E$2604,'RUBROS JUNIO'!$A12,'[1]CONSOLIDADO POR SEDE JUNIO'!$C$5:$C$2604,'RUBROS JUNIO'!AL$5) -> 0 | AM12: 32283.094 | AN12: =SUMIFS('[1]CONSOLIDADO POR SEDE JUNIO'!$K$5:$K$2604,'[1]CONSOLIDADO POR SEDE JUNIO'!$E$5:$E$2604,'RUBROS JUNIO'!$A12,'[1]CONSOLIDADO POR SEDE JUNIO'!$C$5:$C$2604,'RUBROS JUNIO'!AN$5) -> 179397.57 | AO12: =SUMIFS('[1]CONSOLIDADO POR SEDE JUNIO'!$K$5:$K$2604,'[1]CONSOLIDADO POR SEDE JUNIO'!$E$5:$E$2604,'RUBROS JUNIO'!$A12,'[1]CONSOLIDADO POR SEDE JUNIO'!$C$5:$C$2604,'RUBROS JUNIO'!AO$5) -> 1817.0266 | AP12: =SUMIFS('[1]CONSOLIDADO POR SEDE JUNIO'!$K$5:$K$2604,'[1]CONSOLIDADO POR SEDE JUNIO'!$E$5:$E$2604,'RUBROS JUNIO'!$A12,'[1]CONSOLIDADO POR SEDE JUNIO'!$C$5:$C$2604,'RUBROS JUNIO'!AP$5) -> 0 | AR12: 569178.59 | AS12: 34701564
A13: SEDE 8 - SUPERCADE CALLE 13 | B13: 4222125 | C13: =SUMIFS('[1]CONSOLIDADO POR SEDE JUNIO'!$K$5:$K$2604,'[1]CONSOLIDADO POR SEDE JUNIO'!$E$5:$E$2604,'RUBROS JUNIO'!$A13,'[1]CONSOLIDADO POR SEDE JUNIO'!$C$5:$C$2604,'RUBROS JUNIO'!C$5) -> 0 | D13: =SUMIFS('[1]CONSOLIDADO POR SEDE JUNIO'!$K$5:$K$2604,'[1]CONSOLIDADO POR SEDE JUNIO'!$E$5:$E$2604,'RUBROS JUNIO'!$A13,'[1]CONSOLIDADO POR SEDE JUNIO'!$C$5:$C$2604,'RUBROS JUNIO'!D$5) -> 0 | E13: =SUMIFS('[1]CONSOLIDADO POR SEDE JUNIO'!$K$5:$K$2604,'[1]CONSOLIDADO POR SEDE JUNIO'!$E$5:$E$2604,'RUBROS JUNIO'!$A13,'[1]CONSOLIDADO POR SEDE JUNIO'!$C$5:$C$2604,'RUBROS JUNIO'!E$5) -> 0 | F13: 0 | G13: =SUMIFS('[1]CONSOLIDADO POR SEDE JUNIO'!$K$5:$K$2604,'[1]CONSOLIDADO POR SEDE JUNIO'!$E$5:$E$2604,'RUBROS JUNIO'!$A13,'[1]CONSOLIDADO POR SEDE JUNIO'!$C$5:$C$2604,'RUBROS JUNIO'!G$5) -> 0 | H13: =SUMIFS('[1]CONSOLIDADO POR SEDE JUNIO'!$K$5:$K$2604,'[1]CONSOLIDADO POR SEDE JUNIO'!$E$5:$E$2604,'RUBROS JUNIO'!$A13,'[1]CONSOLIDADO POR SEDE JUNIO'!$C$5:$C$2604,'RUBROS JUNIO'!H$5) -> 0 | I13: 0 | J13: 172372.67 | K13: =SUMIFS('[1]CONSOLIDADO POR SEDE JUNIO'!$K$5:$K$2604,'[1]CONSOLIDADO POR SEDE JUNIO'!$E$5:$E$2604,'RUBROS JUNIO'!$A13,'[1]CONSOLIDADO POR SEDE JUNIO'!$C$5:$C$2604,'RUBROS JUNIO'!K$5) -> 0 | L13: =SUMIFS('[1]CONSOLIDADO POR SEDE JUNIO'!$K$5:$K$2604,'[1]CONSOLIDADO POR SEDE JUNIO'!$E$5:$E$2604,'RUBROS JUNIO'!$A13,'[1]CONSOLIDADO POR SEDE JUNIO'!$C$5:$C$2604,'RUBROS JUNIO'!L$5) -> 0 | M13: =SUMIFS('[1]CONSOLIDADO POR SEDE JUNIO'!$K$5:$K$2604,'[1]CONSOLIDADO POR SEDE JUNIO'!$E$5:$E$2604,'RUBROS JUNIO'!$A13,'[1]CONSOLIDADO POR SEDE JUNIO'!$C$5:$C$2604,'RUBROS JUNIO'!M$5) -> 0 | N13: =SUMIFS('[1]CONSOLIDADO POR SEDE JUNIO'!$K$5:$K$2604,'[1]CONSOLIDADO POR SEDE JUNIO'!$E$5:$E$2604,'RUBROS JUNIO'!$A13,'[1]CONSOLIDADO POR SEDE JUNIO'!$C$5:$C$2604,'RUBROS JUNIO'!N$5) -> 0 | O13: =SUMIFS('[1]CONSOLIDADO POR SEDE JUNIO'!$K$5:$K$2604,'[1]CONSOLIDADO POR SEDE JUNIO'!$E$5:$E$2604,'RUBROS JUNIO'!$A13,'[1]CONSOLIDADO POR SEDE JUNIO'!$C$5:$C$2604,'RUBROS JUNIO'!O$5) -> 0 | P13: =SUMIFS('[1]CONSOLIDADO POR SEDE JUNIO'!$K$5:$K$2604,'[1]CONSOLIDADO POR SEDE JUNIO'!$E$5:$E$2604,'RUBROS JUNIO'!$A13,'[1]CONSOLIDADO POR SEDE JUNIO'!$C$5:$C$2604,'RUBROS JUNIO'!P$5) -> 0 | Q13: 0 | R13: =SUMIFS('[1]CONSOLIDADO POR SEDE JUNIO'!$K$5:$K$2604,'[1]CONSOLIDADO POR SEDE JUNIO'!$E$5:$E$2604,'RUBROS JUNIO'!$A13,'[1]CONSOLIDADO POR SEDE JUNIO'!$C$5:$C$2604,'RUBROS JUNIO'!R$5) -> 0 | S13: 0 | T13: =SUMIFS('[1]CONSOLIDADO POR SEDE JUNIO'!$K$5:$K$2604,'[1]CONSOLIDADO POR SEDE JUNIO'!$E$5:$E$2604,'RUBROS JUNIO'!$A13,'[1]CONSOLIDADO POR SEDE JUNIO'!$C$5:$C$2604,'RUBROS JUNIO'!T$5) -> 0 | U13: =SUMIFS('[1]CONSOLIDADO POR SEDE JUNIO'!$K$5:$K$2604,'[1]CONSOLIDADO POR SEDE JUNIO'!$E$5:$E$2604,'RUBROS JUNIO'!$A13,'[1]CONSOLIDADO POR SEDE JUNIO'!$C$5:$C$2604,'RUBROS JUNIO'!U$5) -> 0 | V13: =SUMIFS('[1]CONSOLIDADO POR SEDE JUNIO'!$K$5:$K$2604,'[1]CONSOLIDADO POR SEDE JUNIO'!$E$5:$E$2604,'RUBROS JUNIO'!$A13,'[1]CONSOLIDADO POR SEDE JUNIO'!$C$5:$C$2604,'RUBROS JUNIO'!V$5) -> 0 | W13: =SUMIFS('[1]CONSOLIDADO POR SEDE JUNIO'!$K$5:$K$2604,'[1]CONSOLIDADO POR SEDE JUNIO'!$E$5:$E$2604,'RUBROS JUNIO'!$A13,'[1]CONSOLIDADO POR SEDE JUNIO'!$C$5:$C$2604,'RUBROS JUNIO'!W$5) -> 0 | X13: =SUMIFS('[1]CONSOLIDADO POR SEDE JUNIO'!$K$5:$K$2604,'[1]CONSOLIDADO POR SEDE JUNIO'!$E$5:$E$2604,'RUBROS JUNIO'!$A13,'[1]CONSOLIDADO POR SEDE JUNIO'!$C$5:$C$2604,'RUBROS JUNIO'!X$5) -> 0 | Y13: =SUMIFS('[1]CONSOLIDADO POR SEDE JUNIO'!$K$5:$K$2604,'[1]CONSOLIDADO POR SEDE JUNIO'!$E$5:$E$2604,'RUBROS JUNIO'!$A13,'[1]CONSOLIDADO POR SEDE JUNIO'!$C$5:$C$2604,'RUBROS JUNIO'!Y$5) -> 0 | Z13: =SUMIFS('[1]CONSOLIDADO POR SEDE JUNIO'!$K$5:$K$2604,'[1]CONSOLIDADO POR SEDE JUNIO'!$E$5:$E$2604,'RUBROS JUNIO'!$A13,'[1]CONSOLIDADO POR SEDE JUNIO'!$C$5:$C$2604,'RUBROS JUNIO'!Z$5) -> 0 | AA13: =SUMIFS('[1]CONSOLIDADO POR SEDE JUNIO'!$K$5:$K$2604,'[1]CONSOLIDADO POR SEDE JUNIO'!$E$5:$E$2604,'RUBROS JUNIO'!$A13,'[1]CONSOLIDADO POR SEDE JUNIO'!$C$5:$C$2604,'RUBROS JUNIO'!AA$5) -> 0 | ... AF13: =SUMIFS('[1]CONSOLIDADO POR SEDE JUNIO'!$K$5:$K$2604,'[1]CONSOLIDADO POR SEDE JUNIO'!$E$5:$E$2604,'RUBROS JUNIO'!$A13,'[1]CONSOLIDADO POR SEDE JUNIO'!$C$5:$C$2604,'RUBROS JUNIO'!AF$5) -> 0 | AG13: 0 | AH13: =SUMIFS('[1]CONSOLIDADO POR SEDE JUNIO'!$K$5:$K$2604,'[1]CONSOLIDADO POR SEDE JUNIO'!$E$5:$E$2604,'RUBROS JUNIO'!$A13,'[1]CONSOLIDADO POR SEDE JUNIO'!$C$5:$C$2604,'RUBROS JUNIO'!AH$5) -> 0 | AI13: =SUMIFS('[1]CONSOLIDADO POR SEDE JUNIO'!$K$5:$K$2604,'[1]CONSOLIDADO POR SEDE JUNIO'!$E$5:$E$2604,'RUBROS JUNIO'!$A13,'[1]CONSOLIDADO POR SEDE JUNIO'!$C$5:$C$2604,'RUBROS JUNIO'!AI$5) -> 0 | AJ13: =SUMIFS('[1]CONSOLIDADO POR SEDE JUNIO'!$K$5:$K$2604,'[1]CONSOLIDADO POR SEDE JUNIO'!$E$5:$E$2604,'RUBROS JUNIO'!$A13,'[1]CONSOLIDADO POR SEDE JUNIO'!$C$5:$C$2604,'RUBROS JUNIO'!AJ$5) -> 0 | AK13: =SUMIFS('[1]CONSOLIDADO POR SEDE JUNIO'!$K$5:$K$2604,'[1]CONSOLIDADO POR SEDE JUNIO'!$E$5:$E$2604,'RUBROS JUNIO'!$A13,'[1]CONSOLIDADO POR SEDE JUNIO'!$C$5:$C$2604,'RUBROS JUNIO'!AK$5) -> 0 | AL13: =SUMIFS('[1]CONSOLIDADO POR SEDE JUNIO'!$K$5:$K$2604,'[1]CONSOLIDADO POR SEDE JUNIO'!$E$5:$E$2604,'RUBROS JUNIO'!$A13,'[1]CONSOLIDADO POR SEDE JUNIO'!$C$5:$C$2604,'RUBROS JUNIO'!AL$5) -> 0 | AM13: 16141.547 | AN13: =SUMIFS('[1]CONSOLIDADO POR SEDE JUNIO'!$K$5:$K$2604,'[1]CONSOLIDADO POR SEDE JUNIO'!$E$5:$E$2604,'RUBROS JUNIO'!$A13,'[1]CONSOLIDADO POR SEDE JUNIO'!$C$5:$C$2604,'RUBROS JUNIO'!AN$5) -> 0 | AO13: =SUMIFS('[1]CONSOLIDADO POR SEDE JUNIO'!$K$5:$K$2604,'[1]CONSOLIDADO POR SEDE JUNIO'!$E$5:$E$2604,'RUBROS JUNIO'!$A13,'[1]CONSOLIDADO POR SEDE JUNIO'!$C$5:$C$2604,'RUBROS JUNIO'!AO$5) -> 0 | AP13: =SUMIFS('[1]CONSOLIDADO POR SEDE JUNIO'!$K$5:$K$2604,'[1]CONSOLIDADO POR SEDE JUNIO'!$E$5:$E$2604,'RUBROS JUNIO'!$A13,'[1]CONSOLIDADO POR SEDE JUNIO'!$C$5:$C$2604,'RUBROS JUNIO'!AP$5) -> 0 | AR13: 569178.59 | AS13: 11697156
A14: SEDE 9 - SUPERCADE 20 DE JULIO | B14: 4222124 | C14: =SUMIFS('[1]CONSOLIDADO POR SEDE JUNIO'!$K$5:$K$2604,'[1]CONSOLIDADO POR SEDE JUNIO'!$E$5:$E$2604,'RUBROS JUNIO'!$A14,'[1]CONSOLIDADO POR SEDE JUNIO'!$C$5:$C$2604,'RUBROS JUNIO'!C$5) -> 0 | D14: =SUMIFS('[1]CONSOLIDADO POR SEDE JUNIO'!$K$5:$K$2604,'[1]CONSOLIDADO POR SEDE JUNIO'!$E$5:$E$2604,'RUBROS JUNIO'!$A14,'[1]CONSOLIDADO POR SEDE JUNIO'!$C$5:$C$2604,'RUBROS JUNIO'!D$5) -> 0 | E14: =SUMIFS('[1]CONSOLIDADO POR SEDE JUNIO'!$K$5:$K$2604,'[1]CONSOLIDADO POR SEDE JUNIO'!$E$5:$E$2604,'RUBROS JUNIO'!$A14,'[1]CONSOLIDADO POR SEDE JUNIO'!$C$5:$C$2604,'RUBROS JUNIO'!E$5) -> 0 | F14: 0 | G14: =SUMIFS('[1]CONSOLIDADO POR SEDE JUNIO'!$K$5:$K$2604,'[1]CONSOLIDADO POR SEDE JUNIO'!$E$5:$E$2604,'RUBROS JUNIO'!$A14,'[1]CONSOLIDADO POR SEDE JUNIO'!$C$5:$C$2604,'RUBROS JUNIO'!G$5) -> 0 | H14: =SUMIFS('[1]CONSOLIDADO POR SEDE JUNIO'!$K$5:$K$2604,'[1]CONSOLIDADO POR SEDE JUNIO'!$E$5:$E$2604,'RUBROS JUNIO'!$A14,'[1]CONSOLIDADO POR SEDE JUNIO'!$C$5:$C$2604,'RUBROS JUNIO'!H$5) -> 0 | I14: 0 | J14: 704563.65 | K14: =SUMIFS('[1]CONSOLIDADO POR SEDE JUNIO'!$K$5:$K$2604,'[1]CONSOLIDADO POR SEDE JUNIO'!$E$5:$E$2604,'RUBROS JUNIO'!$A14,'[1]CONSOLIDADO POR SEDE JUNIO'!$C$5:$C$2604,'RUBROS JUNIO'!K$5) -> 0 | L14: =SUMIFS('[1]CONSOLIDADO POR SEDE JUNIO'!$K$5:$K$2604,'[1]CONSOLIDADO POR SEDE JUNIO'!$E$5:$E$2604,'RUBROS JUNIO'!$A14,'[1]CONSOLIDADO POR SEDE JUNIO'!$C$5:$C$2604,'RUBROS JUNIO'!L$5) -> 0 | M14: =SUMIFS('[1]CONSOLIDADO POR SEDE JUNIO'!$K$5:$K$2604,'[1]CONSOLIDADO POR SEDE JUNIO'!$E$5:$E$2604,'RUBROS JUNIO'!$A14,'[1]CONSOLIDADO POR SEDE JUNIO'!$C$5:$C$2604,'RUBROS JUNIO'!M$5) -> 0 | N14: =SUMIFS('[1]CONSOLIDADO POR SEDE JUNIO'!$K$5:$K$2604,'[1]CONSOLIDADO POR SEDE JUNIO'!$E$5:$E$2604,'RUBROS JUNIO'!$A14,'[1]CONSOLIDADO POR SEDE JUNIO'!$C$5:$C$2604,'RUBROS JUNIO'!N$5) -> 0 | O14: =SUMIFS('[1]CONSOLIDADO POR SEDE JUNIO'!$K$5:$K$2604,'[1]CONSOLIDADO POR SEDE JUNIO'!$E$5:$E$2604,'RUBROS JUNIO'!$A14,'[1]CONSOLIDADO POR SEDE JUNIO'!$C$5:$C$2604,'RUBROS JUNIO'!O$5) -> 0 | P14: =SUMIFS('[1]CONSOLIDADO POR SEDE JUNIO'!$K$5:$K$2604,'[1]CONSOLIDADO POR SEDE JUNIO'!$E$5:$E$2604,'RUBROS JUNIO'!$A14,'[1]CONSOLIDADO POR SEDE JUNIO'!$C$5:$C$2604,'RUBROS JUNIO'!P$5) -> 0 | Q14: 384168.82 | R14: =SUMIFS('[1]CONSOLIDADO POR SEDE JUNIO'!$K$5:$K$2604,'[1]CONSOLIDADO POR SEDE JUNIO'!$E$5:$E$2604,'RUBROS JUNIO'!$A14,'[1]CONSOLIDADO POR SEDE JUNIO'!$C$5:$C$2604,'RUBROS JUNIO'!R$5) -> 0 | S14: 0 | T14: =SUMIFS('[1]CONSOLIDADO POR SEDE JUNIO'!$K$5:$K$2604,'[1]CONSOLIDADO POR SEDE JUNIO'!$E$5:$E$2604,'RUBROS JUNIO'!$A14,'[1]CONSOLIDADO POR SEDE JUNIO'!$C$5:$C$2604,'RUBROS JUNIO'!T$5) -> 0 | U14: =SUMIFS('[1]CONSOLIDADO POR SEDE JUNIO'!$K$5:$K$2604,'[1]CONSOLIDADO POR SEDE JUNIO'!$E$5:$E$2604,'RUBROS JUNIO'!$A14,'[1]CONSOLIDADO POR SEDE JUNIO'!$C$5:$C$2604,'RUBROS JUNIO'!U$5) -> 0 | V14: =SUMIFS('[1]CONSOLIDADO POR SEDE JUNIO'!$K$5:$K$2604,'[1]CONSOLIDADO POR SEDE JUNIO'!$E$5:$E$2604,'RUBROS JUNIO'!$A14,'[1]CONSOLIDADO POR SEDE JUNIO'!$C$5:$C$2604,'RUBROS JUNIO'!V$5) -> 0 | W14: =SUMIFS('[1]CONSOLIDADO POR SEDE JUNIO'!$K$5:$K$2604,'[1]CONSOLIDADO POR SEDE JUNIO'!$E$5:$E$2604,'RUBROS JUNIO'!$A14,'[1]CONSOLIDADO POR SEDE JUNIO'!$C$5:$C$2604,'RUBROS JUNIO'!W$5) -> 0 | X14: =SUMIFS('[1]CONSOLIDADO POR SEDE JUNIO'!$K$5:$K$2604,'[1]CONSOLIDADO POR SEDE JUNIO'!$E$5:$E$2604,'RUBROS JUNIO'!$A14,'[1]CONSOLIDADO POR SEDE JUNIO'!$C$5:$C$2604,'RUBROS JUNIO'!X$5) -> 0 | Y14: =SUMIFS('[1]CONSOLIDADO POR SEDE JUNIO'!$K$5:$K$2604,'[1]CONSOLIDADO POR SEDE JUNIO'!$E$5:$E$2604,'RUBROS JUNIO'!$A14,'[1]CONSOLIDADO POR SEDE JUNIO'!$C$5:$C$2604,'RUBROS JUNIO'!Y$5) -> 0 | Z14: =SUMIFS('[1]CONSOLIDADO POR SEDE JUNIO'!$K$5:$K$2604,'[1]CONSOLIDADO POR SEDE JUNIO'!$E$5:$E$2604,'RUBROS JUNIO'!$A14,'[1]CONSOLIDADO POR SEDE JUNIO'!$C$5:$C$2604,'RUBROS JUNIO'!Z$5) -> 0 | AA14: =SUMIFS('[1]CONSOLIDADO POR SEDE JUNIO'!$K$5:$K$2604,'[1]CONSOLIDADO POR SEDE JUNIO'!$E$5:$E$2604,'RUBROS JUNIO'!$A14,'[1]CONSOLIDADO POR SEDE JUNIO'!$C$5:$C$2604,'RUBROS JUNIO'!AA$5) -> 0 | ... AF14: =SUMIFS('[1]CONSOLIDADO POR SEDE JUNIO'!$K$5:$K$2604,'[1]CONSOLIDADO POR SEDE JUNIO'!$E$5:$E$2604,'RUBROS JUNIO'!$A14,'[1]CONSOLIDADO POR SEDE JUNIO'!$C$5:$C$2604,'RUBROS JUNIO'!AF$5) -> 0 | AG14: 0 | AH14: =SUMIFS('[1]CONSOLIDADO POR SEDE JUNIO'!$K$5:$K$2604,'[1]CONSOLIDADO POR SEDE JUNIO'!$E$5:$E$2604,'RUBROS JUNIO'!$A14,'[1]CONSOLIDADO POR SEDE JUNIO'!$C$5:$C$2604,'RUBROS JUNIO'!AH$5) -> 0 | AI14: =SUMIFS('[1]CONSOLIDADO POR SEDE JUNIO'!$K$5:$K$2604,'[1]CONSOLIDADO POR SEDE JUNIO'!$E$5:$E$2604,'RUBROS JUNIO'!$A14,'[1]CONSOLIDADO POR SEDE JUNIO'!$C$5:$C$2604,'RUBROS JUNIO'!AI$5) -> 0 | AJ14: =SUMIFS('[1]CONSOLIDADO POR SEDE JUNIO'!$K$5:$K$2604,'[1]CONSOLIDADO POR SEDE JUNIO'!$E$5:$E$2604,'RUBROS JUNIO'!$A14,'[1]CONSOLIDADO POR SEDE JUNIO'!$C$5:$C$2604,'RUBROS JUNIO'!AJ$5) -> 0 | AK14: =SUMIFS('[1]CONSOLIDADO POR SEDE JUNIO'!$K$5:$K$2604,'[1]CONSOLIDADO POR SEDE JUNIO'!$E$5:$E$2604,'RUBROS JUNIO'!$A14,'[1]CONSOLIDADO POR SEDE JUNIO'!$C$5:$C$2604,'RUBROS JUNIO'!AK$5) -> 0 | AL14: =SUMIFS('[1]CONSOLIDADO POR SEDE JUNIO'!$K$5:$K$2604,'[1]CONSOLIDADO POR SEDE JUNIO'!$E$5:$E$2604,'RUBROS JUNIO'!$A14,'[1]CONSOLIDADO POR SEDE JUNIO'!$C$5:$C$2604,'RUBROS JUNIO'!AL$5) -> 0 | AM14: 8070.7735 | AN14: =SUMIFS('[1]CONSOLIDADO POR SEDE JUNIO'!$K$5:$K$2604,'[1]CONSOLIDADO POR SEDE JUNIO'!$E$5:$E$2604,'RUBROS JUNIO'!$A14,'[1]CONSOLIDADO POR SEDE JUNIO'!$C$5:$C$2604,'RUBROS JUNIO'!AN$5) -> 0 | AO14: =SUMIFS('[1]CONSOLIDADO POR SEDE JUNIO'!$K$5:$K$2604,'[1]CONSOLIDADO POR SEDE JUNIO'!$E$5:$E$2604,'RUBROS JUNIO'!$A14,'[1]CONSOLIDADO POR SEDE JUNIO'!$C$5:$C$2604,'RUBROS JUNIO'!AO$5) -> 2363.8987 | AP14: =SUMIFS('[1]CONSOLIDADO POR SEDE JUNIO'!$K$5:$K$2604,'[1]CONSOLIDADO POR SEDE JUNIO'!$E$5:$E$2604,'RUBROS JUNIO'!$A14,'[1]CONSOLIDADO POR SEDE JUNIO'!$C$5:$C$2604,'RUBROS JUNIO'!AP$5) -> 0 | AR14: 569178.59 | AS14: 31192417
